IO-Stringy v2.113 Perl 5 v5.34.0 RC1 darwin-2level

Status
Pass
From
John SJ Anderson
Dist
IO-Stringy v2.113
Platform
Perl 5 v5.34.0 RC1 darwin-2level
Date
2021-05-13 05:10:48
ID
942ecc08-b3a9-11eb-815f-c3e2da7933e1
This distribution has been tested as part of the CPAN Testers
project, supporting the Perl programming language.  See
http://wiki.cpantesters.org/ for more information or email
questions to cpan-testers-discuss@perl.org


--
Dear CAPOEIRAB,

This is a computer-generated report for IO-Stringy-2.113
on perl 5.34.0, created by App::cpanminus::reporter 0.17 (1.7044).

Thank you for uploading your work to CPAN.  Congratulations!
All tests were successful.

Sections of this report:

    * Tester comments
    * Program output
    * Prerequisites
    * Environment and other context

------------------------------
TESTER COMMENTS
------------------------------

Additional comments from tester:

none provided

------------------------------
PROGRAM OUTPUT
------------------------------

Output from '':

Building and testing IO-Stringy-2.113
cp lib/IO/Wrap.pm blib/lib/IO/Wrap.pm
cp lib/IO/Lines.pm blib/lib/IO/Lines.pm
cp lib/IO/Stringy.pm blib/lib/IO/Stringy.pm
cp lib/IO/AtomicFile.pm blib/lib/IO/AtomicFile.pm
cp lib/IO/ScalarArray.pm blib/lib/IO/ScalarArray.pm
cp lib/IO/Scalar.pm blib/lib/IO/Scalar.pm
cp lib/IO/WrapTie.pm blib/lib/IO/WrapTie.pm
cp lib/IO/InnerFile.pm blib/lib/IO/InnerFile.pm
Manifying 8 pod documents
PERL_DL_NONLAZY=1 "/opt/plenv/versions/5.34.0-RC1/bin/perl5.34.0" "-MExtUtils::Command::MM" "-MTest::Harness" "-e" "undef *Test::Harness::Switches; test_harness(0, 'blib/lib', 'blib/arch')" t/*.t
# 
# Versions for all modules listed in MYMETA.json (including optional ones):
# 
# === Configure Requires ===
# 
#     Module              Want Have
#     ------------------- ---- ----
#     ExtUtils::MakeMaker  any 7.62
# 
# === Build Requires ===
# 
#     Module              Want Have
#     ------------------- ---- ----
#     ExtUtils::MakeMaker  any 7.62
# 
# === Test Requires ===
# 
#     Module              Want     Have
#     ------------------- ---- --------
#     ExtUtils::MakeMaker  any     7.62
#     File::Basename       any     2.85
#     File::Spec           any     3.80
#     File::Temp           any   0.2311
#     FileHandle           any     2.03
#     IO::File             any     1.46
#     IO::Handle           any     1.46
#     Symbol               any     1.09
#     Test::More          0.88 1.302183
#     Test::Tester         any 1.302183
#     strict               any     1.12
#     warnings             any     1.51
# 
# === Test Recommends ===
# 
#     Module         Want     Have
#     ---------- -------- --------
#     CPAN::Meta 2.120900 2.150010
# 
# === Runtime Requires ===
# 
#     Module     Want  Have
#     ---------- ---- -----
#     Carp        any  1.52
#     Exporter   5.57  5.76
#     File::Spec  any  3.80
#     FileHandle  any  2.03
#     IO::File    any  1.46
#     IO::Handle  any  1.46
#     Symbol      any  1.09
#     overload    any  1.33
#     parent      any 0.238
#     strict      any  1.12
#     warnings    any  1.51
# 
t/00-report-prereqs.t .. ok
t/IO_InnerFile.t ....... ok
t/IO_Lines.t ........... ok
t/IO_Scalar.t .......... ok
t/IO_ScalarArray.t ..... ok
t/IO_WrapTie.t ......... ok
t/simple.t ............. ok
t/two.t ................ ok
All tests successful.
Files=8, Tests=127,  1 wallclock secs ( 0.03 usr  0.02 sys +  0.50 cusr  0.11 csys =  0.66 CPU)
Result: PASS

------------------------------
PREREQUISITES
------------------------------

Prerequisite modules loaded:

    No requirements found

------------------------------
ENVIRONMENT AND OTHER CONTEXT
------------------------------

Environment variables:

    LANG = en_US.UTF-8
    LC_ALL = en_US.UTF-8
    LC_TERMINAL = iTerm2
    LC_TERMINAL_VERSION = 3.4.6
    PATH = /opt/plenv/versions/5.34.0-RC1/bin:/opt/plenv/libexec:/opt/plenv/plugins/Perl-Build/bin:/opt/plenv/shims:/opt/plenv/bin:/Users/genehack/bin:/usr/local/opt/texinfo/bin:/opt/nvm/versions/node/v12.18.3/bin:/opt/git/bin:/opt/emacs/bin:/opt/local/bin:/usr/local/bin:/usr/local/sbin:/usr/bin:/bin:/usr/sbin:/sbin:/usr/local/opt/fzf/bin/
    PERL_CPANM_OPT = --skip-installed --prompt
    SHELL = /bin/zsh
    TERM = screen-256color
    TMPDIR = /var/folders/2s/9hc8cgcd2h7dglxq0j84ybwr0000gn/T/

Perl special variables (and OS-specific diagnostics, for MSWin32):

    EGID = 20 20 12 61 79 80 81 98 701 33 100 204 250 395 398 399 400
    EUID = 501
    EXECUTABLE_NAME = /opt/plenv/versions/5.34.0-RC1/bin/perl5.34.0
    GID = 20 20 12 61 79 80 81 98 701 33 100 204 250 395 398 399 400
    UID = 501

Perl module toolchain versions installed:

    Module              Have    
    ------------------- --------
    CPAN                2.28    
    CPAN::Meta          2.150010
    Cwd                 3.80    
    ExtUtils::CBuilder  0.280236
    ExtUtils::Command   7.62    
    ExtUtils::Install   2.20    
    ExtUtils::MakeMaker 7.62    
    ExtUtils::Manifest  1.73    
    ExtUtils::ParseXS   3.43    
    File::Spec          3.80    
    JSON                4.03    
    JSON::PP            4.06    
    Module::Build       0.4231  
    Module::Signature   n/a     
    Parse::CPAN::Meta   2.150010
    Test::Harness       3.43    
    Test::More          1.302183
    YAML                1.30    
    YAML::Syck          n/a     
    version             0.9928  


--

Summary of my perl5 (revision 5 version 34 subversion 0) configuration:
   
  Platform:
    osname=darwin
    osvers=20.4.0
    archname=darwin-2level
    uname='darwin bumfit.home.genehack.org 20.4.0 darwin kernel version 20.4.0: thu apr 22 21:46:47 pdt 2021; root:xnu-7195.101.2~1release_x86_64 x86_64 i386 macbookpro16,2 darwin '
    config_args='-Dprefix=/opt/plenv/versions/5.34.0-RC1 -de -Dversiononly -A'eval:scriptdir=/opt/plenv/versions/5.34.0-RC1/bin''
    hint=recommended
    useposix=true
    d_sigaction=define
    useithreads=undef
    usemultiplicity=undef
    use64bitint=define
    use64bitall=define
    uselongdouble=undef
    usemymalloc=n
    default_inc_excludes_dot=define
  Compiler:
    cc='cc'
    ccflags ='-fno-common -DPERL_DARWIN -mmacosx-version-min=11.3 -fno-strict-aliasing -pipe -fstack-protector-strong -I/usr/local/include -DPERL_USE_SAFE_PUTENV'
    optimize='-O3'
    cppflags='-fno-common -DPERL_DARWIN -mmacosx-version-min=11.3 -fno-strict-aliasing -pipe -fstack-protector-strong -I/usr/local/include'
    ccversion=''
    gccversion='Apple LLVM 12.0.5 (clang-1205.0.22.9)'
    gccosandvers=''
    intsize=4
    longsize=8
    ptrsize=8
    doublesize=8
    byteorder=12345678
    doublekind=3
    d_longlong=define
    longlongsize=8
    d_longdbl=define
    longdblsize=16
    longdblkind=3
    ivtype='long'
    ivsize=8
    nvtype='double'
    nvsize=8
    Off_t='off_t'
    lseeksize=8
    alignbytes=8
    prototype=define
  Linker and Libraries:
    ld='cc'
    ldflags =' -mmacosx-version-min=11.3 -fstack-protector-strong -L/usr/local/lib'
    libpth=/usr/local/lib /Library/Developer/CommandLineTools/usr/lib/clang/12.0.5/lib /Library/Developer/CommandLineTools/SDKs/MacOSX11.3.sdk/usr/lib /Library/Developer/CommandLineTools/usr/lib /usr/lib
    libs=-lgdbm
    perllibs=
    libc=
    so=dylib
    useshrplib=false
    libperl=libperl.a
    gnulibc_version=''
  Dynamic Linking:
    dlsrc=dl_dlopen.xs
    dlext=bundle
    d_dlsymun=undef
    ccdlflags=' '
    cccdlflags=' '
    lddlflags=' -mmacosx-version-min=11.3 -bundle -undefined dynamic_lookup -L/usr/local/lib -fstack-protector-strong'


Characteristics of this binary (from libperl): 
  Compile-time options:
    HAS_TIMES
    PERLIO_LAYERS
    PERL_COPY_ON_WRITE
    PERL_DONT_CREATE_GVSV
    PERL_MALLOC_WRAP
    PERL_OP_PARENT
    PERL_PRESERVE_IVUV
    PERL_USE_SAFE_PUTENV
    USE_64_BIT_ALL
    USE_64_BIT_INT
    USE_LARGE_FILES
    USE_LOCALE
    USE_LOCALE_COLLATE
    USE_LOCALE_CTYPE
    USE_LOCALE_NUMERIC
    USE_LOCALE_TIME
    USE_PERLIO
    USE_PERL_ATOF
  Locally applied patches:
    RC1
  Built under darwin
  Compiled at May 12 2021 20:53:23
  %ENV:
    PERL_CPANM_OPT="--skip-installed --prompt"
  @INC:
    /opt/plenv/versions/5.34.0-RC1/lib/perl5/site_perl/5.34.0/darwin-2level
    /opt/plenv/versions/5.34.0-RC1/lib/perl5/site_perl/5.34.0
    /opt/plenv/versions/5.34.0-RC1/lib/perl5/5.34.0/darwin-2level
    /opt/plenv/versions/5.34.0-RC1/lib/perl5/5.34.0