Test-Without-Module v0.23 Perl 5 v5.33.1 MSWin32-x86-multi-thread-64int

Status
Pass
From
twata
Dist
Test-Without-Module v0.23
Platform
Perl 5 v5.33.1 MSWin32-x86-multi-thread-64int
Date
2025-06-21 02:23:49
ID
944c3728-6f95-1014-8029-99bf07c19ce6
This distribution has been tested as part of the CPAN Testers
project, supporting the Perl programming language.  See
http://wiki.cpantesters.org/ for more information or email
questions to cpan-testers-discuss@perl.org


--
Dear Max Maischein,

This is a computer-generated report for Test-Without-Module-0.23
on perl 5.33.1, created by CPAN-Reporter-1.2019.

Thank you for uploading your work to CPAN.  Congratulations!
All tests were successful.

Sections of this report:

    * Tester comments
    * Program output
    * Prerequisites
    * Environment and other context

------------------------------
TESTER COMMENTS
------------------------------

Additional comments from tester:

none provided

------------------------------
PROGRAM OUTPUT
------------------------------

Output from '"C:\Program Files\Microsoft Visual Studio 12.0\VC\BIN\nmake.EXE" test':


Microsoft (R) Program Maintenance Utility Version 12.00.21005.1
Copyright (C) Microsoft Corporation.  All rights reserved.

	"C:\vsperl32\5.33.1\bin\perl.exe" "-MExtUtils::Command::MM" "-MTest::Harness" "-e" "undef *Test::Harness::Switches; test_harness(0, 'blib\lib', 'blib\arch')" t\00-load.t t\01-api.t t\02-block-use-module.t t\03-block-require-module.t t\04-import-export.t t\05-redefine.t t\06-missing-hidden-modules.t t\embedded-Test-Without-Module.t t\rt122551.t
# Testing Test::Without::Module 0.23, Perl 5.033001
# Carp 1.50
# Config 5.033001
# Cwd 3.78
# DynaLoader 1.48
# Encode 3.06
# Encode::Alias 2.24
# Encode::CJKConstants 2.02
# Encode::Config 2.05
# Encode::Encoding 2.08
# Encode::JP 2.04
# Encode::JP::JIS7 2.08
# Encode::MIME::Name 1.03
# Exporter 5.75
# Exporter::Heavy 5.75
# ExtUtils::Liblist 7.44
# ExtUtils::Liblist::Kid 7.44
# ExtUtils::MM 7.44
# ExtUtils::MM_Any 7.44
# ExtUtils::MM_Unix 7.44
# ExtUtils::MM_Win32 7.44
# ExtUtils::MY 7.44
# ExtUtils::MakeMaker 7.44
# ExtUtils::MakeMaker::Config 7.44
# ExtUtils::MakeMaker::Locale 7.44
# ExtUtils::MakeMaker::version 7.44
# Fcntl 1.14
# File::Basename 2.85
# File::Glob 1.33
# File::Path 2.17
# File::Spec 3.78
# File::Spec::Unix 3.78
# File::Spec::Win32 3.79
# List::Util 1.55
# POSIX 1.95
# PerlIO 1.11
# Scalar::Util 1.55
# Storable 3.22
# Test::Builder 1.302175
# Test::Builder::Formatter 1.302175
# Test::Builder::Module 1.302175
# Test::Builder::TodoDiag 1.302175
# Test::More 1.302175
# Test::Without::Module 0.23
# Test2::API 1.302175
# Test2::API::Context 1.302175
# Test2::API::Instance 1.302175
# Test2::API::Stack 1.302175
# Test2::Event 1.302175
# Test2::Event::Bail 1.302175
# Test2::Event::Diag 1.302175
# Test2::Event::Exception 1.302175
# Test2::Event::Fail 1.302175
# Test2::Event::Note 1.302175
# Test2::Event::Ok 1.302175
# Test2::Event::Pass 1.302175
# Test2::Event::Plan 1.302175
# Test2::Event::Skip 1.302175
# Test2::Event::Subtest 1.302175
# Test2::Event::V2 1.302175
# Test2::Event::Waiting 1.302175
# Test2::EventFacet 1.302175
# Test2::EventFacet::About 1.302175
# Test2::EventFacet::Amnesty 1.302175
# Test2::EventFacet::Assert 1.302175
# Test2::EventFacet::Control 1.302175
# Test2::EventFacet::Error 1.302175
# Test2::EventFacet::Hub 1.302175
# Test2::EventFacet::Info 1.302175
# Test2::EventFacet::Meta 1.302175
# Test2::EventFacet::Parent 1.302175
# Test2::EventFacet::Plan 1.302175
# Test2::EventFacet::Trace 1.302175
# Test2::Formatter 1.302175
# Test2::Formatter::TAP 1.302175
# Test2::Hub 1.302175
# Test2::Hub::Interceptor 1.302175
# Test2::Hub::Interceptor::Terminator 1.302175
# Test2::Hub::Subtest 1.302175
# Test2::Util 1.302175
# Test2::Util::ExternalMeta 1.302175
# Test2::Util::Facets2Legacy 1.302175
# Test2::Util::HashBase 1.302175
# Test2::Util::Trace 1.302175
# Tie::Hash 1.05
# Win32 0.53
# XSLoader 0.30
# base 2.27
# bytes 1.07
# constant 1.33
# mro 1.24
# overloading 0.02
# parent 0.238
# strict 1.12
# vars 1.05
# version 0.9924
# version::regex 0.9924
# warnings 1.48
# warnings::register 1.04
t\00-load.t ....................... ok
t\01-api.t ........................ ok
t\02-block-use-module.t ........... ok
t\03-block-require-module.t ....... ok
t\04-import-export.t .............. ok
t\05-redefine.t ................... ok
t\06-missing-hidden-modules.t ..... ok
t\embedded-Test-Without-Module.t .. ok
t\rt122551.t ...................... ok
All tests successful.

Test Summary Report
-------------------
t\rt122551.t                    (Wstat: 0 Tests: 2 Failed: 0)
  TODO passed:   1-2
Files=9, Tests=24,  3 wallclock secs ( 0.09 usr +  0.02 sys =  0.11 CPU)
Result: PASS

------------------------------
PREREQUISITES
------------------------------

Prerequisite modules loaded:

requires:

    Module              Need  Have    
    ------------------- ----- --------
    Carp                0     1.50    
    perl                5.006 5.033001

build_requires:

    Module              Need  Have    
    ------------------- ----- --------
    ExtUtils::MakeMaker 0     7.44    
    File::Find          0     1.37    
    File::Spec          0     3.78    
    Test::More          0     1.302175

configure_requires:

    Module              Need  Have    
    ------------------- ----- --------
    ExtUtils::MakeMaker 0     7.44    


------------------------------
ENVIRONMENT AND OTHER CONTEXT
------------------------------

Environment variables:

    COMSPEC = C:\windows\system32\cmd.exe
    INCLUDE = C:\Program Files\Microsoft Visual Studio 12.0\VC\INCLUDE;C:\Program Files\Microsoft Visual Studio 12.0\VC\ATLMFC\INCLUDE;C:\Program Files\Windows Kits\8.1\include\shared;C:\Program Files\Windows Kits\8.1\include\um;C:\Program Files\Windows Kits\8.1\include\winrt;;C:\perl32\local\include
    LC_ALL = C
    LIB = C:\Program Files\Microsoft Visual Studio 12.0\VC\LIB;C:\Program Files\Microsoft Visual Studio 12.0\VC\ATLMFC\LIB;C:\Program Files\Windows Kits\8.1\lib\winv6.3\um\x86;
    NONINTERACTIVE_TESTING = 1
    NUMBER_OF_PROCESSORS = 4
    PATH = C:\home\mars5331\perl5\bin;C:\vsperl32\5.33.1\bin;C:\build-openssl\bin;C:\Program Files\Microsoft Visual Studio 12.0\Common7\IDE\CommonExtensions\Microsoft\TestWindow;C:\Program Files\Microsoft SDKs\F#\3.1\Framework\v4.0\;C:\Program Files\MSBuild\12.0\bin;C:\Program Files\Microsoft Visual Studio 12.0\Common7\IDE\;C:\Program Files\Microsoft Visual Studio 12.0\VC\BIN;C:\Program Files\Microsoft Visual Studio 12.0\Common7\Tools;C:\windows\Microsoft.NET\Framework\v4.0.30319;C:\Program Files\Microsoft Visual Studio 12.0\VC\VCPackages;C:\Program Files\HTML Help Workshop;C:\Program Files\Microsoft Visual Studio 12.0\Team Tools\Performance Tools;C:\Program Files\Windows Kits\8.1\bin\x86;C:\Program Files\Microsoft SDKs\Windows\v8.1A\bin\NETFX 4.5.1 Tools\;C:\Windows\System32;C:\Windows;C:\Windows\System32\Wbem;C:\windows\System32\WindowsPowerShell\v1.0\
    PERL5LIB = C:\home\mars5331\perl5\lib\perl5
    PERL5OPT = 
    PERL5_CPANPLUS_IS_RUNNING = 5828
    PERL5_CPAN_IS_RUNNING = 5828
    PERL_LOCAL_LIB_ROOT = C:\home\mars5331\perl5
    PERL_MB_OPT = --install_base "C:\\home\\mars5331\\perl5"
    PERL_MM_OPT = INSTALL_BASE=C:\\home\\mars5331\\perl5
    PERL_MM_USE_DEFAULT = 1
    PERL_USE_UNSAFE_INC = 1
    PROCESSOR_IDENTIFIER = x86 Family 6 Model 37 Stepping 5, GenuineIntel
    TEMP = C:\Users\user\AppData\Local\Temp
    TERM = dumb

Perl special variables (and OS-specific diagnostics, for MSWin32):

    $^X = C:\vsperl32\5.33.1\bin\perl.exe
    $UID/$EUID = 0 / 0
    $GID = 0
    $EGID = 0
    Win32::GetOSName = Win7
    Win32::GetOSVersion = Service Pack 1, 6, 1, 7601, 2, 1, 0, 256, 1
    Win32::FsType = NTFS
    Win32::IsAdminUser = 0

Perl module toolchain versions installed:

    Module              Have    
    ------------------- --------
    CPAN                2.27    
    CPAN::Meta          2.150010
    Cwd                 3.78    
    ExtUtils::CBuilder  0.280234
    ExtUtils::Command   7.44    
    ExtUtils::Install   2.14    
    ExtUtils::MakeMaker 7.44    
    ExtUtils::Manifest  1.72    
    ExtUtils::ParseXS   3.41    
    File::Spec          3.78    
    JSON                n/a     
    JSON::PP            4.05    
    Module::Build       0.4234  
    Module::Signature   n/a     
    Parse::CPAN::Meta   2.150010
    Test2               1.302175
    Test::Harness       3.42    
    Test::More          1.302175
    YAML                n/a     
    YAML::Syck          n/a     
    version             0.9924  


--

Summary of my perl5 (revision 5 version 33 subversion 1) configuration:
   
  Platform:
    osname=MSWin32
    osvers=6.1.7601
    archname=MSWin32-x86-multi-thread-64int
    uname=''
    config_args='undef'
    hint=recommended
    useposix=true
    d_sigaction=undef
    useithreads=define
    usemultiplicity=define
    use64bitint=define
    use64bitall=undef
    uselongdouble=undef
    usemymalloc=n
    default_inc_excludes_dot=define
  Compiler:
    cc='cl'
    ccflags ='-nologo -GF -W3 -MD -DWIN32 -D_CONSOLE -DNO_STRICT -D_CRT_SECURE_NO_DEPRECATE -D_CRT_NONSTDC_NO_DEPRECATE  -DPERL_TEXTMODE_SCRIPTS -DPERL_IMPLICIT_CONTEXT -DPERL_IMPLICIT_SYS'
    optimize='-O1 -Zi -GL'
    cppflags='-DWIN32'
    ccversion='18.00.40629'
    gccversion=''
    gccosandvers=''
    intsize=4
    longsize=4
    ptrsize=4
    doublesize=8
    byteorder=12345678
    doublekind=3
    d_longlong=undef
    longlongsize=8
    d_longdbl=define
    longdblsize=8
    longdblkind=0
    ivtype='__int64'
    ivsize=8
    nvtype='double'
    nvsize=8
    Off_t='__int64'
    lseeksize=8
    alignbytes=8
    prototype=define
  Linker and Libraries:
    ld='link'
    ldflags ='-nologo -nodefaultlib -debug -opt:ref,icf -ltcg  -libpath:"c:\vsperl32\5.33.1\lib\CORE"  -machine:x86 -subsystem:console,"5.01"'
    libpth="C:\Program Files\Microsoft Visual Studio 12.0\VC\\lib"
    libs=oldnames.lib kernel32.lib user32.lib gdi32.lib winspool.lib  comdlg32.lib advapi32.lib shell32.lib ole32.lib oleaut32.lib  netapi32.lib uuid.lib ws2_32.lib mpr.lib winmm.lib  version.lib odbc32.lib odbccp32.lib comctl32.lib msvcrt.lib
    perllibs=oldnames.lib kernel32.lib user32.lib gdi32.lib winspool.lib  comdlg32.lib advapi32.lib shell32.lib ole32.lib oleaut32.lib  netapi32.lib uuid.lib ws2_32.lib mpr.lib winmm.lib  version.lib odbc32.lib odbccp32.lib comctl32.lib msvcrt.lib
    libc=msvcrt.lib
    so=dll
    useshrplib=true
    libperl=perl533.lib
    gnulibc_version=''
  Dynamic Linking:
    dlsrc=dl_win32.xs
    dlext=dll
    d_dlsymun=undef
    ccdlflags=' '
    cccdlflags=' '
    lddlflags='-dll -nologo -nodefaultlib -debug -opt:ref,icf -ltcg  -libpath:"c:\vsperl32\5.33.1\lib\CORE"  -machine:x86 -subsystem:console,"5.01"'


Characteristics of this binary (from libperl): 
  Compile-time options:
    HAS_TIMES
    HAVE_INTERP_INTERN
    MULTIPLICITY
    PERLIO_LAYERS
    PERL_COPY_ON_WRITE
    PERL_DONT_CREATE_GVSV
    PERL_IMPLICIT_CONTEXT
    PERL_IMPLICIT_SYS
    PERL_MALLOC_WRAP
    PERL_OP_PARENT
    PERL_PRESERVE_IVUV
    USE_64_BIT_INT
    USE_ITHREADS
    USE_LARGE_FILES
    USE_LOCALE
    USE_LOCALE_COLLATE
    USE_LOCALE_CTYPE
    USE_LOCALE_NUMERIC
    USE_LOCALE_TIME
    USE_PERLIO
    USE_PERL_ATOF
    USE_THREAD_SAFE_LOCALE
  Locally applied patches:
    VS2013: [backport] [GH #19138] Fix 5.34 test failures with Inf NaN numbers on Windows
  Built under MSWin32
  Compiled at Jan 13 2024 15:37:09
  %ENV:
    PERL5LIB="C:\home\mars5331\perl5\lib\perl5"
    PERL5_CPANPLUS_IS_RUNNING="5828"
    PERL5_CPAN_IS_RUNNING="5828"
    PERL_LOCAL_LIB_ROOT="C:\home\mars5331\perl5"
    PERL_MB_OPT="--install_base "C:\\home\\mars5331\\perl5""
    PERL_MM_OPT="INSTALL_BASE=C:\\home\\mars5331\\perl5"
    PERL_MM_USE_DEFAULT="1"
    PERL_USE_UNSAFE_INC="1"
  @INC:
    C:\home\mars5331\perl5\lib\perl5/MSWin32-x86-multi-thread-64int
    C:\home\mars5331\perl5\lib\perl5
    C:/vsperl32/site/5.33.1/lib
    C:/vsperl32/5.33.1/lib
    .