Report for XML-Ant-BuildFile-0.211

Back
From: metabase:user:30977d10-2aae-11df-837a-5e0a49663a4f
Subject: PASS XML-Ant-BuildFile-0.211 v5.13.11 GNU/Linux
Date: 2011-04-20T05:25:18Z

This distribution has been tested as part of the CPAN Testers
project, supporting the Perl programming language.  See
http://wiki.cpantesters.org/ for more information or email
questions to cpan-testers-discuss@perl.org


--
Dear Mark Gardner,

This is a computer-generated report for XML-Ant-BuildFile-0.211
on perl 5.13.11, created by CPAN-Reporter-1.1902.

Thank you for uploading your work to CPAN.  Congratulations!
All tests were successful.

Sections of this report:

    * Tester comments
    * Program output
    * Prerequisites
    * Environment and other context

------------------------------
TESTER COMMENTS
------------------------------

Additional comments from tester:

this report is from an automated smoke testing program
and was not reviewed by a human for accuracy

------------------------------
PROGRAM OUTPUT
------------------------------

Output from '/usr/bin/make test':

PERL_DL_NONLAZY=1 /home/stro/perl/perl51311m/bin/perl "-MExtUtils::Command::MM" "-e" "test_harness(0, 'blib/lib', 'blib/arch')" t/*.t
t/00-compile.t .................. ok
# Testing with Perl 5.013011, /home/stro/perl/perl51311m/bin/perl
#     Carp version is 1.20
#     English version is 1.04
#     ExtUtils::MakeMaker version is 6.57_05
#     File::Find version is 1.19
#     File::Temp version is 0.22
#     Modern::Perl version is 1.03
#     Module::Pluggable version is 3.9
#     Moose version is 2.0000
#     Moose::Util::TypeConstraints version is 2.0000
#     MooseX::Has::Sugar version is 0.05070419
#     MooseX::Has::Sugar::Minimal version is 0.05070419
#     MooseX::Singleton version is 0.26
#     MooseX::Types::Moose version is 0.25
#     MooseX::Types::Path::Class version is 0.05
#     Path::Class version is 0.23
#     Readonly version is 1.03
#     Regexp::DefaultFlags version is 0.01
#     Scalar::Util version is 1.23
#     Test::More version is 0.98
#     Test::Most version is 0.23
#     TryCatch version is 1.003000
#     XML::Rabbit version is 0.0.4
#     XML::Rabbit::Node version is 0.0.4
#     XML::Rabbit::RootNode version is 0.0.4
#     namespace::autoclean version is 0.12
#     utf8 version is 1.09
t/000-report-versions.t ......... ok
t/author-critic.t ............... skipped: these tests are for testing by the author
Use of uninitialized value $path in pattern match (m//) at /home/stro/perl/perl51311m/lib/5.13.11/i686-linux-multi/File/Spec/Unix.pm line 267.
Use of uninitialized value $path in pattern match (m//) at /home/stro/perl/perl51311m/lib/5.13.11/i686-linux-multi/File/Spec/Unix.pm line 267.
t/concat.t ...................... ok
t/copy_filelist.t ............... ok
t/filelist.t .................... ok
t/java.t ........................ ok
t/java_args.t ................... ok
t/path.t ........................ ok
t/release-consistent-version.t .. skipped: these tests are for release candidate testing
t/release-cpan-changes.t ........ skipped: these tests are for release candidate testing
t/release-dist-manifest.t ....... skipped: these tests are for release candidate testing
t/release-distmeta.t ............ skipped: these tests are for release candidate testing
t/release-eol.t ................. skipped: these tests are for release candidate testing
t/release-has-version.t ......... skipped: these tests are for release candidate testing
t/release-kwalitee.t ............ skipped: these tests are for release candidate testing
t/release-meta-json.t ........... skipped: these tests are for release candidate testing
t/release-minimum-version.t ..... skipped: these tests are for release candidate testing
t/release-no-tabs.t ............. skipped: these tests are for release candidate testing
t/release-pod-coverage.t ........ skipped: these tests are for release candidate testing
t/release-pod-linkcheck.t ....... skipped: these tests are for release candidate testing
t/release-pod-syntax.t .......... skipped: these tests are for release candidate testing
t/release-portability.t ......... skipped: these tests are for release candidate testing
t/release-synopsis.t ............ skipped: these tests are for release candidate testing
All tests successful.
Files=24, Tests=64, 71 wallclock secs ( 0.23 usr  0.18 sys + 18.24 cusr  2.38 csys = 21.03 CPU)
Result: PASS

------------------------------
PREREQUISITES
------------------------------

Prerequisite modules loaded:

requires:

    Module                       Need   Have      
    ---------------------------- ------ ----------
    Carp                         0      1.20      
    English                      0      1.04      
    Modern::Perl                 0      1.03      
    Module::Pluggable            0      3.9       
    Moose                        0      2.0000    
    Moose::Role                  0      2.0000    
    Moose::Util::TypeConstraints 0      2.0000    
    MooseX::Has::Sugar           0      0.05070419
    MooseX::Has::Sugar::Minimal  0      0.05070419
    MooseX::Singleton            0.26   0.26      
    MooseX::Types::Moose         0      0.25      
    MooseX::Types::Path::Class   0      0.05      
    namespace::autoclean         0      0.12      
    Path::Class                  0      0.23      
    Readonly                     0      1.03      
    Regexp::DefaultFlags         0      0.01      
    TryCatch                     0      1.003000  
    utf8                         0      1.09      
    XML::Rabbit                  v0.0.4 0.0.4     
    XML::Rabbit::Node            v0.0.4 0.0.4     
    XML::Rabbit::RootNode        0      0.0.4     

build_requires:

    Module                       Need   Have      
    ---------------------------- ------ ----------
    File::Find                   0      1.19      
    File::Temp                   0      0.22      
    Scalar::Util                 0      1.23      
    Test::More                   0.94   0.98      
    Test::Most                   0      0.23      

configure_requires:

    Module                       Need   Have      
    ---------------------------- ------ ----------
    ExtUtils::MakeMaker          6.31   6.57_05   


------------------------------
ENVIRONMENT AND OTHER CONTEXT
------------------------------

Environment variables:

    AUTOMATED_TESTING = 1
    LANG = en_US.UTF-8
    PATH = /usr/local/bin:/usr/bin:/bin:/usr/games
    PERL5LIB = 
    PERL5OPT = 
    PERL5_CPANPLUS_IS_RUNNING = 12830
    PERL5_CPAN_IS_RUNNING = 12830
    PERL5_CPAN_IS_RUNNING_IN_RECURSION = 14294,12830
    PERL_CR_SMOKER_CURRENT = XML-Ant-BuildFile-0.211
    PERL_EXTUTILS_AUTOINSTALL = --defaultdeps
    PERL_MM_USE_DEFAULT = 1
    SHELL = /bin/bash
    TERM = xterm

Perl special variables (and OS-specific diagnostics, for MSWin32):

    $^X = /home/stro/perl/perl51311m/bin/perl
    $UID/$EUID = 1000 / 1000
    $GID = 1000 20 24 25 29 44 46 1000
    $EGID = 1000 20 24 25 29 44 46 1000

Perl module toolchain versions installed:

    Module              Have    
    ------------------- --------
    CPAN                1.9600  
    Cwd                 3.36    
    ExtUtils::CBuilder  0.280202
    ExtUtils::Command   1.17    
    ExtUtils::Install   1.56    
    ExtUtils::MakeMaker 6.57_05 
    ExtUtils::Manifest  1.58    
    ExtUtils::ParseXS   2.2209  
    File::Spec          3.33    
    Module::Build       0.3800  
    Module::Signature   0.66    
    Test::Harness       3.23    
    Test::More          0.98    
    YAML                0.73    
    YAML::Syck          1.17    
    version             0.88    


--

Summary of my perl5 (revision 5 version 13 subversion 11) configuration:
   
  Platform:
    osname=linux, osvers=2.6.26-2-686, archname=i686-linux-multi
    uname='linux debian5 2.6.26-2-686 #1 smp thu nov 25 01:53:57 utc 2010 i686 gnulinux '
    config_args=''
    hint=recommended, useposix=true, d_sigaction=define
    useithreads=undef, usemultiplicity=define
    useperlio=define, d_sfio=undef, uselargefiles=define, usesocks=undef
    use64bitint=undef, use64bitall=undef, uselongdouble=undef
    usemymalloc=n, bincompat5005=undef
  Compiler:
    cc='cc', ccflags ='-fno-strict-aliasing -pipe -fstack-protector -I/usr/local/include -D_LARGEFILE_SOURCE -D_FILE_OFFSET_BITS=64',
    optimize='-O2',
    cppflags='-fno-strict-aliasing -pipe -fstack-protector -I/usr/local/include'
    ccversion='', gccversion='4.3.2', gccosandvers=''
    intsize=4, longsize=4, ptrsize=4, doublesize=8, byteorder=1234
    d_longlong=define, longlongsize=8, d_longdbl=define, longdblsize=12
    ivtype='long', ivsize=4, nvtype='double', nvsize=8, Off_t='off_t', lseeksize=8
    alignbytes=4, prototype=define
  Linker and Libraries:
    ld='cc', ldflags =' -fstack-protector -L/usr/local/lib'
    libpth=/usr/local/lib /lib /usr/lib
    libs=-lnsl -ldl -lm -lcrypt -lutil -lc
    perllibs=-lnsl -ldl -lm -lcrypt -lutil -lc
    libc=/lib/libc-2.7.so, so=so, useshrplib=false, libperl=libperl.a
    gnulibc_version='2.7'
  Dynamic Linking:
    dlsrc=dl_dlopen.xs, dlext=so, d_dlsymun=undef, ccdlflags='-Wl,-E'
    cccdlflags='-fPIC', lddlflags='-shared -O2 -L/usr/local/lib -fstack-protector'


Characteristics of this binary (from libperl): 
  Compile-time options: MULTIPLICITY PERL_DONT_CREATE_GVSV
                        PERL_IMPLICIT_CONTEXT PERL_MALLOC_WRAP
                        PERL_PRESERVE_IVUV USE_LARGE_FILES USE_PERLIO
                        USE_PERL_ATOF
  Built under linux
  Compiled at Mar 29 2011 19:44:34
  %ENV:
    PERL5LIB=""
    PERL5OPT=""
    PERL5_CPANPLUS_IS_RUNNING="12830"
    PERL5_CPAN_IS_RUNNING="12830"
    PERL5_CPAN_IS_RUNNING_IN_RECURSION="14294,12830"
    PERL_CR_SMOKER_CURRENT="XML-Ant-BuildFile-0.211"
    PERL_EXTUTILS_AUTOINSTALL="--defaultdeps"
    PERL_MM_USE_DEFAULT="1"
  @INC:
    /home/stro/perl/perl51311m/lib/site_perl/5.13.11/i686-linux-multi
    /home/stro/perl/perl51311m/lib/site_perl/5.13.11
    /home/stro/perl/perl51311m/lib/5.13.11/i686-linux-multi
    /home/stro/perl/perl51311m/lib/5.13.11
    .