Report for Test-WWW-Mechanize-1.46

Back
From: metabase:user:320bfe00-2aae-11df-837a-5e0a49663a4f
Subject: PASS Test-WWW-Mechanize-1.46 v5.18.4 GNU/Linux
Date: 2016-12-19T22:07:49Z

This distribution has been tested as part of the CPAN Testers
project, supporting the Perl programming language.  See
http://wiki.cpantesters.org/ for more information or email
questions to cpan-testers-discuss@perl.org


--
Dear Andy Lester,

This is a computer-generated report for Test-WWW-Mechanize-1.46
on perl 5.18.4, created by CPAN-Reporter-1.2018.

Thank you for uploading your work to CPAN.  Congratulations!
All tests were successful.

Sections of this report:

    * Tester comments
    * Program output
    * Prerequisites
    * Environment and other context

------------------------------
TESTER COMMENTS
------------------------------

Additional comments from tester:

this report is from an automated smoke testing program
and was not reviewed by a human for accuracy

------------------------------
PROGRAM OUTPUT
------------------------------

Output from '/usr/bin/make test':

PERL_DL_NONLAZY=1 "/home/sand/src/perl/repoperls/installed-perls/host/k93msid/v5.18.4/2d7c/bin/perl" "-MExtUtils::Command::MM" "-MTest::Harness" "-e" "undef *Test::Harness::Switches; test_harness(0, 'blib/lib', 'blib/arch')" t/*.t
# Testing Test::WWW::Mechanize 1.46, with WWW::Mechanize 1.83, LWP 6.15, Test::More 1.302073, Perl 5.018004, /home/sand/src/perl/repoperls/installed-perls/host/k93msid/v5.18.4/2d7c/bin/perl
t/00-load.t ................ ok
t/autolint.t ............... skipped: HTML::Lint 2.20 is not installed, cannot test autolint
# Test server http://127.0.0.1:36733 as PID 20901
t/click_ok.t ............... ok
t/content_contains.t ....... ok
t/content_lacks.t .......... ok
# Test server http://127.0.0.1:31937 as PID 21369
t/delete_ok.t .............. ok
t/follow_link_ok.t ......... ok
t/followable_links.t ....... ok
t/get_ok-parms.t ........... ok
t/get_ok.t ................. ok
t/has_tag.t ................ ok
t/head_ok-parms.t .......... ok
t/head_ok.t ................ ok
# Test server http://127.0.0.1:30191 as PID 21650
t/headers.t ................ ok
t/html_lint_ok.t ........... skipped: HTML::Lint is not installed, cannot test autolint
t/lacks_uncapped_inputs.t .. ok
t/link_content.t ........... ok
t/link_status.t ............ ok
t/links_ok.t ............... ok
t/new.t .................... ok
t/page_links_content.t ..... ok
t/page_links_ok.t .......... ok
t/pod-coverage.t ........... ok
t/pod.t .................... ok
# Test server http://127.0.0.1:32583 as PID 22253
t/put_ok.t ................. ok
t/scrape_text_by_id.t ...... ok
t/stuff_inputs.t ........... ok
# Test server http://127.0.0.1:36507 as PID 22429
t/submit_form_ok.t ......... ok
t/text_contains.t .......... ok
t/title_is.t ............... ok
All tests successful.
Files=30, Tests=257, 22 wallclock secs ( 0.11 usr  0.18 sys +  4.72 cusr  1.46 csys =  6.47 CPU)
Result: PASS

------------------------------
PREREQUISITES
------------------------------

Prerequisite modules loaded:

requires:

    Module                    Need  Have    
    ------------------------- ----- --------
    Carp::Assert::More        0     1.14    
    HTML::TokeParser          0     3.69    
    HTML::TreeBuilder         0     5.03    
    HTTP::Server::Simple      0.42  0.51    
    HTTP::Server::Simple::CGI 0     0       
    LWP                       6.02  6.15    
    parent                    0     0.225   
    perl                      5.008 5.018004
    Test::Builder::Tester     1.09  1.302073
    Test::LongString          0.15  0.17    
    Test::More                0.96  1.302073
    URI::file                 0     4.21    
    WWW::Mechanize            1.68  1.83    

build_requires:

    Module                    Need  Have    
    ------------------------- ----- --------
    ExtUtils::MakeMaker       0     7.24    

configure_requires:

    Module                    Need  Have    
    ------------------------- ----- --------
    ExtUtils::MakeMaker       0     7.24    


------------------------------
ENVIRONMENT AND OTHER CONTEXT
------------------------------

Environment variables:

    AUTOMATED_TESTING = 1
    LANG = C
    PATH = /home/sand/bin:/usr/local/bin:/usr/bin:/bin:/usr/games:/usr/local/perl/bin:/usr/X11/bin:/sbin:/usr/sbin
    PERL5LIB = 
    PERL5OPT = 
    PERL5_CPANPLUS_IS_RUNNING = 6415
    PERL5_CPAN_IS_RUNNING = 6415
    PERL_CANARY_STABILITY_NOPROMPT = 1
    PERL_MM_USE_DEFAULT = 1
    SHELL = /usr/bin/zsh
    TERM = screen

Perl special variables (and OS-specific diagnostics, for MSWin32):

    $^X = /home/sand/src/perl/repoperls/installed-perls/host/k93msid/v5.18.4/2d7c/bin/perl
    $UID/$EUID = 1005 / 1005
    $GID = 1005 1005
    $EGID = 1005 1005

Perl module toolchain versions installed:

    Module              Have    
    ------------------- --------
    CPAN                2.15    
    CPAN::Meta          2.150010
    Cwd                 3.62    
    ExtUtils::CBuilder  0.280224
    ExtUtils::Command   7.24    
    ExtUtils::Install   1.59    
    ExtUtils::MakeMaker 7.24    
    ExtUtils::Manifest  1.70    
    ExtUtils::ParseXS   3.30    
    File::Spec          3.62    
    JSON                2.90    
    JSON::PP            2.27400 
    Module::Build       0.4220  
    Module::Signature   0.81    
    Parse::CPAN::Meta   2.150010
    Test::Harness       3.36    
    Test::More          1.302073
    YAML                1.20    
    YAML::Syck          1.29    
    version             0.9902  


--

Summary of my perl5 (revision 5 version 18 subversion 4) configuration:
  Derived from: 51202371ba68f3f52f13124a3ea1bc3c171e0ee2
  Platform:
    osname=linux, osvers=4.8.0-2-amd64, archname=x86_64-linux-ld
    uname='linux k93msid 4.8.0-2-amd64 #1 smp debian 4.8.11-1 (2016-12-02) x86_64 gnulinux '
    config_args='-Dprefix=/home/sand/src/perl/repoperls/installed-perls/host/k93msid/v5.18.4/2d7c -Dmyhostname=k93msid -Dinstallusrbinperl=n -Uversiononly -Dusedevel -des -Ui_db -Dlibswanted=cl pthread socket inet nsl gdbm dbm malloc dl ld sun m crypt sec util c cposix posix ucb BSD gdbm_compat -Uuseithreads -Duselongdouble -DDEBUGGING=-g'
    hint=recommended, useposix=true, d_sigaction=define
    useithreads=undef, usemultiplicity=undef
    useperlio=define, d_sfio=undef, uselargefiles=define, usesocks=undef
    use64bitint=define, use64bitall=define, uselongdouble=define
    usemymalloc=n, bincompat5005=undef
  Compiler:
    cc='cc', ccflags ='-fno-strict-aliasing -pipe -fstack-protector -I/usr/local/include -D_LARGEFILE_SOURCE -D_FILE_OFFSET_BITS=64',
    optimize='-O2 -g',
    cppflags='-fno-strict-aliasing -pipe -fstack-protector -I/usr/local/include'
    ccversion='', gccversion='6.2.1 20161124', gccosandvers=''
    intsize=4, longsize=8, ptrsize=8, doublesize=8, byteorder=12345678
    d_longlong=define, longlongsize=8, d_longdbl=define, longdblsize=16
    ivtype='long', ivsize=8, nvtype='long double', nvsize=16, Off_t='off_t', lseeksize=8
    alignbytes=16, prototype=define
  Linker and Libraries:
    ld='cc', ldflags =' -fstack-protector -L/usr/local/lib'
    libpth=/usr/local/lib /lib/x86_64-linux-gnu /lib/../lib /usr/lib/x86_64-linux-gnu /usr/lib/../lib /lib /usr/lib
    libs=-lpthread -lnsl -ldl -lm -lcrypt -lutil -lc
    perllibs=-lpthread -lnsl -ldl -lm -lcrypt -lutil -lc
    libc=libc-2.24.so, so=so, useshrplib=false, libperl=libperl.a
    gnulibc_version='2.24'
  Dynamic Linking:
    dlsrc=dl_dlopen.xs, dlext=so, d_dlsymun=undef, ccdlflags='-Wl,-E'
    cccdlflags='-fPIC', lddlflags='-shared -O2 -g -L/usr/local/lib -fstack-protector'


Characteristics of this binary (from libperl): 
  Compile-time options: HAS_TIMES PERLIO_LAYERS PERL_DONT_CREATE_GVSV
                        PERL_HASH_FUNC_ONE_AT_A_TIME_HARD PERL_MALLOC_WRAP
                        PERL_PRESERVE_IVUV PERL_SAWAMPERSAND PERL_USE_DEVEL
                        USE_64_BIT_ALL USE_64_BIT_INT USE_LARGE_FILES
                        USE_LOCALE USE_LOCALE_COLLATE USE_LOCALE_CTYPE
                        USE_LOCALE_NUMERIC USE_LONG_DOUBLE USE_PERLIO
                        USE_PERL_ATOF
  Locally applied patches:
	uncommitted-changes
  Built under linux
  Compiled at Dec 14 2016 21:22:45
  %ENV:
    PERL5LIB=""
    PERL5OPT=""
    PERL5_CPANPLUS_IS_RUNNING="6415"
    PERL5_CPAN_IS_RUNNING="6415"
    PERL_CANARY_STABILITY_NOPROMPT="1"
    PERL_MM_USE_DEFAULT="1"
  @INC:
    /home/sand/src/perl/repoperls/installed-perls/host/k93msid/v5.18.4/2d7c/lib/site_perl/5.18.4/x86_64-linux-ld
    /home/sand/src/perl/repoperls/installed-perls/host/k93msid/v5.18.4/2d7c/lib/site_perl/5.18.4
    /home/sand/src/perl/repoperls/installed-perls/host/k93msid/v5.18.4/2d7c/lib/5.18.4/x86_64-linux-ld
    /home/sand/src/perl/repoperls/installed-perls/host/k93msid/v5.18.4/2d7c/lib/5.18.4
    .