Report for Module-Info-0.35

Back
From: metabase:user:30f4dfbe-2aae-11df-837a-5e0a49663a4f
Subject: PASS Module-Info-0.35 v5.8.7 SunOS/Solaris
Date: 2014-01-15T09:01:11Z

This distribution has been tested as part of the CPAN Testers
project, supporting the Perl programming language.  See
http://wiki.cpantesters.org/ for more information or email
questions to cpan-testers-discuss@perl.org


--
Dear Mattia Barbon,

This is a computer-generated report for Module-Info-0.35
on perl 5.8.7, created by CPAN-Reporter-1.2010.

Thank you for uploading your work to CPAN.  Congratulations!
All tests were successful.

Sections of this report:

    * Tester comments
    * Program output
    * Prerequisites
    * Environment and other context

------------------------------
TESTER COMMENTS
------------------------------

Additional comments from tester:

this report is from an automated smoke testing program
and was not reviewed by a human for accuracy

------------------------------
PROGRAM OUTPUT
------------------------------

Output from './Build test':

Use of uninitialized value in length at /home/njh/perl5/perlbrew/perls/perl-5.8.7/lib/site_perl/5.8.7/Module/Build/Base.pm line 2767.
t/Module-Info.t .......... ok
t/n0_die_on_error.t ...... ok
t/n1_modules_required.t .. ok
t/n2_safe.t .............. ok
t/n3_version.t ........... ok
t/zy_pod_coverage.t ...... ok
t/zz_pod.t ............... ok
All tests successful.
Files=7, Tests=118,  4 wallclock secs ( 0.07 usr  0.04 sys +  3.34 cusr  0.31 csys =  3.76 CPU)
Result: PASS

------------------------------
PREREQUISITES
------------------------------

Prerequisite modules loaded:

requires:

    Module        Need Have  
    ------------- ---- ------
    File::Spec    0.08 3.33  

configure_requires:

    Module        Need Have  
    ------------- ---- ------
    Module::Build 0.40 0.4002


------------------------------
ENVIRONMENT AND OTHER CONTEXT
------------------------------

Environment variables:

    AUTOMATED_TESTING = 1
    PATH = /home/njh/perl5/perlbrew/bin:/home/njh/perl5/perlbrew/perls/perl-5.8.7/bin:/usr/bin:
    PERL5LIB = 
    PERL5OPT = 
    PERL5_CPANPLUS_IS_RUNNING = 17074
    PERL5_CPAN_IS_RUNNING = 17074
    PERL5_MINISMOKEBOX = 0.58
    PERLBREW_MANPATH = /home/njh/perl5/perlbrew/perls/perl-5.8.7/man
    PERLBREW_PATH = /home/njh/perl5/perlbrew/bin:/home/njh/perl5/perlbrew/perls/perl-5.8.7/bin
    PERLBREW_PERL = perl-5.8.7
    PERLBREW_ROOT = /home/njh/perl5/perlbrew
    PERLBREW_VERSION = 0.66
    PERL_EXTUTILS_AUTOINSTALL = --defaultdeps
    PERL_MM_USE_DEFAULT = 1
    SHELL = /usr/bin/sh

Perl special variables (and OS-specific diagnostics, for MSWin32):

    $^X = /home/njh/perl5/perlbrew/perls/perl-5.8.7/bin/perl
    $UID/$EUID = 1000 / 1000
    $GID = 1000 10 1000
    $EGID = 1000 10 1000

Perl module toolchain versions installed:

    Module              Have    
    ------------------- --------
    CPAN                1.9800  
    CPAN::Meta          2.120351
    Cwd                 3.33    
    ExtUtils::CBuilder  0.280205
    ExtUtils::Command   1.16    
    ExtUtils::Install   1.54    
    ExtUtils::MakeMaker 6.84    
    ExtUtils::Manifest  1.60    
    ExtUtils::ParseXS   3.15    
    File::Spec          3.33    
    JSON                2.53    
    JSON::PP            2.27203 
    Module::Build       0.4002  
    Module::Signature   n/a     
    Parse::CPAN::Meta   1.4405  
    Test::Harness       3.25    
    Test::More          0.98    
    YAML                n/a     
    YAML::Syck          1.27    
    version             0.88    


--

Summary of my perl5 (revision 5 version 8 subversion 7) configuration:
  Platform:
    osname=solaris, osvers=2.11, archname=i86pc-solaris-thread-multi
    uname='sunos solaris 5.11 11.0 i86pc i386 i86pc '
    config_args='-de -Dprefix=/home/njh/perl5/perlbrew/perls/perl-5.8.7 -Duseithreads -Dusemultiplicity -Accflags=-O -v -xstrconst -D__EXTENSIONS__ -I/usr/local/include -native -Aeval:scriptdir=/home/njh/perl5/perlbrew/perls/perl-5.8.7/bin'
    hint=recommended, useposix=true, d_sigaction=define
    usethreads=define use5005threads=undef useithreads=define usemultiplicity=define
    useperlio=define d_sfio=undef uselargefiles=define usesocks=undef
    use64bitint=undef use64bitall=undef uselongdouble=undef
    usemymalloc=n, bincompat5005=undef
  Compiler:
    cc='cc', ccflags ='-D_REENTRANT -O -v -xstrconst -D__EXTENSIONS__ -I/usr/local/include -native -D_LARGEFILE_SOURCE -D_FILE_OFFSET_BITS=64',
    optimize='-O',
    cppflags='-D_REENTRANT -O -v -xstrconst -D__EXTENSIONS__ -I/usr/local/include -native'
    ccversion='Sun C 5.12 SunOS_i386 2011/11/16', gccversion='', gccosandvers=''
    intsize=4, longsize=4, ptrsize=4, doublesize=8, byteorder=1234
    d_longlong=define, longlongsize=8, d_longdbl=define, longdblsize=12
    ivtype='long', ivsize=4, nvtype='double', nvsize=8, Off_t='off_t', lseeksize=8
    alignbytes=4, prototype=define
  Linker and Libraries:
    ld='cc', ldflags =' -L/usr/lib -L/usr/ccs/lib -L/opt/solarisstudio12.3/prod/lib -L/lib -L/usr/gnu/lib '
    libpth=/usr/lib /usr/ccs/lib /opt/solarisstudio12.3/prod/lib /lib /usr/gnu/lib
    libs=-lsocket -lnsl -lgdbm -ldl -lm -lpthread -lc
    perllibs=-lsocket -lnsl -ldl -lm -lpthread -lc
    libc=/lib/libc.so, so=so, useshrplib=false, libperl=libperl.a
    gnulibc_version=''
  Dynamic Linking:
    dlsrc=dl_dlopen.xs, dlext=so, d_dlsymun=undef, ccdlflags=' '
    cccdlflags='-KPIC', lddlflags='-G -L/usr/lib -L/usr/ccs/lib -L/opt/solarisstudio12.3/prod/lib -L/lib -L/usr/gnu/lib'


Characteristics of this binary (from libperl): 
  Compile-time options: MULTIPLICITY USE_ITHREADS USE_LARGE_FILES
                        PERL_IMPLICIT_CONTEXT
  Built under solaris
  Compiled at Aug 10 2012 09:28:20
  %ENV:
    PERL5LIB=""
    PERL5OPT=""
    PERL5_CPANPLUS_IS_RUNNING="17074"
    PERL5_CPAN_IS_RUNNING="17074"
    PERL5_MINISMOKEBOX="0.58"
    PERLBREW_MANPATH="/home/njh/perl5/perlbrew/perls/perl-5.8.7/man"
    PERLBREW_PATH="/home/njh/perl5/perlbrew/bin:/home/njh/perl5/perlbrew/perls/perl-5.8.7/bin"
    PERLBREW_PERL="perl-5.8.7"
    PERLBREW_ROOT="/home/njh/perl5/perlbrew"
    PERLBREW_VERSION="0.66"
    PERL_EXTUTILS_AUTOINSTALL="--defaultdeps"
    PERL_MM_USE_DEFAULT="1"
  @INC:
    /home/njh/perl5/perlbrew/perls/perl-5.8.7/lib/5.8.7/i86pc-solaris-thread-multi
    /home/njh/perl5/perlbrew/perls/perl-5.8.7/lib/5.8.7
    /home/njh/perl5/perlbrew/perls/perl-5.8.7/lib/site_perl/5.8.7/i86pc-solaris-thread-multi
    /home/njh/perl5/perlbrew/perls/perl-5.8.7/lib/site_perl/5.8.7
    /home/njh/perl5/perlbrew/perls/perl-5.8.7/lib/site_perl
    .