App-dupfind v0.172690 Perl 5 v5.18.2 x86_64-linux-thread-multi

Status
Pass
From
Nigel Horne
Dist
App-dupfind v0.172690
Platform
Perl 5 v5.18.2 x86_64-linux-thread-multi
Date
2017-09-26 06:54:45
ID
948d7ab4-a287-11e7-9be1-bbe64cf6c7cd
This distribution has been tested as part of the CPAN Testers
project, supporting the Perl programming language.  See
http://wiki.cpantesters.org/ for more information or email
questions to cpan-testers-discuss@perl.org


--
Dear Tommy Butler,

This is a computer-generated report for App-dupfind-0.172690
on perl 5.18.2, created by CPAN-Reporter-1.2018.

Thank you for uploading your work to CPAN.  Congratulations!
All tests were successful.

Sections of this report:

    * Tester comments
    * Program output
    * Prerequisites
    * Environment and other context

------------------------------
TESTER COMMENTS
------------------------------

Additional comments from tester:

this report is from an automated smoke testing program
and was not reviewed by a human for accuracy

------------------------------
PROGRAM OUTPUT
------------------------------

Output from './Build test':

# 
# threads: Can't locate object method "tid" via package "threads" at /home/njh/perl5/perlbrew/perls/perl-5.18.2/lib/site_perl/5.18.2/Test2/Util.pm line 124.
# Compilation failed in require at (eval 83) line 1.
# 
# Generated by Dist::Zilla::Plugin::ReportVersions::Tiny v1.10
# perl: 5.018002 (wanted 5.010) on linux from /home/njh/perl5/perlbrew/perls/perl-5.18.2/bin/perl
# 
# Benchmark                                     => 1.15       (want any version)
# Digest::xxHash                                => 2.03       (want 2.03)   
# ExtUtils::MakeMaker                           => 7.22       (want 6.30)   
# File::Spec                                    => 3.47       (want any version)
# File::Temp                                    => 0.2304     (want any version)
# File::Util                                    => 4.161950   (want any version)
# Getopt::Long                                  => 2.42       (want any version)
# IO::Handle                                    => 1.34       (want any version)
# IPC::Open3                                    => 1.13       (want any version)
# Module::Build                                 => 0.4206     (want 0.3601) 
# Moo                                           => 1.005      (want any version)
# Moo::Role                                     => 1.005      (want any version)
# Pod::Usage                                    => 1.69       (want any version)
# Storable                                      => 2.45       (want any version)
# Term::ProgressBar                             => 2.21       (want any version)
# Term::Prompt                                  => 1.04       (want any version)
# Test                                          => 1.26       (want any version)
# Test::More                                    => 1.302062   (want 0.88)   
# Test::NoWarnings                              => 1.04       (want any version)
# Thread::Queue                                 => 3.05       (want any version)
# Time::HiRes                                   => 1.9726     (want any version)
# Try::Tiny                                     => 0.28       (want any version)
# lib                                           => 0.63       (want any version)
# strict                                        => 1.07       (want any version)
# threads                                       => died during require. (want any version)
# threads::shared                               => 1.46       (want any version)
# warnings                                      => 1.18       (want any version)
# 
# Thanks for using my code.  I hope it works for you.
# If not, please try and include this output in the bug report.
# That will help me reproduce the issue and solve your problem.
# 
t/001_canuseit.t .............. ok
t/002_isa.t ................... ok
t/000-report-versions-tiny.t .. ok
t/005_prune.t ................. ok
t/004_scanfs.t ................ ok
t/003_can.t ................... ok
t/007_digest.t ................ ok
t/006_weed.t .................. ok
t/008_output_robot.t .......... ok
t/009_output_human.t .......... ok
t/00-compile.t ................ ok
All tests successful.
Files=11, Tests=79,  1 wallclock secs ( 0.04 usr  0.00 sys +  1.73 cusr  0.23 csys =  2.00 CPU)
Result: PASS

------------------------------
PREREQUISITES
------------------------------

Prerequisite modules loaded:

requires:

    Module              Need   Have    
    ------------------- ------ --------
    Benchmark           0      1.15    
    Digest::xxHash      2.03   2.03    
    File::Util          0      4.161950
    Getopt::Long        0      2.42    
    lib                 0      0.63    
    Moo                 0      1.005000
    Moo::Role           0      1.005000
    perl                5.010  5.018002
    Pod::Usage          0      1.69    
    strict              0      1.07    
    Term::ProgressBar   0      2.21    
    Term::Prompt        0      1.04    
    Thread::Queue       0      3.05    
    threads             0      1.92    
    threads::shared     0      1.46    
    Time::HiRes         0      1.9726  
    warnings            0      1.18    

build_requires:

    Module              Need   Have    
    ------------------- ------ --------
    Benchmark           0      1.15    
    Digest::xxHash      2.03   2.03    
    ExtUtils::MakeMaker 0      7.22    
    File::Spec          0      3.47    
    File::Temp          0      0.2304  
    File::Util          0      4.161950
    Getopt::Long        0      2.42    
    IO::Handle          0      1.34    
    IPC::Open3          0      1.13    
    Module::Build       0.3601 0.4206  
    Moo                 0      1.005000
    Moo::Role           0      1.005000
    perl                5.010  5.018002
    Pod::Usage          0      1.69    
    Storable            0      2.45    
    Test                0      1.26    
    Test::More          0.88   1.302062
    Test::NoWarnings    0      1.04    
    Thread::Queue       0      3.05    
  ! threads             0      broken  
    threads::shared     0      1.46    
    Time::HiRes         0      1.9726  
    Try::Tiny           0      0.28    

configure_requires:

    Module              Need   Have    
    ------------------- ------ --------
    ExtUtils::MakeMaker 6.30   7.22    
    Module::Build       0.3601 0.4206  


------------------------------
ENVIRONMENT AND OTHER CONTEXT
------------------------------

Environment variables:

    AUTOMATED_TESTING = 1
    HARNESS_OPTIONS = j4
    LANG = en_GB.UTF-8
    LANGUAGE = en_GB:en
    PATH = /home/njh/perl5/perlbrew/bin:/home/njh/perl5/perlbrew/perls/perl-5.18.2/bin:/home/njh/perl5/perlbrew/bin:/usr/bin:/bin
    PERL5LIB = /home/njh/.cpan/build/Term-Prompt-1.04-13/blib/arch:/home/njh/.cpan/build/Term-Prompt-1.04-13/blib/lib:/home/njh/.cpan/build/Term-ProgressBar-2.21-13/blib/arch:/home/njh/.cpan/build/Term-ProgressBar-2.21-13/blib/lib:/home/njh/.cpan/build/Class-MethodMaker-2.24-13/blib/arch:/home/njh/.cpan/build/Class-MethodMaker-2.24-13/blib/lib:/home/njh/.cpan/build/File-Util-4.161950-13/blib/arch:/home/njh/.cpan/build/File-Util-4.161950-13/blib/lib:/home/njh/.cpan/build/Digest-xxHash-2.03-13/blib/arch:/home/njh/.cpan/build/Digest-xxHash-2.03-13/blib/lib:/home/njh/.cpan/build/Math-Int64-0.54-13/blib/arch:/home/njh/.cpan/build/Math-Int64-0.54-13/blib/lib:/home/njh/.cpan/build/B-Hooks-Parser-0.19-3/blib/arch:/home/njh/.cpan/build/B-Hooks-Parser-0.19-3/blib/lib
    PERL5OPT = 
    PERL5_CPANPLUS_IS_RUNNING = 25521
    PERL5_CPAN_IS_RUNNING = 25521
    PERLBREW_BASHRC_VERSION = 0.73
    PERLBREW_HOME = /home/njh/.perlbrew
    PERLBREW_LIB = 
    PERLBREW_MANPATH = /home/njh/perl5/perlbrew/perls/perl-5.18.2/man
    PERLBREW_PATH = /home/njh/perl5/perlbrew/bin:/home/njh/perl5/perlbrew/perls/perl-5.18.2/bin
    PERLBREW_PERL = perl-5.18.2
    PERLBREW_ROOT = /home/njh/perl5/perlbrew
    PERLBREW_VERSION = 0.73
    PERL_LOCAL_LIB_ROOT = 
    SHELL = /bin/sh

Perl special variables (and OS-specific diagnostics, for MSWin32):

    $^X = /home/njh/perl5/perlbrew/perls/perl-5.18.2/bin/perl
    $UID/$EUID = 1000 / 1000
    $GID = 1000 4 24 25 29 30 44 46 108 112 1000
    $EGID = 1000 4 24 25 29 30 44 46 108 112 1000

Perl module toolchain versions installed:

    Module              Have    
    ------------------- --------
    CPAN                2.16    
    CPAN::Meta          2.150010
    Cwd                 3.47    
    ExtUtils::CBuilder  0.280216
    ExtUtils::Command   7.22    
    ExtUtils::Install   1.68    
    ExtUtils::MakeMaker 7.22    
    ExtUtils::Manifest  1.70    
    ExtUtils::ParseXS   3.30    
    File::Spec          3.47    
    JSON                2.93    
    JSON::PP            2.27400 
    Module::Build       0.4206  
    Module::Signature   0.73    
    Parse::CPAN::Meta   2.150010
    Test::Harness       3.36    
    Test::More          1.302062
    YAML                1.23    
    YAML::Syck          1.27    
    version             0.9908  


--

Summary of my perl5 (revision 5 version 18 subversion 2) configuration:
   
  Platform:
    osname=linux, osvers=3.10-2-amd64, archname=x86_64-linux-thread-multi
    uname='linux nigelhorne.force9.co.uk 3.10-2-amd64 #1 smp debian 3.10.7-1 (2013-08-17) x86_64 gnulinux '
    config_args='-de -Dprefix=/home/njh/perl5/perlbrew/perls/perl-5.18.2 -Duseithreads -Dusemultiplicity -Accflags=-O2 -W -Wformat=2 -Wswitch -Wshadow -Wwrite-strings -Wuninitialized -Wall -pipe -mtune=native -march=native -fomit-frame-pointer -msse2 -msse -mmmx -mfpmath=sse -pedantic -D_FORTIFY_SOURCE=2 -Wpointer-arith -Wstrict-prototypes -fstack-protector -Wstack-protector -Wextra -Wbad-function-cast -Wcast-align -Wcast-qual -Wdisabled-optimization -Wendif-labels -Wfloat-equal -Wformat-nonliteral -Winline -Wmissing-declarations -Wmissing-prototypes -Wnested-externs -Wpointer-arith -Wundef -Wformat-security -ftree-vectorize -fassociative-math -ftree-vectorizer-verbose=1 -Aeval:scriptdir=/home/njh/perl5/perlbrew/perls/perl-5.18.2/bin'
    hint=recommended, useposix=true, d_sigaction=define
    useithreads=define, usemultiplicity=define
    useperlio=define, d_sfio=undef, uselargefiles=define, usesocks=undef
    use64bitint=define, use64bitall=define, uselongdouble=undef
    usemymalloc=n, bincompat5005=undef
  Compiler:
    cc='cc', ccflags ='-D_REENTRANT -D_GNU_SOURCE -O2 -W -Wformat=2 -Wswitch -Wshadow -Wwrite-strings -Wuninitialized -Wall -pipe -mtune=native -march=native -fomit-frame-pointer -msse2 -msse -mmmx -mfpmath=sse -pedantic -D_FORTIFY_SOURCE=2 -Wpointer-arith -Wstrict-prototypes -fstack-protector -Wstack-protector -Wextra -Wbad-function-cast -Wcast-align -Wcast-qual -Wdisabled-optimization -Wendif-labels -Wfloat-equal -Wformat-nonliteral -Winline -Wmissing-declarations -Wmissing-prototypes -Wnested-externs -Wpointer-arith -Wundef -Wformat-security -ftree-vectorize -fassociative-math -ftree-vectorizer-verbose=1 -fno-strict-aliasing -I/usr/local/include -D_LARGEFILE_SOURCE -D_FILE_OFFSET_BITS=64',
    optimize='-O2',
    cppflags='-D_REENTRANT -D_GNU_SOURCE -O2 -W -Wformat=2 -Wswitch -Wshadow -Wwrite-strings -Wuninitialized -Wall -pipe -mtune=native -march=native -fomit-frame-pointer -msse2 -msse -mmmx -mfpmath=sse -pedantic -D_FORTIFY_SOURCE=2 -Wpointer-arith -Wstrict-prototypes -fstack-protector -Wstack-protector -Wextra -Wbad-function-cast -Wcast-align -Wcast-qual -Wdisabled-optimization -Wendif-labels -Wfloat-equal -Wformat-nonliteral -Winline -Wmissing-declarations -Wmissing-prototypes -Wnested-externs -Wpointer-arith -Wundef -Wformat-security -ftree-vectorize -fassociative-math -ftree-vectorizer-verbose=1 -fno-strict-aliasing -I/usr/local/include'
    ccversion='', gccversion='4.8.2', gccosandvers=''
    intsize=4, longsize=8, ptrsize=8, doublesize=8, byteorder=12345678
    d_longlong=define, longlongsize=8, d_longdbl=define, longdblsize=16
    ivtype='long', ivsize=8, nvtype='double', nvsize=8, Off_t='off_t', lseeksize=8
    alignbytes=8, prototype=define
  Linker and Libraries:
    ld='cc', ldflags =' -fstack-protector -L/usr/local/lib'
    libpth=/usr/local/lib /lib/x86_64-linux-gnu /lib/../lib /usr/lib/x86_64-linux-gnu /usr/lib/../lib /lib /usr/lib
    libs=-lnsl -lgdbm -ldb -ldl -lm -lcrypt -lutil -lpthread -lc -lgdbm_compat
    perllibs=-lnsl -ldl -lm -lcrypt -lutil -lpthread -lc
    libc=, so=so, useshrplib=false, libperl=libperl.a
    gnulibc_version='2.17'
  Dynamic Linking:
    dlsrc=dl_dlopen.xs, dlext=so, d_dlsymun=undef, ccdlflags='-Wl,-E'
    cccdlflags='-fPIC', lddlflags='-shared -O2 -L/usr/local/lib -fstack-protector'


Characteristics of this binary (from libperl): 
  Compile-time options: HAS_TIMES MULTIPLICITY PERLIO_LAYERS
                        PERL_DONT_CREATE_GVSV
                        PERL_HASH_FUNC_ONE_AT_A_TIME_HARD
                        PERL_IMPLICIT_CONTEXT PERL_MALLOC_WRAP
                        PERL_PRESERVE_IVUV PERL_SAWAMPERSAND USE_64_BIT_ALL
                        USE_64_BIT_INT USE_ITHREADS USE_LARGE_FILES
                        USE_LOCALE USE_LOCALE_COLLATE USE_LOCALE_CTYPE
                        USE_LOCALE_NUMERIC USE_PERLIO USE_PERL_ATOF
                        USE_REENTRANT_API
  Built under linux
  Compiled at Jan 13 2014 13:31:17
  %ENV:
    PERL5LIB="/home/njh/.cpan/build/Term-Prompt-1.04-13/blib/arch:/home/njh/.cpan/build/Term-Prompt-1.04-13/blib/lib:/home/njh/.cpan/build/Term-ProgressBar-2.21-13/blib/arch:/home/njh/.cpan/build/Term-ProgressBar-2.21-13/blib/lib:/home/njh/.cpan/build/Class-MethodMaker-2.24-13/blib/arch:/home/njh/.cpan/build/Class-MethodMaker-2.24-13/blib/lib:/home/njh/.cpan/build/File-Util-4.161950-13/blib/arch:/home/njh/.cpan/build/File-Util-4.161950-13/blib/lib:/home/njh/.cpan/build/Digest-xxHash-2.03-13/blib/arch:/home/njh/.cpan/build/Digest-xxHash-2.03-13/blib/lib:/home/njh/.cpan/build/Math-Int64-0.54-13/blib/arch:/home/njh/.cpan/build/Math-Int64-0.54-13/blib/lib:/home/njh/.cpan/build/B-Hooks-Parser-0.19-3/blib/arch:/home/njh/.cpan/build/B-Hooks-Parser-0.19-3/blib/lib"
    PERL5OPT=""
    PERL5_CPANPLUS_IS_RUNNING="25521"
    PERL5_CPAN_IS_RUNNING="25521"
    PERLBREW_BASHRC_VERSION="0.73"
    PERLBREW_HOME="/home/njh/.perlbrew"
    PERLBREW_LIB=""
    PERLBREW_MANPATH="/home/njh/perl5/perlbrew/perls/perl-5.18.2/man"
    PERLBREW_PATH="/home/njh/perl5/perlbrew/bin:/home/njh/perl5/perlbrew/perls/perl-5.18.2/bin"
    PERLBREW_PERL="perl-5.18.2"
    PERLBREW_ROOT="/home/njh/perl5/perlbrew"
    PERLBREW_VERSION="0.73"
    PERL_LOCAL_LIB_ROOT=""
  @INC:
    /home/njh/.cpan/build/Term-Prompt-1.04-13/blib/arch
    /home/njh/.cpan/build/Term-Prompt-1.04-13/blib/lib
    /home/njh/.cpan/build/Term-ProgressBar-2.21-13/blib/arch
    /home/njh/.cpan/build/Term-ProgressBar-2.21-13/blib/lib
    /home/njh/.cpan/build/Class-MethodMaker-2.24-13/blib/arch
    /home/njh/.cpan/build/Class-MethodMaker-2.24-13/blib/lib
    /home/njh/.cpan/build/File-Util-4.161950-13/blib/arch
    /home/njh/.cpan/build/File-Util-4.161950-13/blib/lib
    /home/njh/.cpan/build/Digest-xxHash-2.03-13/blib/arch
    /home/njh/.cpan/build/Digest-xxHash-2.03-13/blib/lib
    /home/njh/.cpan/build/Math-Int64-0.54-13/blib/arch
    /home/njh/.cpan/build/Math-Int64-0.54-13/blib/lib
    /home/njh/.cpan/build/B-Hooks-Parser-0.19-3/blib/arch
    /home/njh/.cpan/build/B-Hooks-Parser-0.19-3/blib/lib
    /home/njh/perl5/perlbrew/perls/perl-5.18.2/lib/site_perl/5.18.2/x86_64-linux-thread-multi
    /home/njh/perl5/perlbrew/perls/perl-5.18.2/lib/site_perl/5.18.2
    /home/njh/perl5/perlbrew/perls/perl-5.18.2/lib/5.18.2/x86_64-linux-thread-multi
    /home/njh/perl5/perlbrew/perls/perl-5.18.2/lib/5.18.2
    .