Back
From: metabase:user:314402c4-2aae-11df-837a-5e0a49663a4f
Subject: PASS Web-MREST-0.286 v5.24.0 GNU/Linux
Date: 2017-01-19T18:17:47Z
This distribution has been tested as part of the CPAN Testers
project, supporting the Perl programming language. See
http://wiki.cpantesters.org/ for more information or email
questions to cpan-testers-discuss@perl.org
--
Dear Nathan Cutler,
This is a computer-generated report for Web-MREST-0.286
on perl 5.24.0, created by CPAN-Reporter-1.2018.
Thank you for uploading your work to CPAN. Congratulations!
All tests were successful.
Sections of this report:
* Tester comments
* Program output
* Prerequisites
* Environment and other context
------------------------------
TESTER COMMENTS
------------------------------
Additional comments from tester:
none provided
------------------------------
PROGRAM OUTPUT
------------------------------
Output from './Build test':
t/2xx/200-OK.t ........................ ok
t/2xx/201-Created.t ................... ok
t/4xx/400-Bad-Request.t ............... ok
t/4xx/401-Unauthorized.t .............. ok
t/4xx/403-Forbidden.t ................. ok
t/4xx/405-Method-Not-Allowed.t ........ ok
t/4xx/406-Not-Acceptable.t ............ ok
t/4xx/413-Request-Entity-Too-Large.t .. ok
t/4xx/414-Request-URI-Too-Long.t ...... ok
t/4xx/415-Unsupported-Media-Type.t .... ok
t/5xx/501-Not-Implemented.t ........... ok
t/5xx/503-Service-Unavailable.t ....... ok
t/config.t ............................ ok
t/dispatch/bugreport.t ................ ok
t/dispatch/docu.t ..................... ok
t/dispatch/echo.t ..................... ok
t/dispatch/noop.t ..................... ok
t/dispatch/param.t .................... ok
t/dispatch/root_resource.t ............ ok
t/dispatch/version.t .................. ok
t/mrest_declare_status.t .............. ok
t/request_body_read.t ................. ok
All tests successful.
Files=22, Tests=352, 10 wallclock secs ( 0.12 usr 0.04 sys + 9.15 cusr 0.88 csys = 10.19 CPU)
Result: PASS
------------------------------
PREREQUISITES
------------------------------
Prerequisite modules loaded:
requires:
Module Need Have
----------------------------- ------ --------
App::CELL 0.205 0.222
Encode 0 2.88
File::ShareDir 1.00 1.102
File::Spec 0 3.63
Getopt::Long 2.32 2.48
HTTP::Request 0 6.11
HTTP::Request::Common 0 6.11
JSON 0 2.90
LWP::Protocol::https 6.04 6.06
LWP::UserAgent 6.05 6.15
Module::Runtime 0 0.014
Params::Validate 1.06 1.26
Path::Router 0.12 0.15
perl 5.012 5.024000
Plack::Middleware::LogErrors 0 0.002
Plack::Middleware::Session 0 0.30
Plack::Middleware::StackTrace 0 0
Plack::Runner 0 0
Plack::Session 0 0.30
Pod::Simple::HTML 0 3.35
Pod::Simple::Text 0 3.35
Pod::Usage 0 1.68
Term::ReadLine 0 1.15
Test::Deep::NoTest 0 0
Try::Tiny 0 0.28
URI::Escape 0 3.31
Web::Machine 0.15 0.17
Web::MREST::CLI 0.276 0.283
build_requires:
Module Need Have
----------------------------- ------ --------
App::CELL 0.209 0.222
Cwd 0 3.63
Encode 0 2.88
File::Basename 0 2.85
File::ShareDir 0 1.102
File::Spec 0 3.63
HTTP::Request 0 6.11
HTTP::Request::Common 0 6.11
JSON 0 2.90
LWP::Protocol::https 6.04 6.06
LWP::UserAgent 6.05 6.15
Module::Runtime 0 0.014
Params::Validate 0 1.26
Path::Router 0.12 0.15
Plack 1.0031 1.0042
Plack::Session 0 0.30
Plack::Test 0 0
Pod::Simple::HTML 0 3.35
Pod::Simple::Text 0 3.35
Test::Deep 0 1.126
Test::Fatal 0 0.014
Test::JSON 0 0.11
Test::More 0 1.302075
Test::Warnings 0 0.026
Try::Tiny 0 0.28
URI::Escape 0 3.31
Web::Machine 0.15 0.17
configure_requires:
Module Need Have
----------------------------- ------ --------
Module::Build 0 0.4220
------------------------------
ENVIRONMENT AND OTHER CONTEXT
------------------------------
Environment variables:
LANG = en_US.UTF-8
PATH = /usr/local/bin:/usr/bin:/bin:/usr/local/sbin:/usr/sbin:/sbin:/home/cpansand/bin/linux-gnu:/home/cpansand/bin/sh:/home/cpansand/bin:/usr/games:/home/cpansand/devel:/home/eserte/src/srezic-misc/scripts
PERL5LIB =
PERL5OPT =
PERL5_CPANPLUS_IS_RUNNING = 2067
PERL5_CPAN_IS_RUNNING = 2067
PERL5_CPAN_IS_RUNNING_IN_RECURSION = 7661,2067
PERLDOC = -MPod::Perldoc::ToTextOverstrike
PERL_BATCH = yes
PERL_CANARY_STABILITY_NOPROMPT = 1
PERL_CPAN_REPORTER_CONFIG = /var/tmp/cpansmoker-1002/2017011915/cpanreporter_000_config.ini
PERL_EXTUTILS_AUTOINSTALL = --defaultdeps
SHELL = /bin/zsh
TERM = screen
TMPDIR = /var/tmp/cpansmoker-1002/2017011915
Perl special variables (and OS-specific diagnostics, for MSWin32):
$^X = /opt/perl-5.24.0/bin/perl5.24.0
$UID/$EUID = 1002 / 1002
$GID = 1002 1002
$EGID = 1002 1002
Perl module toolchain versions installed:
Module Have
------------------- --------
CPAN 2.11
CPAN::Meta 2.150005
Cwd 3.63
ExtUtils::CBuilder 0.280225
ExtUtils::Command 7.24
ExtUtils::Install 2.04
ExtUtils::MakeMaker 7.24
ExtUtils::Manifest 1.70
ExtUtils::ParseXS 3.31
File::Spec 3.63
JSON 2.90
JSON::PP 2.27400
Module::Build 0.4220
Module::Signature 0.81
Parse::CPAN::Meta 1.4417
Test::Harness 3.36
Test::More 1.302075
YAML 1.21
YAML::Syck 1.29
version 0.9916
--
Summary of my perl5 (revision 5 version 24 subversion 0) configuration:
Platform:
osname=linux, osvers=4.4.0-59-generic, archname=x86_64-linux
uname='linux prod3.bbbike.org 4.4.0-59-generic #80-ubuntu smp fri jan 6 17:47:47 utc 2017 x86_64 x86_64 x86_64 gnulinux '
config_args='-ds -e -Dprefix=/opt/perl-5.24.0 -Dcf_email=srezic@cpan.org'
hint=recommended, useposix=true, d_sigaction=define
useithreads=undef, usemultiplicity=undef
use64bitint=define, use64bitall=define, uselongdouble=undef
usemymalloc=n, bincompat5005=undef
Compiler:
cc='cc', ccflags ='-fwrapv -fno-strict-aliasing -pipe -fstack-protector-strong -I/usr/local/include -D_LARGEFILE_SOURCE -D_FILE_OFFSET_BITS=64',
optimize='-O2',
cppflags='-fwrapv -fno-strict-aliasing -pipe -fstack-protector-strong -I/usr/local/include'
ccversion='', gccversion='5.4.0 20160609', gccosandvers=''
intsize=4, longsize=8, ptrsize=8, doublesize=8, byteorder=12345678, doublekind=3
d_longlong=define, longlongsize=8, d_longdbl=define, longdblsize=16, longdblkind=3
ivtype='long', ivsize=8, nvtype='double', nvsize=8, Off_t='off_t', lseeksize=8
alignbytes=8, prototype=define
Linker and Libraries:
ld='cc', ldflags =' -fstack-protector-strong -L/usr/local/lib'
libpth=/usr/local/lib /usr/lib/gcc/x86_64-linux-gnu/5/include-fixed /usr/include/x86_64-linux-gnu /usr/lib /lib/x86_64-linux-gnu /lib/../lib /usr/lib/x86_64-linux-gnu /usr/lib/../lib /lib
libs=-lpthread -lnsl -lgdbm -ldb -ldl -lm -lcrypt -lutil -lc -lgdbm_compat
perllibs=-lpthread -lnsl -ldl -lm -lcrypt -lutil -lc
libc=libc-2.23.so, so=so, useshrplib=false, libperl=libperl.a
gnulibc_version='2.23'
Dynamic Linking:
dlsrc=dl_dlopen.xs, dlext=so, d_dlsymun=undef, ccdlflags='-Wl,-E'
cccdlflags='-fPIC', lddlflags='-shared -O2 -L/usr/local/lib -fstack-protector-strong'
Characteristics of this binary (from libperl):
Compile-time options: HAS_TIMES PERLIO_LAYERS PERL_COPY_ON_WRITE
PERL_DONT_CREATE_GVSV
PERL_HASH_FUNC_ONE_AT_A_TIME_HARD PERL_MALLOC_WRAP
PERL_PRESERVE_IVUV USE_64_BIT_ALL USE_64_BIT_INT
USE_LARGE_FILES USE_LOCALE USE_LOCALE_COLLATE
USE_LOCALE_CTYPE USE_LOCALE_NUMERIC USE_LOCALE_TIME
USE_PERLIO USE_PERL_ATOF
Built under linux
Compiled at Jan 15 2017 08:12:09
%ENV:
PERL5LIB=""
PERL5OPT=""
PERL5_CPANPLUS_IS_RUNNING="2067"
PERL5_CPAN_IS_RUNNING="2067"
PERL5_CPAN_IS_RUNNING_IN_RECURSION="7661,2067"
PERLDOC="-MPod::Perldoc::ToTextOverstrike"
PERL_BATCH="yes"
PERL_CANARY_STABILITY_NOPROMPT="1"
PERL_CPAN_REPORTER_CONFIG="/var/tmp/cpansmoker-1002/2017011915/cpanreporter_000_config.ini"
PERL_EXTUTILS_AUTOINSTALL="--defaultdeps"
@INC:
/opt/perl-5.24.0/lib/site_perl/5.24.0/x86_64-linux
/opt/perl-5.24.0/lib/site_perl/5.24.0
/opt/perl-5.24.0/lib/5.24.0/x86_64-linux
/opt/perl-5.24.0/lib/5.24.0
.