POE-Component-Server-SimpleHTTP v2.30 Perl 5 v5.36.3 amd64-openbsd

Status
Pass
From
Alceu Rodrigues de Freitas Junior
Dist
POE-Component-Server-SimpleHTTP v2.30
Platform
Perl 5 v5.36.3 amd64-openbsd
Date
2024-05-10 00:02:24
ID
94c0ef24-0e60-11ef-abc3-f2abe9c7712c
This distribution has been tested as part of the CPAN Testers
project, supporting the Perl programming language.  See
http://wiki.cpantesters.org/ for more information or email
questions to cpan-testers-discuss@perl.org


--
Dear Chris Williams,

This is a computer-generated report for POE-Component-Server-SimpleHTTP-2.30
on perl 5.36.3, created by CPAN-Reporter-1.2019.

Thank you for uploading your work to CPAN.  Congratulations!
All tests were successful.

Sections of this report:

    * Tester comments
    * Program output
    * Prerequisites
    * Environment and other context

------------------------------
TESTER COMMENTS
------------------------------

Additional comments from tester:

this report is from an automated smoke testing program
and was not reviewed by a human for accuracy

If you would like to try to reproduce this report results or even to work with
the same environment for a bug fix, please refer to
https://github.com/glasswalk3r/cpan-openbsd-smoker to see how to use the
prebuilt virtual machines available.

------------------------------
PROGRAM OUTPUT
------------------------------

Output from '/usr/bin/make test':

PERL_DL_NONLAZY=1 "/usr/bin/perl" "-MExtUtils::Command::MM" "-MTest::Harness" "-e" "undef *Test::Harness::Switches; test_harness(0, 'blib/lib', 'blib/arch')" t/*.t
t/00-compile.t ........... ok
# GET http://pocosimpletest.com:24117/ HTTP/1.1
# Host: 127.0.0.1:24117
# 
# HTTP/1.1 200 (OK)
# Date: Thu, 09 May 2024 21:18:00 GMT
# Content-Length: 3
# Content-Type: text/plain
# 
# Moo
t/02_simple.t ............ ok
# starting httpd6
# httpd6 started
# Port is 16176
# webc_connected
# GET http://pocosimpletest.com:16176/ HTTP/1.1
# Host: ::1:16176
# 
# HTTP/1.1 200 (OK)
# Date: Thu, 09 May 2024 21:18:01 GMT
# Content-Length: 3
# Content-Type: text/plain
# 
# Moo
t/02_simple_ipv6.t ....... ok
# HTTP/1.1 404 (Not Found)
# Date: Thu, 09 May 2024 21:18:01 GMT
# Content-Length: 13
# Content-Type: text/plain
# 
# 404 Not Found
t/03_bad_handler.t ....... ok
# GEt http://pocosimpletest.com:7127/ HTTP/1.1
# Host: 127.0.0.1:7127
# 
# HTTP/1.1 200 (OK)
# Date: Thu, 09 May 2024 21:18:02 GMT
# Content-Length: 3
# Content-Type: text/plain
# 
# Moo
t/03_bad_request.t ....... ok
# 200 (OK)
# Date: Thu, 09 May 2024 21:18:02 GMT
# Content-Length: 11
# Content-Type: text/plain
# X-HTTP-Version: 1.1
# 
# this is top
# 200 (OK)
# Date: Thu, 09 May 2024 21:18:02 GMT
# Content-Length: 12
# Content-Type: text/plain
# X-HTTP-Version: 1.1
# 
# this is honk
# 200 (OK)
# Date: Thu, 09 May 2024 21:18:02 GMT
# Content-Length: 123
# Content-Type: text/html
# X-HTTP-Version: 1.1
# 
# <html>
# <head><title>YEAH!</title></head>
# <body><p>This, my friend, is the page you've been looking for.</p></body>
# </html>
# 404 (Not Found)
# Date: Thu, 09 May 2024 21:18:02 GMT
# Content-Length: 13
# Content-Type: text/plain
# X-HTTP-Version: 1.1
# 
# 404 Not Found
t/04_run_close.t ......... ok
# 200 (OK)
# Date: Thu, 09 May 2024 21:18:02 GMT
# Content-Length: 11
# Content-Type: text/plain
# X-HTTP-Version: 1.1
# 
# this is top
# 200 (OK)
# Date: Thu, 09 May 2024 21:18:02 GMT
# Content-Length: 12
# Content-Type: text/plain
# X-HTTP-Version: 1.1
# 
# this is honk
# 200 (OK)
# Date: Thu, 09 May 2024 21:18:02 GMT
# Content-Length: 123
# Content-Type: text/html
# X-HTTP-Version: 1.1
# 
# <html>
# <head><title>YEAH!</title></head>
# <body><p>This, my friend, is the page you've been looking for.</p></body>
# </html>
# 404 (Not Found)
# Date: Thu, 09 May 2024 21:18:02 GMT
# Content-Length: 13
# Content-Type: text/plain
# X-HTTP-Version: 1.1
# 
# 404 Not Found
t/04_run_keepalive.t ..... ok
# POST http://pocosimpletest.com:15098/ HTTP/1.1
# Host: 127.0.0.1:15098
# Content-Length: 40
# 
# brother !~we need to get off this island
# 200 (OK)
# Date: Thu, 09 May 2024 21:18:03 GMT
# Content-Length: 40
# Content-Type: text/plain
# X-HTTP-Version: 1.1
# 
# we need to get off this island brother !
t/05_post.t .............. ok
t/06_stream.t ............ skipped: POE::Component::Client::HTTP is required for this test
t/author-pod-coverage.t .. skipped: these tests are for testing by the author
t/author-pod-syntax.t .... skipped: these tests are for testing by the author
All tests successful.
Files=11, Tests=47,  4 wallclock secs ( 0.03 usr  0.15 sys +  3.45 cusr  0.51 csys =  4.14 CPU)
Result: PASS

------------------------------
PREREQUISITES
------------------------------

Prerequisite modules loaded:

requires:

    Module                    Need   Have    
    ------------------------- ------ --------
    Carp                      0      1.52    
    HTTP::Date                0      6.06    
    HTTP::Request             0      6.45    
    HTTP::Response            0      6.45    
    Moose                     0.9    2.2207  
    MooseX::POE               0.205  0.215   
    perl                      5.006  5.036003
    POE                       1.0000 1.370   
    Socket                    0      2.038   
    Storable                  0      3.26    
    Sys::Hostname             0      1.24    

build_requires:

    Module                    Need   Have    
    ------------------------- ------ --------
    ExtUtils::MakeMaker       6.59   7.70    
    File::Spec                0      3.84    
    IO::Handle                0      1.55    
    IPC::Open3                0      1.22    
    POE::Filter::HTTP::Parser 1.06   1.08    
    Test::More                0.47   1.302199
    Test::POE::Client::TCP    1.24   1.26    

configure_requires:

    Module                    Need   Have    
    ------------------------- ------ --------
    ExtUtils::MakeMaker       0      7.70    


------------------------------
ENVIRONMENT AND OTHER CONTEXT
------------------------------

Environment variables:

    AUTOMATED_TESTING = 1
    PATH = /home/goku/perl5/bin:/usr/bin:/bin:/usr/sbin:/sbin:/usr/X11R6/bin:/usr/local/bin:/usr/local/sbin
    PERL5LIB = /home/goku/perl5/lib/perl5
    PERL5OPT = 
    PERL5_CPANPLUS_IS_RUNNING = 70302
    PERL5_CPAN_IS_RUNNING = 70302
    PERL5_CPAN_IS_RUNNING_IN_RECURSION = 64756,70302
    PERL_CR_SMOKER_CURRENT = POE-Component-Server-SimpleHTTP-2.30
    PERL_EXTUTILS_AUTOINSTALL = --defaultdeps
    PERL_LOCAL_LIB_ROOT = /home/goku/perl5
    PERL_MB_OPT = --install_base "/home/goku/perl5"
    PERL_MM_OPT = INSTALL_BASE=/home/goku/perl5
    PERL_MM_USE_DEFAULT = 1
    PERL_USE_UNSAFE_INC = 1
    SHELL = /bin/ksh
    TERM = xterm-256color

Perl special variables (and OS-specific diagnostics, for MSWin32):

    $^X = /usr/bin/perl
    $UID/$EUID = 1001 / 1001
    $GID = 1002 1002 1001
    $EGID = 1002 1002 1001

Perl module toolchain versions installed:

    Module              Have    
    ------------------- --------
    CPAN                2.36    
    CPAN::Meta          2.150010
    Cwd                 3.84    
    ExtUtils::CBuilder  0.280236
    ExtUtils::Command   7.70    
    ExtUtils::Install   2.20    
    ExtUtils::MakeMaker 7.70    
    ExtUtils::Manifest  1.75    
    ExtUtils::ParseXS   3.51    
    File::Spec          3.84    
    JSON                4.10    
    JSON::PP            4.17_01 
    Module::Build       0.4234  
    Module::Signature   n/a     
    Parse::CPAN::Meta   2.150010
    Test2               1.302199
    Test::Harness       3.49_01 
    Test::More          1.302199
    YAML                1.31    
    YAML::Syck          1.34    
    version             0.9932  


--

Summary of my perl5 (revision 5 version 36 subversion 3) configuration:
   
  Platform:
    osname=openbsd
    osvers=7.5
    archname=amd64-openbsd
    uname='openbsd'
    config_args='-dse -Dopenbsd_distribution=defined -Dmksymlinks'
    hint=recommended
    useposix=true
    d_sigaction=define
    useithreads=undef
    usemultiplicity=undef
    use64bitint=define
    use64bitall=define
    uselongdouble=undef
    usemymalloc=n
    default_inc_excludes_dot=define
  Compiler:
    cc='cc'
    ccflags ='-DNO_LOCALE_NUMERIC -DNO_LOCALE_COLLATE -fno-strict-aliasing -fno-delete-null-pointer-checks -pipe -fstack-protector-strong -I/usr/local/include'
    optimize='-O2'
    cppflags='-DBIG_TIME -DNO_LOCALE_NUMERIC -DNO_LOCALE_COLLATE -fno-strict-aliasing -fno-delete-null-pointer-checks -pipe -fstack-protector-strong -I/usr/local/include'
    ccversion=''
    gccversion='OpenBSD Clang 16.0.6'
    gccosandvers=''
    intsize=4
    longsize=8
    ptrsize=8
    doublesize=8
    byteorder=12345678
    doublekind=3
    d_longlong=define
    longlongsize=8
    d_longdbl=define
    longdblsize=16
    longdblkind=3
    ivtype='long'
    ivsize=8
    nvtype='double'
    nvsize=8
    Off_t='off_t'
    lseeksize=8
    alignbytes=8
    prototype=define
  Linker and Libraries:
    ld='cc'
    ldflags ='-Wl,-E  -fstack-protector-strong -L/usr/local/lib'
    libpth=/usr/lib /usr/lib/clang/16/lib
    libs=-lm -lc
    perllibs=-lm -lc
    libc=/usr/lib/libc.so.99.0
    so=so
    useshrplib=true
    libperl=libperl.so.23.0
    gnulibc_version=''
  Dynamic Linking:
    dlsrc=dl_dlopen.xs
    dlext=so
    d_dlsymun=undef
    ccdlflags='-Wl,-R/usr/libdata/perl5/amd64-openbsd/CORE'
    cccdlflags='-DPIC -fpic '
    lddlflags='-shared -fpic  -fstack-protector-strong -L/usr/local/lib'


Characteristics of this binary (from libperl): 
  Compile-time options:
    HAS_TIMES
    PERLIO_LAYERS
    PERL_COPY_ON_WRITE
    PERL_DONT_CREATE_GVSV
    PERL_MALLOC_WRAP
    PERL_OP_PARENT
    PERL_PRESERVE_IVUV
    USE_64_BIT_ALL
    USE_64_BIT_INT
    USE_LARGE_FILES
    USE_LOCALE
    USE_LOCALE_CTYPE
    USE_LOCALE_TIME
    USE_PERLIO
    USE_PERL_ATOF
  Built under openbsd
  %ENV:
    PERL5LIB="/home/goku/perl5/lib/perl5"
    PERL5OPT=""
    PERL5_CPANPLUS_IS_RUNNING="70302"
    PERL5_CPAN_IS_RUNNING="70302"
    PERL5_CPAN_IS_RUNNING_IN_RECURSION="64756,70302"
    PERL_CR_SMOKER_CURRENT="POE-Component-Server-SimpleHTTP-2.30"
    PERL_EXTUTILS_AUTOINSTALL="--defaultdeps"
    PERL_LOCAL_LIB_ROOT="/home/goku/perl5"
    PERL_MB_OPT="--install_base "/home/goku/perl5""
    PERL_MM_OPT="INSTALL_BASE=/home/goku/perl5"
    PERL_MM_USE_DEFAULT="1"
    PERL_USE_UNSAFE_INC="1"
  @INC:
    /home/goku/perl5/lib/perl5/amd64-openbsd
    /home/goku/perl5/lib/perl5
    /usr/local/libdata/perl5/site_perl/amd64-openbsd
    /usr/local/libdata/perl5/site_perl
    /usr/libdata/perl5/amd64-openbsd
    /usr/libdata/perl5
    .