Astro-Catalog v4.37 Perl 5 v5.41.2 x86_64-linux

Status
Pass
From
Andreas J. König (ANDK)
Dist
Astro-Catalog v4.37
Platform
Perl 5 v5.41.2 x86_64-linux
Date
2024-08-04 15:52:41
ID
94c18de6-5279-11ef-a5f4-bf0483b56732
This distribution has been tested as part of the CPAN Testers
project, supporting the Perl programming language.  See
http://wiki.cpantesters.org/ for more information or email
questions to cpan-testers-discuss@perl.org


--
Dear Graham Bell,

This is a computer-generated report for Astro-Catalog-4.37
on perl 5.41.2, created by CPAN-Reporter-1.2019.

Thank you for uploading your work to CPAN.  Congratulations!
All tests were successful.

Sections of this report:

    * Tester comments
    * Program output
    * Prerequisites
    * Environment and other context

------------------------------
TESTER COMMENTS
------------------------------

Additional comments from tester:

this report is from an automated smoke testing program
and was not reviewed by a human for accuracy

------------------------------
PROGRAM OUTPUT
------------------------------

Output from './Build test':

# Astro::Catalog::IO::VOTable can not locate Astro/VO/VOTable/Document.pm
t/1_compile.t ..... ok
t/2_astrom.t ...... ok
t/2_cluster.t ..... ok
t/2_findoff.t ..... ok
t/2_fitstable.t ... ok
t/2_gaiapick.t .... ok
t/2_jcmt.t ........ ok
t/2_jcmt_loose.t .. ok
t/2_northstar.t ... ok
t/2_ritmatch.t .... ok
t/2_sextractor.t .. ok
t/2_simple.t ...... ok
t/2_stl.t ......... ok
t/2_tst.t ......... ok
t/2_ukirtbs.t ..... ok
t/2_votable.t ..... skipped: Astro::VO::VOTable not installed
t/2_xy.t .......... ok
t/3_catalog.t ..... ok
t/3_item.t ........ ok
t/3_morphology.t .. ok
t/3_star.t ........ ok
t/4_cmc.t ......... ok
Use of uninitialized value in concatenation (.) or string at /tmp/loop_over_bdir-3549586-t5BEAx/Astro-Catalog-4.37-0/blib/lib/Astro/Catalog/Query/GSC.pm line 200.
Use of uninitialized value in concatenation (.) or string at /tmp/loop_over_bdir-3549586-t5BEAx/Astro-Catalog-4.37-0/blib/lib/Astro/Catalog/Query/GSC.pm line 200.
Use of uninitialized value in concatenation (.) or string at /tmp/loop_over_bdir-3549586-t5BEAx/Astro-Catalog-4.37-0/blib/lib/Astro/Catalog/Query/GSC.pm line 200.
Use of uninitialized value in concatenation (.) or string at /tmp/loop_over_bdir-3549586-t5BEAx/Astro-Catalog-4.37-0/blib/lib/Astro/Catalog/Query/GSC.pm line 203.
Use of uninitialized value in concatenation (.) or string at /tmp/loop_over_bdir-3549586-t5BEAx/Astro-Catalog-4.37-0/blib/lib/Astro/Catalog/Query/GSC.pm line 203.
Use of uninitialized value in concatenation (.) or string at /tmp/loop_over_bdir-3549586-t5BEAx/Astro-Catalog-4.37-0/blib/lib/Astro/Catalog/Query/GSC.pm line 203.
Unable to find plausible coordinate in string '' at /home/sand/src/perl/repoperls/installed-perls/host/k93jammy/v5.41.2/6567/lib/site_perl/5.41.2/Astro/Coords/Equatorial.pm line 149.
Unable to find plausible coordinate in string '' at /home/sand/src/perl/repoperls/installed-perls/host/k93jammy/v5.41.2/6567/lib/site_perl/5.41.2/Astro/Coords/Equatorial.pm line 151.
# Cannot connect to ESO GSC: Coordinates must be an Astro::Coords object at /tmp/loop_over_bdir-3549586-t5BEAx/Astro-Catalog-4.37-0/blib/lib/Astro/Catalog/Query/GSC.pm line 205.
t/4_gsc.t ......... ok
# Error 500: Failed to establish network connection using url http://scully.harvard.edu/~cgi/MPCheck.COM?mot=h&radius=300&ps=n&sort=d&needed=f&TextArea=&limit=20&month=3&which=pos&oc=500&ra=07+13+42&tmot=s&day=1.87&year=2004&decl=-14+02+00&type=p at t/4_mpc.t line 99.
t/4_mpc.t ......... ok
# Cannot connect to Sesame: Service description 'http://cdsws.u-strasbg.fr/axis/services/Sesame?wsdl' can't be loaded: 500 Can't connect to cdsws.u-strasbg.fr:80 (Name or service not known)
# Cannot connect to Sesame: Service description 'http://cdsws.u-strasbg.fr/axis/services/Sesame?wsdl' can't be loaded: 500 Can't connect to cdsws.u-strasbg.fr:80 (Name or service not known)
t/4_sesame.t ...... ok
# Can not construct Skycat client: unable to find a remote service named gsc@eso at t/4_skycat_gsc.t line 107.
t/4_skycat_gsc.t .. ok
# Cannot connect to USNO-A2: Error 404: Failed to establish network connection using url http://archive.eso.org/skycat/servers/usnoa_res?sort=ra&object=HT Cas&format=1&magfaint=100&nout=2000&magbright=0&radmax=1 at t/4_usnoa2.t line 152.
t/4_usnoa2.t ...... ok
All tests successful.
Files=27, Tests=3471, 20 wallclock secs ( 0.24 usr  0.06 sys + 15.26 cusr  2.65 csys = 18.21 CPU)
Result: PASS

------------------------------
PREREQUISITES
------------------------------

Prerequisite modules loaded:

requires:

    Module                    Need    Have     
    ------------------------- ------- ---------
    Astro::Coords             0.12    0.21     
    Astro::Flux               0.01    0.01     
    Astro::Telescope          0.5     0.71     
    Carp                      1.01    1.54     
    Class::Struct             0.63    0.68     
    Data::Dumper              2.12    2.190    
    DateTime                  0       1.65     
    DateTime::Format::ISO8601 0       0.16     
    File::Spec                0.84    3.92     
    File::Temp                0.14    0.2311   
    LWP                       5.53    6.77     
    Misc::Quality             0.01    0.01     
    Net::Domain               2.13    3.15     
    Number::Uncertainty       0.01    1.4      
    Pod::Usage                1.14    2.03     
    Scalar::Util              1.14    1.63     
    SOAP::Lite                0       1.27     
    Time::Piece               1.08    1.3401_01

build_requires:

    Module                    Need    Have     
    ------------------------- ------- ---------
    Test::More                0       1.302199 

configure_requires:

    Module                    Need    Have     
    ------------------------- ------- ---------
    Module::Build             0.3     0.4234   

opt_requires:

    Module                    Need    Have     
    ------------------------- ------- ---------
    Astro::FITS::CFITSIO      1.03    1.18     
    Astro::VEX                0       0.001    
  ! Astro::VO::VOTable        0.9     n/a      
    Text::CSV                 0       2.04     
    Tk                        804.029 804.036  


------------------------------
ENVIRONMENT AND OTHER CONTEXT
------------------------------

Environment variables:

    AUTOMATED_TESTING = 1
    LANG = en_US.UTF-8
    LC_ADDRESS = de_DE.UTF-8
    LC_IDENTIFICATION = de_DE.UTF-8
    LC_MEASUREMENT = de_DE.UTF-8
    LC_MONETARY = de_DE.UTF-8
    LC_NAME = de_DE.UTF-8
    LC_NUMERIC = de_DE.UTF-8
    LC_PAPER = de_DE.UTF-8
    LC_TELEPHONE = de_DE.UTF-8
    LC_TIME = de_DE.UTF-8
    PATH = /home/sand/bin:/usr/local/bin:/usr/local/sbin:/usr/sbin:/usr/bin:/sbin:/bin:/usr/games:/usr/local/games:/snap/bin:/usr/local/perl/bin:/usr/X11/bin
    PERL = /tmp/basesmoker-reloperl-ZVfA/bin/perl
    PERL5LIB = /tmp/loop_over_bdir-3549586-t5BEAx/Business-Shipping-DataFiles-1.02-0/blib/arch:/tmp/loop_over_bdir-3549586-t5BEAx/Business-Shipping-DataFiles-1.02-0/blib/lib:/tmp/loop_over_bdir-3549586-t5BEAx/shishi-0.0.1-0/blib/arch:/tmp/loop_over_bdir-3549586-t5BEAx/shishi-0.0.1-0/blib/lib:/tmp/loop_over_bdir-3549586-t5BEAx/ProjectBuilder-0.14.1-0/blib/arch:/tmp/loop_over_bdir-3549586-t5BEAx/ProjectBuilder-0.14.1-0/blib/lib:/tmp/loop_over_bdir-3549586-t5BEAx/js-app-0.13-0/blib/arch:/tmp/loop_over_bdir-3549586-t5BEAx/js-app-0.13-0/blib/lib:/tmp/loop_over_bdir-3549586-t5BEAx/Lemonldap-NG-Cli-0.2-0/blib/arch:/tmp/loop_over_bdir-3549586-t5BEAx/Lemonldap-NG-Cli-0.2-0/blib/lib:/tmp/loop_over_bdir-3549586-t5BEAx/Net-Async-WebService-lxd-0.03-0/blib/arch:/tmp/loop_over_bdir-3549586-t5BEAx/Net-Async-WebService-lxd-0.03-0/blib/lib
    PERL5OPT = 
    PERL5_CPANPLUS_IS_RUNNING = 3549594
    PERL5_CPAN_IS_RUNNING = 3549594
    PERL_CANARY_STABILITY_NOPROMPT = 1
    PERL_MM_USE_DEFAULT = 1
    PERL_USE_UNSAFE_INC = 1
    SHELL = /usr/bin/zsh
    TERM = screen

Perl special variables (and OS-specific diagnostics, for MSWin32):

    $^X = /tmp/basesmoker-reloperl-ZVfA/bin/perl
    $UID/$EUID = 1005 / 1005
    $GID = 1005 1005
    $EGID = 1005 1005

Perl module toolchain versions installed:

    Module              Have    
    ------------------- --------
    CPAN                2.36    
    CPAN::Meta          2.150010
    Cwd                 3.92    
    ExtUtils::CBuilder  0.280240
    ExtUtils::Command   7.70    
    ExtUtils::Install   2.22    
    ExtUtils::MakeMaker 7.70    
    ExtUtils::Manifest  1.75    
    ExtUtils::ParseXS   3.52    
    File::Spec          3.92    
    JSON                4.10    
    JSON::PP            4.16    
    Module::Build       0.4234  
    Module::Signature   0.88    
    Parse::CPAN::Meta   2.150010
    Test2               1.302199
    Test::Harness       3.48    
    Test::More          1.302199
    YAML                1.31    
    YAML::Syck          1.34    
    version             0.9932  


--

Summary of my perl5 (revision 5 version 41 subversion 2) configuration:
  Commit id: bcb5884b9b0ae1345ac74420bacb865ba11baab3
  Platform:
    osname=linux
    osvers=6.5.0-41-generic
    archname=x86_64-linux
    uname='linux k93jammy 6.5.0-41-generic #41~22.04.2-ubuntu smp preempt_dynamic mon jun 3 11:32:55 utc 2 x86_64 x86_64 x86_64 gnulinux '
    config_args='-Dprefix=/home/sand/src/perl/repoperls/installed-perls/host/k93jammy/v5.41.2/6567 -Dmyhostname=k93jammy -Dinstallusrbinperl=n -Uversiononly -Dusedevel -des -Ui_db -Dlibswanted=cl pthread socket inet nsl gdbm dbm malloc dl ld sun m crypt sec util c cposix posix ucb BSD gdbm_compat -Uuseithreads -Uuselongdouble -DEBUGGING=-g'
    hint=recommended
    useposix=true
    d_sigaction=define
    useithreads=undef
    usemultiplicity=undef
    use64bitint=define
    use64bitall=define
    uselongdouble=undef
    usemymalloc=n
    default_inc_excludes_dot=define
  Compiler:
    cc='cc'
    ccflags ='-fwrapv -fno-strict-aliasing -pipe -fstack-protector-strong -I/usr/local/include -D_LARGEFILE_SOURCE -D_FILE_OFFSET_BITS=64'
    optimize='-O2 -g'
    cppflags='-fwrapv -fno-strict-aliasing -pipe -fstack-protector-strong -I/usr/local/include'
    ccversion=''
    gccversion='11.4.0'
    gccosandvers=''
    intsize=4
    longsize=8
    ptrsize=8
    doublesize=8
    byteorder=12345678
    doublekind=3
    d_longlong=define
    longlongsize=8
    d_longdbl=define
    longdblsize=16
    longdblkind=3
    ivtype='long'
    ivsize=8
    nvtype='double'
    nvsize=8
    Off_t='off_t'
    lseeksize=8
    alignbytes=8
    prototype=define
  Linker and Libraries:
    ld='cc'
    ldflags =' -fstack-protector-strong -L/usr/local/lib'
    libpth=/usr/local/lib /usr/lib/x86_64-linux-gnu /usr/lib /usr/lib64
    libs=-lpthread -lnsl -ldl -lm -lcrypt -lutil -lc
    perllibs=-lpthread -lnsl -ldl -lm -lcrypt -lutil -lc
    libc=/lib/x86_64-linux-gnu/libc.so.6
    so=so
    useshrplib=false
    libperl=libperl.a
    gnulibc_version='2.35'
  Dynamic Linking:
    dlsrc=dl_dlopen.xs
    dlext=so
    d_dlsymun=undef
    ccdlflags='-Wl,-E'
    cccdlflags='-fPIC'
    lddlflags='-shared -O2 -g -L/usr/local/lib -fstack-protector-strong'


Characteristics of this binary (from libperl): 
  Compile-time options:
    HAS_LONG_DOUBLE
    HAS_STRTOLD
    HAS_TIMES
    PERLIO_LAYERS
    PERL_COPY_ON_WRITE
    PERL_DONT_CREATE_GVSV
    PERL_HASH_FUNC_SIPHASH13
    PERL_HASH_USE_SBOX32
    PERL_MALLOC_WRAP
    PERL_OP_PARENT
    PERL_PRESERVE_IVUV
    PERL_USE_DEVEL
    PERL_USE_SAFE_PUTENV
    USE_64_BIT_ALL
    USE_64_BIT_INT
    USE_LARGE_FILES
    USE_LOCALE
    USE_LOCALE_COLLATE
    USE_LOCALE_CTYPE
    USE_LOCALE_NUMERIC
    USE_LOCALE_TIME
    USE_PERLIO
    USE_PERL_ATOF
  Built under linux
  Compiled at Jul 21 2024 18:27:00
  %ENV:
    PERL="/tmp/basesmoker-reloperl-ZVfA/bin/perl"
    PERL5LIB="/tmp/loop_over_bdir-3549586-t5BEAx/Business-Shipping-DataFiles-1.02-0/blib/arch:/tmp/loop_over_bdir-3549586-t5BEAx/Business-Shipping-DataFiles-1.02-0/blib/lib:/tmp/loop_over_bdir-3549586-t5BEAx/shishi-0.0.1-0/blib/arch:/tmp/loop_over_bdir-3549586-t5BEAx/shishi-0.0.1-0/blib/lib:/tmp/loop_over_bdir-3549586-t5BEAx/ProjectBuilder-0.14.1-0/blib/arch:/tmp/loop_over_bdir-3549586-t5BEAx/ProjectBuilder-0.14.1-0/blib/lib:/tmp/loop_over_bdir-3549586-t5BEAx/js-app-0.13-0/blib/arch:/tmp/loop_over_bdir-3549586-t5BEAx/js-app-0.13-0/blib/lib:/tmp/loop_over_bdir-3549586-t5BEAx/Lemonldap-NG-Cli-0.2-0/blib/arch:/tmp/loop_over_bdir-3549586-t5BEAx/Lemonldap-NG-Cli-0.2-0/blib/lib:/tmp/loop_over_bdir-3549586-t5BEAx/Net-Async-WebService-lxd-0.03-0/blib/arch:/tmp/loop_over_bdir-3549586-t5BEAx/Net-Async-WebService-lxd-0.03-0/blib/lib"
    PERL5OPT=""
    PERL5_CPANPLUS_IS_RUNNING="3549594"
    PERL5_CPAN_IS_RUNNING="3549594"
    PERL_CANARY_STABILITY_NOPROMPT="1"
    PERL_MM_USE_DEFAULT="1"
    PERL_USE_UNSAFE_INC="1"
  @INC:
    /tmp/loop_over_bdir-3549586-t5BEAx/Business-Shipping-DataFiles-1.02-0/blib/arch
    /tmp/loop_over_bdir-3549586-t5BEAx/Business-Shipping-DataFiles-1.02-0/blib/lib
    /tmp/loop_over_bdir-3549586-t5BEAx/shishi-0.0.1-0/blib/arch
    /tmp/loop_over_bdir-3549586-t5BEAx/shishi-0.0.1-0/blib/lib
    /tmp/loop_over_bdir-3549586-t5BEAx/ProjectBuilder-0.14.1-0/blib/arch
    /tmp/loop_over_bdir-3549586-t5BEAx/ProjectBuilder-0.14.1-0/blib/lib
    /tmp/loop_over_bdir-3549586-t5BEAx/js-app-0.13-0/blib/arch
    /tmp/loop_over_bdir-3549586-t5BEAx/js-app-0.13-0/blib/lib
    /tmp/loop_over_bdir-3549586-t5BEAx/Lemonldap-NG-Cli-0.2-0/blib/arch
    /tmp/loop_over_bdir-3549586-t5BEAx/Lemonldap-NG-Cli-0.2-0/blib/lib
    /tmp/loop_over_bdir-3549586-t5BEAx/Net-Async-WebService-lxd-0.03-0/blib/arch
    /tmp/loop_over_bdir-3549586-t5BEAx/Net-Async-WebService-lxd-0.03-0/blib/lib
    /home/sand/src/perl/repoperls/installed-perls/host/k93jammy/v5.41.2/6567/lib/site_perl/5.41.2/x86_64-linux
    /home/sand/src/perl/repoperls/installed-perls/host/k93jammy/v5.41.2/6567/lib/site_perl/5.41.2
    /home/sand/src/perl/repoperls/installed-perls/host/k93jammy/v5.41.2/6567/lib/5.41.2/x86_64-linux
    /home/sand/src/perl/repoperls/installed-perls/host/k93jammy/v5.41.2/6567/lib/5.41.2
    .