Plack-Middleware-AccessLog-Structured v0.002000 Perl 5 v5.42.0 RC2 aarch64-freebsd

Status
Pass
From
Slaven Rezić
Dist
Plack-Middleware-AccessLog-Structured v0.002000
Platform
Perl 5 v5.42.0 RC2 aarch64-freebsd
Date
2025-07-03 06:25:57
ID
94c7a380-57d6-11f0-a6db-4e406e8775ea
This distribution has been tested as part of the CPAN Testers
project, supporting the Perl programming language.  See
http://wiki.cpantesters.org/ for more information or email
questions to cpan-testers-discuss@perl.org


--
Dear Manfred Stock,

This is a computer-generated report for Plack-Middleware-AccessLog-Structured-0.002000
on perl 5.42.0, created by CPAN-Reporter-1.2020.

Thank you for uploading your work to CPAN.  Congratulations!
All tests were successful.

Sections of this report:

    * Tester comments
    * Program output
    * Prerequisites
    * Environment and other context

------------------------------
TESTER COMMENTS
------------------------------

Additional comments from tester:

none provided

------------------------------
PROGRAM OUTPUT
------------------------------

Output from './Build test':

t/00-compile.t .............................. ok
# 
# 
# Generated by Dist::Zilla::Plugin::ReportVersions::Tiny v1.10
# perl: 5.042000 (wanted 5.006) on freebsd from /usr/perl5.42.0-RC2/bin/perl
# 
# Carp                                          => 1.54       (want any version)
# File::Spec                                    => 3.94       (want any version)
# HTTP::Request::Common                         => 7.00       (want any version)
# IO::Handle                                    => 1.55       (want any version)
# IPC::Open3                                    => 1.24       (want any version)
# JSON                                          => 4.10       (want any version)
# MRO::Compat                                   => 0.15       (want any version)
# Module::Build                                 => 0.4234     (want 0.28)   
# Net::Domain                                   => 3.15       (want any version)
# Plack::Middleware                             => <undef>    (want any version)
# Plack::Test                                   => <undef>    (want any version)
# Plack::Util::Accessor                         => <undef>    (want any version)
# Test::Class                                   => 0.52       (want any version)
# Test::Deep                                    => 1.205      (want any version)
# Test::Exception                               => 0.43       (want any version)
# Test::More                                    => 1.302214   (want 0.88)   
# Time::Moment                                  => 0.44       (want any version)
# lib                                           => 0.65       (want any version)
# parent                                        => 0.244      (want any version)
# strict                                        => 1.14       (want any version)
# warnings                                      => 1.74       (want any version)
# 
# Thanks for using my code.  I hope it works for you.
# If not, please try and include this output in the bug report.
# That will help me reproduce the issue and solve your problem.
# 
t/000-report-versions-tiny.t ................ ok
t/author-critic.t ........................... skipped: these tests are for testing by the author
t/author-eol.t .............................. skipped: these tests are for testing by the author
t/author-pod-coverage.t ..................... skipped: these tests are for testing by the author
t/author-pod-syntax.t ....................... skipped: these tests are for testing by the author
t/plack.middleware.access-log.structured.t .. ok
t/release-cpan-changes.t .................... skipped: these tests are for release candidate testing
t/release-distmeta.t ........................ skipped: these tests are for release candidate testing
All tests successful.
Files=9, Tests=20,  1 wallclock secs ( 0.02 usr  0.05 sys +  0.30 cusr  0.16 csys =  0.54 CPU)
Result: PASS

------------------------------
PREREQUISITES
------------------------------

Prerequisite modules loaded:

requires:

    Module                Need  Have    
    --------------------- ----- --------
    Carp                  0     1.54    
    JSON                  0     4.10    
    MRO::Compat           0     0.15    
    Net::Domain           0     3.15    
    parent                0     0.244   
    Plack::Middleware     0     0       
    Plack::Util::Accessor 0     0       
    strict                0     1.14    
    Time::Moment          0     0.44    
    warnings              0     1.74    

build_requires:

    Module                Need  Have    
    --------------------- ----- --------
    File::Spec            0     3.94    
    HTTP::Request::Common 0     7.00    
    IO::Handle            0     1.55    
    IPC::Open3            0     1.24    
    lib                   0     0.65    
    Module::Build         0.28  0.4234  
    perl                  5.006 5.042000
    Plack::Test           0     0       
    Test::Class           0     0.52    
    Test::Deep            0     1.205   
    Test::Exception       0     0.43    
    Test::More            0.88  1.302214

configure_requires:

    Module                Need  Have    
    --------------------- ----- --------
    Module::Build         0.28  0.4234  


------------------------------
ENVIRONMENT AND OTHER CONTEXT
------------------------------

Environment variables:

    LANG = C.UTF-8
    LC_ALL = de_DE.UTF-8
    PATH = /usr/local/bin:/usr/bin:/bin:/usr/local/sbin:/usr/sbin:/sbin:/home/cpansand/bin/freebsd14.1:/home/cpansand/bin/sh:/home/cpansand/bin:/usr/games:/home/cpansand/devel:/home/eserte/src/srezic-misc/scripts
    PERL5LIB = /home/cpansand/.cpan/build/2025070222/Net-ISP-Balance-1.31-0/blib/arch:/home/cpansand/.cpan/build/2025070222/Net-ISP-Balance-1.31-0/blib/lib
    PERL5OPT = 
    PERL5_CPANPLUS_IS_RUNNING = 17301
    PERL5_CPAN_IS_RUNNING = 17301
    PERL5_CPAN_IS_RUNNING_IN_RECURSION = 92810,17301
    PERLDOC = -MPod::Perldoc::ToTextOverstrike
    PERL_BATCH = yes
    PERL_CANARY_STABILITY_NOPROMPT = 1
    PERL_CPAN_REPORTER_CONFIG = /var/tmp/cpansmoker-1023/2025070214/cpanreporter_001_config.ini
    PERL_EXTUTILS_AUTOINSTALL = --defaultdeps
    PERL_PARALLEL_SMOKER = yes
    PERL_USE_UNSAFE_INC = 1
    SHELL = /usr/local/bin/zsh
    TERM = screen
    TMPDIR = /var/tmp/cpansmoker-1023/2025070214

Perl special variables (and OS-specific diagnostics, for MSWin32):

    $^X = /usr/perl5.42.0-RC2/bin/perl
    $UID/$EUID = 1023 / 1023
    $GID = 1023 1023
    $EGID = 1023 1023

Perl module toolchain versions installed:

    Module              Have    
    ------------------- --------
    CPAN                2.38    
    CPAN::Meta          2.150010
    Cwd                 3.94    
    ExtUtils::CBuilder  0.280242
    ExtUtils::Command   7.76    
    ExtUtils::Install   2.22    
    ExtUtils::MakeMaker 7.76    
    ExtUtils::Manifest  1.75    
    ExtUtils::ParseXS   3.57    
    File::Spec          3.94    
    JSON                4.10    
    JSON::PP            4.16    
    Module::Build       0.4234  
    Module::Signature   n/a     
    Parse::CPAN::Meta   2.150010
    Test2               1.302214
    Test::Harness       3.52    
    Test::More          1.302214
    YAML                1.31    
    YAML::Syck          1.34    
    version             0.9933  


--

Summary of my perl5 (revision 5 version 42 subversion 0) configuration:
   
  Platform:
    osname=freebsd
    osvers=14.3-stable
    archname=aarch64-freebsd
    uname='freebsd cloud9.bbbike.org 14.3-stable freebsd 14.3-stable stable14-n271785-fad4064226b2 generic arm64 '
    config_args='-ds -e -Dprefix=/usr/perl5.42.0-RC2 -Uinstallusrbinperl -Dcf_email=srezic@cpan.org -Doptimize=-O2 -pipe'
    hint=recommended
    useposix=true
    d_sigaction=define
    useithreads=undef
    usemultiplicity=undef
    use64bitint=define
    use64bitall=define
    uselongdouble=undef
    usemymalloc=n
    default_inc_excludes_dot=define
  Compiler:
    cc='cc'
    ccflags ='-DHAS_FPSETMASK -DHAS_FLOATINGPOINT_H -DNO_POSIX_2008_LOCALE -fno-strict-aliasing -pipe -fstack-protector-strong -I/usr/local/include'
    optimize='-O2 -pipe'
    cppflags='-DHAS_FPSETMASK -DHAS_FLOATINGPOINT_H -DNO_POSIX_2008_LOCALE -fno-strict-aliasing -pipe -fstack-protector-strong -I/usr/local/include'
    ccversion=''
    gccversion='FreeBSD Clang 19.1.7 (https://github.com/llvm/llvm-project.git llvmorg-19.1.7-0-gcd708029e0b2)'
    gccosandvers=''
    intsize=4
    longsize=8
    ptrsize=8
    doublesize=8
    byteorder=12345678
    doublekind=3
    d_longlong=define
    longlongsize=8
    d_longdbl=define
    longdblsize=16
    longdblkind=1
    ivtype='long'
    ivsize=8
    nvtype='double'
    nvsize=8
    Off_t='off_t'
    lseeksize=8
    alignbytes=8
    prototype=define
  Linker and Libraries:
    ld='cc'
    ldflags ='-Wl,-E  -fstack-protector-strong -L/usr/local/lib'
    libpth=/usr/lib /usr/local/lib /usr/lib/clang/19/lib
    libs=-lpthread -lgdbm -ldl -lm -lcrypt -lutil -lc
    perllibs=-lpthread -ldl -lm -lcrypt -lutil -lc
    libc=
    so=so
    useshrplib=false
    libperl=libperl.a
    gnulibc_version=''
  Dynamic Linking:
    dlsrc=dl_dlopen.xs
    dlext=so
    d_dlsymun=undef
    ccdlflags=' '
    cccdlflags='-DPIC -fPIC'
    lddlflags='-shared  -L/usr/local/lib -fstack-protector-strong'


Characteristics of this binary (from libperl): 
  Compile-time options:
    HAS_LONG_DOUBLE
    HAS_STRTOLD
    HAS_TIMES
    PERLIO_LAYERS
    PERL_COPY_ON_WRITE
    PERL_DONT_CREATE_GVSV
    PERL_HASH_FUNC_SIPHASH13
    PERL_HASH_USE_SBOX32
    PERL_MALLOC_WRAP
    PERL_OP_PARENT
    PERL_PRESERVE_IVUV
    PERL_USE_SAFE_PUTENV
    USE_64_BIT_ALL
    USE_64_BIT_INT
    USE_LARGE_FILES
    USE_LOCALE
    USE_LOCALE_COLLATE
    USE_LOCALE_CTYPE
    USE_LOCALE_NUMERIC
    USE_LOCALE_TIME
    USE_PERLIO
    USE_PERL_ATOF
  Locally applied patches:
    RC2
  Built under freebsd
  Compiled at Jun 28 2025 11:27:41
  %ENV:
    PERL5LIB="/home/cpansand/.cpan/build/2025070222/Net-ISP-Balance-1.31-0/blib/arch:/home/cpansand/.cpan/build/2025070222/Net-ISP-Balance-1.31-0/blib/lib"
    PERL5OPT=""
    PERL5_CPANPLUS_IS_RUNNING="17301"
    PERL5_CPAN_IS_RUNNING="17301"
    PERL5_CPAN_IS_RUNNING_IN_RECURSION="92810,17301"
    PERLDOC="-MPod::Perldoc::ToTextOverstrike"
    PERL_BATCH="yes"
    PERL_CANARY_STABILITY_NOPROMPT="1"
    PERL_CPAN_REPORTER_CONFIG="/var/tmp/cpansmoker-1023/2025070214/cpanreporter_001_config.ini"
    PERL_EXTUTILS_AUTOINSTALL="--defaultdeps"
    PERL_PARALLEL_SMOKER="yes"
    PERL_USE_UNSAFE_INC="1"
  @INC:
    /home/cpansand/.cpan/build/2025070222/Net-ISP-Balance-1.31-0/blib/arch
    /home/cpansand/.cpan/build/2025070222/Net-ISP-Balance-1.31-0/blib/lib
    /usr/perl5.42.0-RC2/lib/site_perl/5.42.0/aarch64-freebsd
    /usr/perl5.42.0-RC2/lib/site_perl/5.42.0
    /usr/perl5.42.0-RC2/lib/5.42.0/aarch64-freebsd
    /usr/perl5.42.0-RC2/lib/5.42.0
    .