CPAN-SQLite v0.215 Perl 5 v5.14.1 x86_64-linux-thread-multi
- Status
- Pass
- From
- Nigel Horne
- Dist
-
CPAN-SQLite v0.215
- Platform
- Perl 5 v5.14.1 x86_64-linux-thread-multi
- Date
- 2019-01-24 00:04:12
- ID
- 94ca5968-1f6b-11e9-b3bd-8a932d9bfb17
This distribution has been tested as part of the CPAN Testers
project, supporting the Perl programming language. See
http://wiki.cpantesters.org/ for more information or email
questions to cpan-testers-discuss@perl.org
--
Dear Serguei Trouchelle,
This is a computer-generated report for CPAN-SQLite-0.215
on perl 5.14.1, created by CPAN-Reporter-1.2018.
Thank you for uploading your work to CPAN. Congratulations!
All tests were successful.
Sections of this report:
* Tester comments
* Program output
* Prerequisites
* Environment and other context
------------------------------
TESTER COMMENTS
------------------------------
Additional comments from tester:
this report is from an automated smoke testing program
and was not reviewed by a human for accuracy
------------------------------
PROGRAM OUTPUT
------------------------------
Output from '/usr/bin/make test':
PERL_DL_NONLAZY=1 "/home/njh/perl5/perlbrew/perls/perl-5.14.1/bin/perl" "-MExtUtils::Command::MM" "-MTest::Harness" "-e" "undef *Test::Harness::Switches; test_harness(0, 'blib/lib', 'blib/arch')" t/*.t
# Listing %INC
# AutoLoader 5.71
# B 1.29
# CPAN 2.16
# CPAN::Author 5.5002
# CPAN::Bundle 5.5002
# CPAN::CacheMgr 5.5002
# CPAN::Complete 5.5001
# CPAN::Debug 5.5001
# CPAN::DeferredCode 5.50
# CPAN::DistnameInfo 0.12
# CPAN::Distribution 2.16
# CPAN::Distroprefs 6.0001
# CPAN::Distrostatus 5.5
# CPAN::Exception::RecursiveDependency 5.5001
# CPAN::Exception::yaml_not_installed 5.5
# CPAN::Exception::yaml_process_error 5.5
# CPAN::FTP 5.5008
# CPAN::FTP::netrc 1.01
# CPAN::HTTP::Credentials 1.9601
# CPAN::HandleConfig 5.5008
# CPAN::Index 2.12
# CPAN::InfoObj 5.5
# CPAN::LWP::UserAgent 1.9601
# CPAN::Module 5.5003
# CPAN::Prompt 5.5
# CPAN::Queue 5.5002
# CPAN::Shell 5.5006
# CPAN::Tarzip 5.5012
# CPAN::URL 5.5
# CPAN::Version 5.5003
# Carp 1.3301
# Carp::Heavy 1.3301
# Compress::Raw::Zlib 2.033
# Compress::Zlib 2.033
# Config undef
# Cwd 3.47
# DBI 1.632
# DirHandle 1.04
# DynaLoader 1.13
# Encode 2.85
# Encode::Alias 2.20
# Encode::Config 2.05
# Encode::Encoding 2.07
# English 1.04
# Errno 1.13
# Exporter 5.70
# Exporter::Heavy 5.70
# ExtUtils::Liblist 7.22
# ExtUtils::Liblist::Kid 7.22
# ExtUtils::MM 7.22
# ExtUtils::MM_Any 7.22
# ExtUtils::MM_Unix 7.22
# ExtUtils::MY 7.22
# ExtUtils::MakeMaker 7.22
# ExtUtils::MakeMaker::Config 7.22
# ExtUtils::MakeMaker::Locale 7.22
# ExtUtils::MakeMaker::version 7.22
# Fcntl 1.11
# File::Basename 2.82
# File::Copy 2.21
# File::Find 1.19
# File::Glob 1.12
# File::GlobMapper 1.000
# File::HomeDir 1.004
# File::HomeDir::Driver 1.004
# File::HomeDir::FreeDesktop 1.004
# File::HomeDir::Unix 1.004
# File::Path 2.08_01
# File::Spec 3.47
# File::Spec::Functions 3.47
# File::Spec::Unix 3.47
# File::Which 1.09
# FileHandle 2.02
# Getopt::Long 2.38
# HTTP::Tiny 0.012
# I18N::Langinfo 0.08
# IO 1.25_04
# IO::Compress::Adapter::Deflate 2.033
# IO::Compress::Base 2.033
# IO::Compress::Base::Common 2.033
# IO::Compress::Gzip 2.033
# IO::Compress::Gzip::Constants 2.033
# IO::Compress::RawDeflate 2.033
# IO::Compress::Zlib::Extra 2.033
# IO::File 1.15
# IO::Handle 1.31
# IO::Seekable 1.1
# IO::Socket 1.32
# IO::Socket::INET 1.31
# IO::Socket::UNIX 1.23
# IO::Uncompress::Adapter::Inflate 2.033
# IO::Uncompress::Base 2.033
# IO::Uncompress::Gunzip 2.033
# IO::Uncompress::RawInflate 2.033
# List::Util 1.41
# Opcode 1.18
# Safe 2.29
# Scalar::Util 1.41
# SelectSaver 1.02
# Socket 2.021
# Symbol 1.07
# Sys::Hostname 1.16
# Text::ParseWords 3.27
# Text::Tabs 2009.0305
# Text::Wrap 2009.0305
# Tie::Hash::NamedCapture 0.08
# XSLoader 0.22
# base 2.18
# bytes 1.04
# constant 1.21
# feature 1.20
# lib 0.63
# overload 1.13
# parent 0.225
# re 0.18
# strict 1.04
# subs 1.00
# utf8 1.09
# vars 1.02
# version 0.88
# warnings 1.12
# warnings::register 1.02
t/00-all_prereqs.t ............... ok
t/00-compile.t ................... ok
#
# Versions for all modules listed in MYMETA.json (including optional ones):
#
# === Configure Requires ===
#
# Module Want Have
# ------------------- ---- ----
# ExtUtils::MakeMaker any 7.22
#
# === Build Requires ===
#
# Module Want Have
# ------------------- ---- ----
# ExtUtils::MakeMaker any 7.22
#
# === Test Requires ===
#
# Module Want Have
# ------------------- ---- --------
# CPAN::HandleConfig any 5.5008
# CPAN::Version any 5.5003
# Carp any 1.3301
# DBD::SQLite any 1.44
# ExtUtils::MakeMaker any 7.22
# File::Copy any 2.21
# File::Spec any 3.47
# FindBin any 1.50
# IO::Handle any 1.31
# IPC::Open3 any 1.09
# Test::Memory::Cycle any 1.06
# Test::More 0.94 1.302086
# base any 2.18
# lib any 0.63
#
# === Test Recommends ===
#
# Module Want Have
# ---------- -------- --------
# CPAN::Meta 2.120900 2.150005
#
# === Runtime Requires ===
#
# Module Want Have
# --------------------- ---- -------
# Archive::Tar 1.54 2.10
# CPAN any 2.16
# CPAN::DistnameInfo 0.09 0.12
# CPAN::Index 1.93 2.12
# Compress::Zlib any 2.033
# Cwd any 3.47
# DBD::SQLite 1.27 1.44
# DBI any 1.632
# English any 1.04
# Exporter any 5.70
# File::Basename any 2.82
# File::Find any 1.19
# File::HomeDir any 1.004
# File::Path any 2.08_01
# File::Spec any 3.47
# File::Spec::Functions any 3.47
# Getopt::Long any 2.38
# HTTP::Tiny any 0.012
# IO::Zlib any 1.10
# Safe any 2.29
# Scalar::Util any 1.41
# Test::Harness 3.31 3.36
# constant any 1.21
# parent any 0.225
# strict any 1.04
# utf8 any 1.09
# warnings any 1.12
#
t/00-report-prereqs.t ............ ok
# Testing with Perl 5.014001, /home/njh/perl5/perlbrew/perls/perl-5.14.1/bin/perl
# CPAN version is 2.16
# CPAN::DistnameInfo version is 0.12
# CPAN::HandleConfig version is 5.5008
# CPAN::Version version is 5.5003
# Carp version is 1.3301
# Compress::Zlib version is 2.033
# Cwd version is 3.47
# DBD::SQLite version is 1.44
# DBI version is 1.632
# English version is 1.04
# Exporter version is 5.70
# ExtUtils::MakeMaker version is 7.22
# File::Basename version is 2.82
# File::Copy version is 2.21
# File::Find version is 1.19
# File::HomeDir version is 1.004
# File::Path version is 2.08_01
# File::Spec version is 3.47
# File::Spec::Functions version is 3.47
# FindBin version is 1.50
# Getopt::Long version is 2.38
# HTTP::Tiny version is 0.012
# IO::Handle version is 1.31
# IPC::Open3 version is 1.09
# Safe version is 2.29
# Scalar::Util version is 1.41
# Test::Memory::Cycle version is 1.06
# Test::More version is 1.302086
# base version is 2.18
# constant version is 1.21
# lib version is 0.63
# parent version is 0.225
# strict version is 1.04
# utf8 version is 1.09
# warnings version is 1.12
t/000-report-versions.t .......... ok
t/01basic.t ...................... ok
t/02drop.t ....................... ok
t/03info.t ....................... ok
t/04search.t ..................... ok
t/04search_everything.t .......... ok
t/05meta_new.t ................... ok
t/05meta_update.t ................ ok
t/06retrieve.t ................... ok
t/07download.t ................... ok
t/08circular_references.t ........ ok
t/author-critic.t ................ skipped: these tests are for testing by the author
t/author-eol.t ................... skipped: these tests are for testing by the author
t/author-minimum-version.t ....... skipped: these tests are for testing by the author
t/author-no-tabs.t ............... skipped: these tests are for testing by the author
t/author-pod-syntax.t ............ skipped: these tests are for testing by the author
t/release-changes_has_content.t .. skipped: these tests are for release candidate testing
t/release-distmeta.t ............. skipped: these tests are for release candidate testing
t/release-fixme.t ................ skipped: these tests are for release candidate testing
t/release-has-version.t .......... skipped: these tests are for release candidate testing
t/release-kwalitee.t ............. skipped: these tests are for release candidate testing
t/release-meta-json.t ............ skipped: these tests are for release candidate testing
t/release-pause-permissions.t .... skipped: these tests are for release candidate testing
All tests successful.
Files=26, Tests=11316, 19 wallclock secs ( 1.72 usr 0.13 sys + 12.49 cusr 1.64 csys = 15.98 CPU)
Result: PASS
------------------------------
PREREQUISITES
------------------------------
Prerequisite modules loaded:
requires:
Module Need Have
------------------- ---- -----
Archive::Tar 1.54 2.10
Compress::Zlib 0 2.033
CPAN::DistnameInfo 0.09 0.12
CPAN::Index 1.93 2.12
DBD::SQLite 1.27 1.44
File::HomeDir 0 1.004
File::Spec 0 3.47
HTTP::Tiny 0 0.012
IO::Zlib 0 1.10
parent 0 0.225
Test::Harness 3.31 3.36
build_requires:
Module Need Have
------------------- ---- -----
ExtUtils::MakeMaker 0 7.22
Test::Memory::Cycle 0 1.06
configure_requires:
Module Need Have
------------------- ---- -----
ExtUtils::MakeMaker 0 7.22
------------------------------
ENVIRONMENT AND OTHER CONTEXT
------------------------------
Environment variables:
AUTOMATED_TESTING = 1
HARNESS_OPTIONS = j2
LANG = en_GB.UTF-8
LANGUAGE = en_GB:en
PATH = /home/njh/perl5/perlbrew/bin:/home/njh/perl5/perlbrew/perls/perl-5.14.1/bin:/usr/bin:/bin:/home/njh/src/njh/smoker/bin
PERL5LIB = /home/njh/.cpan/build/Test-Memory-Cycle-1.06-4/blib/arch:/home/njh/.cpan/build/Test-Memory-Cycle-1.06-4/blib/lib:/home/njh/.cpan/build/PadWalker-2.3-3/blib/arch:/home/njh/.cpan/build/PadWalker-2.3-3/blib/lib:/home/njh/.cpan/build/Devel-Cycle-1.12-3/blib/arch:/home/njh/.cpan/build/Devel-Cycle-1.12-3/blib/lib
PERL5OPT =
PERL5_CPANPLUS_IS_RUNNING = 27828
PERL5_CPAN_IS_RUNNING = 27828
PERLBREW_HOME = /home/njh/.perlbrew
PERLBREW_MANPATH = /home/njh/perl5/perlbrew/perls/perl-5.14.1/man
PERLBREW_PATH = /home/njh/perl5/perlbrew/bin:/home/njh/perl5/perlbrew/perls/perl-5.14.1/bin
PERLBREW_PERL = perl-5.14.1
PERLBREW_ROOT = /home/njh/perl5/perlbrew
PERLBREW_SHELLRC_VERSION = 0.83
PERLBREW_VERSION = 0.83
SHELL = /bin/sh
TEMP = /tmp/user/1000
TMPDIR = /tmp/user/1000/testwrapper.27804
Perl special variables (and OS-specific diagnostics, for MSWin32):
$^X = /home/njh/perl5/perlbrew/perls/perl-5.14.1/bin/perl
$UID/$EUID = 1000 / 1000
$GID = 1000 4 24 25 29 30 44 46 103 108 116 127 1000
$EGID = 1000 4 24 25 29 30 44 46 103 108 116 127 1000
Perl module toolchain versions installed:
Module Have
------------------- --------
CPAN 2.16
CPAN::Meta 2.150005
Cwd 3.47
ExtUtils::CBuilder 0.280220
ExtUtils::Command 7.22
ExtUtils::Install 1.56
ExtUtils::MakeMaker 7.22
ExtUtils::Manifest 1.70
ExtUtils::ParseXS 3.30
File::Spec 3.47
JSON 2.97001
JSON::PP 2.27400
Module::Build 0.4210
Module::Signature n/a
Parse::CPAN::Meta 1.4422
Test::Harness 3.36
Test::More 1.302086
YAML 1.27
YAML::Syck 1.30
version 0.88
--
Summary of my perl5 (revision 5 version 14 subversion 1) configuration:
Platform:
osname=linux, osvers=3.16-3-amd64, archname=x86_64-linux-thread-multi
uname='linux compaq 3.16-3-amd64 #1 smp debian 3.16.5-1 (2014-10-10) x86_64 gnulinux '
config_args='-de -Dprefix=/home/njh/perl5/perlbrew/perls/perl-5.14.1 -Duseithreads -Dusemultiplicity -Dusedevel -Accflags= -Aeval:scriptdir=/home/njh/perl5/perlbrew/perls/perl-5.14.1/bin'
hint=recommended, useposix=true, d_sigaction=define
useithreads=define, usemultiplicity=define
useperlio=define, d_sfio=undef, uselargefiles=define, usesocks=undef
use64bitint=define, use64bitall=define, uselongdouble=undef
usemymalloc=n, bincompat5005=undef
Compiler:
cc='cc', ccflags ='-D_REENTRANT -D_GNU_SOURCE -fno-strict-aliasing -pipe -fstack-protector -I/usr/local/include -D_LARGEFILE_SOURCE -D_FILE_OFFSET_BITS=64',
optimize='-O2',
cppflags='-D_REENTRANT -D_GNU_SOURCE -fno-strict-aliasing -pipe -fstack-protector -I/usr/local/include'
ccversion='', gccversion='4.9.2', gccosandvers=''
intsize=4, longsize=8, ptrsize=8, doublesize=8, byteorder=12345678
d_longlong=define, longlongsize=8, d_longdbl=define, longdblsize=16
ivtype='long', ivsize=8, nvtype='double', nvsize=8, Off_t='off_t', lseeksize=8
alignbytes=8, prototype=define
Linker and Libraries:
ld='cc', ldflags =' -fstack-protector -L/usr/local/lib'
libpth=/usr/local/lib /lib/x86_64-linux-gnu /lib/../lib /usr/lib/x86_64-linux-gnu /usr/lib/../lib /lib /usr/lib
libs=-lnsl -lgdbm -ldb -ldl -lm -lcrypt -lutil -lpthread -lc -lgdbm_compat
perllibs=-lnsl -ldl -lm -lcrypt -lutil -lpthread -lc
libc=, so=so, useshrplib=false, libperl=libperl.a
gnulibc_version='2.19'
Dynamic Linking:
dlsrc=dl_dlopen.xs, dlext=so, d_dlsymun=undef, ccdlflags='-Wl,-E'
cccdlflags='-fPIC', lddlflags='-shared -O2 -L/usr/local/lib -fstack-protector'
Characteristics of this binary (from libperl):
Compile-time options: MULTIPLICITY PERL_DONT_CREATE_GVSV
PERL_IMPLICIT_CONTEXT PERL_MALLOC_WRAP
PERL_PRESERVE_IVUV PERL_USE_DEVEL USE_64_BIT_ALL
USE_64_BIT_INT USE_ITHREADS USE_LARGE_FILES
USE_PERLIO USE_PERL_ATOF USE_REENTRANT_API
Built under linux
Compiled at Nov 15 2014 02:27:42
%ENV:
PERL5LIB="/home/njh/.cpan/build/Test-Memory-Cycle-1.06-4/blib/arch:/home/njh/.cpan/build/Test-Memory-Cycle-1.06-4/blib/lib:/home/njh/.cpan/build/PadWalker-2.3-3/blib/arch:/home/njh/.cpan/build/PadWalker-2.3-3/blib/lib:/home/njh/.cpan/build/Devel-Cycle-1.12-3/blib/arch:/home/njh/.cpan/build/Devel-Cycle-1.12-3/blib/lib"
PERL5OPT=""
PERL5_CPANPLUS_IS_RUNNING="27828"
PERL5_CPAN_IS_RUNNING="27828"
PERLBREW_HOME="/home/njh/.perlbrew"
PERLBREW_MANPATH="/home/njh/perl5/perlbrew/perls/perl-5.14.1/man"
PERLBREW_PATH="/home/njh/perl5/perlbrew/bin:/home/njh/perl5/perlbrew/perls/perl-5.14.1/bin"
PERLBREW_PERL="perl-5.14.1"
PERLBREW_ROOT="/home/njh/perl5/perlbrew"
PERLBREW_SHELLRC_VERSION="0.83"
PERLBREW_VERSION="0.83"
@INC:
/home/njh/.cpan/build/Test-Memory-Cycle-1.06-4/blib/arch
/home/njh/.cpan/build/Test-Memory-Cycle-1.06-4/blib/lib
/home/njh/.cpan/build/PadWalker-2.3-3/blib/arch
/home/njh/.cpan/build/PadWalker-2.3-3/blib/lib
/home/njh/.cpan/build/Devel-Cycle-1.12-3/blib/arch
/home/njh/.cpan/build/Devel-Cycle-1.12-3/blib/lib
/home/njh/perl5/perlbrew/perls/perl-5.14.1/lib/site_perl/5.14.1/x86_64-linux-thread-multi
/home/njh/perl5/perlbrew/perls/perl-5.14.1/lib/site_perl/5.14.1
/home/njh/perl5/perlbrew/perls/perl-5.14.1/lib/5.14.1/x86_64-linux-thread-multi
/home/njh/perl5/perlbrew/perls/perl-5.14.1/lib/5.14.1
.