Module-CPANTS-Analyse v0.97_07 Perl 5 v5.20.3 amd64-freebsd

Status
Pass
From
Slaven Rezić (SREZIC)
Dist
Module-CPANTS-Analyse v0.97_07
Platform
Perl 5 v5.20.3 amd64-freebsd
Date
2018-04-22 16:52:45
ID
94d3dd3c-464d-11e8-8d0e-d4ffc3e36231
This distribution has been tested as part of the CPAN Testers
project, supporting the Perl programming language.  See
http://wiki.cpantesters.org/ for more information or email
questions to cpan-testers-discuss@perl.org


--
Dear Kenichi Ishigaki,

This is a computer-generated report for Module-CPANTS-Analyse-0.97_07
on perl 5.20.3, created by CPAN-Reporter-1.2018.

Thank you for uploading your work to CPAN.  Congratulations!
All tests were successful.

Sections of this report:

    * Tester comments
    * Program output
    * Prerequisites
    * Environment and other context

------------------------------
TESTER COMMENTS
------------------------------

Additional comments from tester:

none provided

------------------------------
PROGRAM OUTPUT
------------------------------

Output from '/usr/bin/make test':

PERL_DL_NONLAZY=1 "/usr/perl5.20.3p/bin/perl" "-MExtUtils::Command::MM" "-MTest::Harness" "-e" "undef *Test::Harness::Switches; test_harness(0, 'blib/lib', 'blib/arch')" t/*.t t/*/*.t
t/00_load.t .............. ok
t/05_testdir.t ........... ok
t/05_testfile.t .......... ok
t/analyse/manifest.t ..... ok
t/analyse/pod.t .......... ok
t/analyse/uses.t ......... ok
t/older_test_kwalitee.t .. ok
t/x_cpants.t ............. ok
All tests successful.
Files=8, Tests=51,  3 wallclock secs ( 0.00 usr  0.05 sys +  0.38 cusr  1.82 csys =  2.26 CPU)
Result: PASS

------------------------------
PREREQUISITES
------------------------------

Prerequisite modules loaded:

requires:

    Module                        Need     Have    
    ----------------------------- -------- --------
    Archive::Any::Lite            0.06     0.10    
    Archive::Tar                  1.76     2.26    
    Array::Diff                   0.04     0.07    
    Class::Accessor               0.19     0.51    
    CPAN::DistnameInfo            0.06     0.12    
    CPAN::Meta::Validator         2.133380 2.150010
    CPAN::Meta::YAML              0.008    0.018   
    Data::Binary                  0        0.01    
    File::Find::Object            v0.2.1   v0.3.2  
    JSON::PP                      0        2.94    
    List::Util                    1.33     1.50    
    Module::ExtractUse            0.33     0.342   
    Module::Pluggable             2.96     5.2     
    Software::License             0.103012 0.103013
    Text::Balanced                0        2.02    
    version                       0.73     0.9922  

build_requires:

    Module                        Need     Have    
    ----------------------------- -------- --------
    Cwd                           0        3.74    
    ExtUtils::MakeMaker           0        7.34    
    Test::FailWarnings            0        0.008   
    Test::More                    0.88     1.302136

configure_requires:

    Module                        Need     Have    
    ----------------------------- -------- --------
    ExtUtils::MakeMaker::CPANfile 0.08     0.08    


------------------------------
ENVIRONMENT AND OTHER CONTEXT
------------------------------

Environment variables:

    LC_ALL = de_DE.ISO8859-1
    PATH = /usr/local/bin:/usr/bin:/bin:/usr/local/sbin:/usr/sbin:/sbin:/home/cpansand/bin/freebsd10.3:/home/cpansand/bin/sh:/home/cpansand/bin:/usr/games:/home/cpansand/devel:/home/eserte/src/srezic-misc/scripts
    PERL5LIB = /home/cpansand/.cpan/build/2018042218/Software-License-0.103013-2/blib/arch:/home/cpansand/.cpan/build/2018042218/Software-License-0.103013-2/blib/lib:/home/cpansand/.cpan/build/2018042218/Data-Binary-0.01-8/blib/arch:/home/cpansand/.cpan/build/2018042218/Data-Binary-0.01-8/blib/lib:/home/cpansand/.cpan/build/2018042218/Mojolicious-Plugin-GzipStatic-0.03-8/blib/arch:/home/cpansand/.cpan/build/2018042218/Mojolicious-Plugin-GzipStatic-0.03-8/blib/lib
    PERL5OPT = 
    PERL5_CPANPLUS_IS_RUNNING = 36695
    PERL5_CPAN_IS_RUNNING = 36695
    PERL5_CPAN_IS_RUNNING_IN_RECURSION = 34086,36695
    PERLDOC = -MPod::Perldoc::ToTextOverstrike
    PERL_BATCH = yes
    PERL_CANARY_STABILITY_NOPROMPT = 1
    PERL_CPAN_REPORTER_CONFIG = /var/tmp/cpansmoker-1023/2018042218/cpanreporter_000_config.ini
    PERL_EXTUTILS_AUTOINSTALL = --defaultdeps
    SHELL = /usr/local/bin/zsh
    TERM = screen
    TMPDIR = /var/tmp/cpansmoker-1023/2018042218

Perl special variables (and OS-specific diagnostics, for MSWin32):

    $^X = /usr/perl5.20.3p/bin/perl
    $UID/$EUID = 1023 / 1023
    $GID = 1023 1023
    $EGID = 1023 1023

Perl module toolchain versions installed:

    Module              Have    
    ------------------- --------
    CPAN                2.16    
    CPAN::Meta          2.150010
    Cwd                 3.74    
    ExtUtils::CBuilder  0.280230
    ExtUtils::Command   7.34    
    ExtUtils::Install   2.14    
    ExtUtils::MakeMaker 7.34    
    ExtUtils::Manifest  1.70    
    ExtUtils::ParseXS   3.30    
    File::Spec          3.74    
    JSON                2.97001 
    JSON::PP            2.94    
    Module::Build       0.4224  
    Module::Signature   0.81    
    Parse::CPAN::Meta   2.150010
    Test::Harness       3.42    
    Test::More          1.302136
    YAML                1.24    
    YAML::Syck          1.30    
    version             0.9922  


--

Summary of my perl5 (revision 5 version 20 subversion 3) configuration:
   
  Platform:
    osname=freebsd, osvers=10.1-release, archname=amd64-freebsd
    uname='freebsd cvrsnica-freebsd-101.herceg.de 10.1-release freebsd 10.1-release #0 r274401: tue nov 11 21:02:49 utc 2014 root@releng1.nyi.freebsd.org:usrobjusrsrcsysgeneric amd64 '
    config_args='-ds -e -Dprefix=/usr/perl5.20.3p -Dcf_email=srezic@cpan.org'
    hint=recommended, useposix=true, d_sigaction=define
    useithreads=undef, usemultiplicity=undef
    use64bitint=define, use64bitall=define, uselongdouble=undef
    usemymalloc=n, bincompat5005=undef
  Compiler:
    cc='cc', ccflags ='-DHAS_FPSETMASK -DHAS_FLOATINGPOINT_H -fno-strict-aliasing -pipe -fstack-protector -I/usr/local/include',
    optimize='-O',
    cppflags='-DHAS_FPSETMASK -DHAS_FLOATINGPOINT_H -fno-strict-aliasing -pipe -fstack-protector -I/usr/local/include'
    ccversion='', gccversion='4.2.1 Compatible FreeBSD Clang 3.4.1 (tags/RELEASE_34/dot1-final 208032)', gccosandvers=''
    intsize=4, longsize=8, ptrsize=8, doublesize=8, byteorder=12345678
    d_longlong=define, longlongsize=8, d_longdbl=define, longdblsize=16
    ivtype='long', ivsize=8, nvtype='double', nvsize=8, Off_t='off_t', lseeksize=8
    alignbytes=8, prototype=define
  Linker and Libraries:
    ld='cc', ldflags ='-pthread -Wl,-E  -fstack-protector -L/usr/local/lib'
    libpth=/usr/lib /usr/local/lib /usr/include/clang/3.4.1 /usr/lib
    libs=-lpthread -lgdbm -lm -lcrypt -lutil -lc
    perllibs=-lpthread -lm -lcrypt -lutil -lc
    libc=, so=so, useshrplib=false, libperl=libperl.a
    gnulibc_version=''
  Dynamic Linking:
    dlsrc=dl_dlopen.xs, dlext=so, d_dlsymun=undef, ccdlflags=' '
    cccdlflags='-DPIC -fPIC', lddlflags='-shared  -L/usr/local/lib -fstack-protector'


Characteristics of this binary (from libperl): 
  Compile-time options: HAS_TIMES PERLIO_LAYERS PERL_DONT_CREATE_GVSV
                        PERL_HASH_FUNC_ONE_AT_A_TIME_HARD PERL_MALLOC_WRAP
                        PERL_NEW_COPY_ON_WRITE PERL_PRESERVE_IVUV
                        USE_64_BIT_ALL USE_64_BIT_INT USE_LARGE_FILES
                        USE_LOCALE USE_LOCALE_COLLATE USE_LOCALE_CTYPE
                        USE_LOCALE_NUMERIC USE_PERLIO USE_PERL_ATOF
  Built under freebsd
  Compiled at Sep 12 2015 22:44:25
  %ENV:
    PERL5LIB="/home/cpansand/.cpan/build/2018042218/Software-License-0.103013-2/blib/arch:/home/cpansand/.cpan/build/2018042218/Software-License-0.103013-2/blib/lib:/home/cpansand/.cpan/build/2018042218/Data-Binary-0.01-8/blib/arch:/home/cpansand/.cpan/build/2018042218/Data-Binary-0.01-8/blib/lib:/home/cpansand/.cpan/build/2018042218/Mojolicious-Plugin-GzipStatic-0.03-8/blib/arch:/home/cpansand/.cpan/build/2018042218/Mojolicious-Plugin-GzipStatic-0.03-8/blib/lib"
    PERL5OPT=""
    PERL5_CPANPLUS_IS_RUNNING="36695"
    PERL5_CPAN_IS_RUNNING="36695"
    PERL5_CPAN_IS_RUNNING_IN_RECURSION="34086,36695"
    PERLDOC="-MPod::Perldoc::ToTextOverstrike"
    PERL_BATCH="yes"
    PERL_CANARY_STABILITY_NOPROMPT="1"
    PERL_CPAN_REPORTER_CONFIG="/var/tmp/cpansmoker-1023/2018042218/cpanreporter_000_config.ini"
    PERL_EXTUTILS_AUTOINSTALL="--defaultdeps"
  @INC:
    /home/cpansand/.cpan/build/2018042218/Software-License-0.103013-2/blib/arch
    /home/cpansand/.cpan/build/2018042218/Software-License-0.103013-2/blib/lib
    /home/cpansand/.cpan/build/2018042218/Data-Binary-0.01-8/blib/arch
    /home/cpansand/.cpan/build/2018042218/Data-Binary-0.01-8/blib/lib
    /home/cpansand/.cpan/build/2018042218/Mojolicious-Plugin-GzipStatic-0.03-8/blib/arch
    /home/cpansand/.cpan/build/2018042218/Mojolicious-Plugin-GzipStatic-0.03-8/blib/lib
    /usr/perl5.20.3p/lib/site_perl/5.20.3/amd64-freebsd
    /usr/perl5.20.3p/lib/site_perl/5.20.3
    /usr/perl5.20.3p/lib/5.20.3/amd64-freebsd
    /usr/perl5.20.3p/lib/5.20.3
    .