Wiki-Toolkit v0.79 Perl 5 v5.10.1 sun4-solaris-thread-multi

Status
Pass
From
David Cantrell (DCANTRELL)
Dist
Wiki-Toolkit v0.79
Platform
Perl 5 v5.10.1 sun4-solaris-thread-multi
Date
2010-08-15 19:23:27
ID
94d760fc-a8a2-11df-9ffa-c8e8c723e13c
This distribution has been tested as part of the CPAN Testers
project, supporting the Perl programming language.  See
http://wiki.cpantesters.org/ for more information or email
questions to cpan-testers-discuss@perl.org


--
Dear Dominic Hargreaves,

This is a computer-generated report for Wiki-Toolkit-0.79
on perl 5.10.1, created by CPAN-Reporter-1.1711.

Thank you for uploading your work to CPAN.  Congratulations!
All tests were successful.

Sections of this report:

    * Tester comments
    * Program output
    * Prerequisites
    * Environment and other context

------------------------------
TESTER COMMENTS
------------------------------

Additional comments from tester:

this report is from an automated smoke testing program
and was not reviewed by a human for accuracy

------------------------------
PROGRAM OUTPUT
------------------------------

Output from '/usr/local/bin/make test':

PERL_DL_NONLAZY=1 /rpool/home/david/cpantesting/perl-5.10.1/bin/perl "-MExtUtils::Command::MM" "-e" "test_harness(0, 'blib/lib', 'blib/arch')" t/*.t
t/001_load.t ........................... ok
t/002_datastore_setup.t ................ ok
t/003_instantiate.t .................... ok
t/004_write_and_retrieve.t ............. ok
t/005_delete.t ......................... ok
t/006_list_all.t ....................... ok
t/007_search.t ......................... ok
t/008_write_and_rewrite.t .............. ok
t/009_backlinks.t ...................... ok
t/010_metadata.t ....................... ok
t/011_recent_changes.t ................. ok
t/012_blank_data.t ..................... ok
t/013_fuzzy_title_match.t .............. ok
t/014_advanced_metadata.t .............. ok
t/015_dangling_links.t ................. ok
t/016_recent_changes_between.t ......... ok
Asked to delete non existant version 2 of node 5 (Five Node) at /rpool/perl-testing/perl-5.10.1/.cpan/build/Wiki-Toolkit-0.79-FCJ_oP/blib/lib/Wiki/Toolkit/Store/Database.pm line 1053.
t/017_delete_version.t ................. ok
t/018_rc_multiple_metadata_criteria.t .. ok
t/019_recent_changes_case.t ............ ok
t/020_node_exists_case_insensitive.t ... ok
t/021_moderation.t ..................... ok
t/022_list_unmoderated.t ............... ok
t/025_list_node_all_versions.t ......... ok
t/026_schema_current.t ................. ok
t/027_list_last_version_before.t ....... ok
t/040_rename.t ......................... ok
t/050_mysql_store.t .................... ok
t/051_pg_store.t ....................... ok
t/052_sqlite_store.t ................... ok
t/060_recent_changes_new_only.t ........ ok
t/061_list_metadata_by_type.t .......... ok
t/100_formatting.t ..................... ok
t/101_default_formatter.t .............. ok
t/102_multiple_formatter.t ............. ok
t/150_plugins.t ........................ ok
t/151_plugin_methods.t ................. ok
t/152_pre_plugin_approval.t ............ ok
t/297_feed_rss_recentchanges.t ......... ok
t/298_feed_rss_node_all_versions.t ..... ok
t/299_feed_rss_gen_node_dist_feed.t .... ok
t/300_feed_atom_setup.t ................ ok
t/301_feed_atom_add_test_data.t ........ ok
t/302_feed_atom_recentchanges.t ........ ok
t/303_feed_atom_node_all_versions.t .... ok
t/304_feed_atom_gen_node_dist_feed.t ... ok
t/400_upgrade.t ........................ ok
t/401_null_change.t .................... ok
t/500_pod.t ............................ ok
All tests successful.
Files=48, Tests=941, 134 wallclock secs ( 1.77 usr  0.58 sys + 44.37 cusr  9.97 csys = 56.69 CPU)
Result: PASS

------------------------------
PREREQUISITES
------------------------------

Prerequisite modules loaded:

requires:

    Module           Need Have 
    ---------------- ---- -----
    DBD::SQLite      0.25 1.29 
    DBI              0    1.613
    Digest::MD5      0    2.39 
    HTML::PullParser 0    3.57 
    Test::More       0    0.96 
    Text::WikiFormat 0.78 0.79 
    Time::Piece      0    1.15 


------------------------------
ENVIRONMENT AND OTHER CONTEXT
------------------------------

Environment variables:

    AUTOMATED_TESTING = 1
    LD_LIBRARY_PATH = /usr/local/lib:/usr/lib:/usr/openwin/lib:/usr/ucblib:.
    PATH = /rpool/home/david/cpantesting/bin:/usr/local/bin:/usr/bin:/sbin:/usr/sbin:/usr/openwin/bin:/usr/ccs/bin:/usr/ucb:/etc:.
    PERL5LIB = 
    PERL5OPT = 
    PERL5_CPANPLUS_IS_RUNNING = 14222
    PERL5_CPAN_IS_RUNNING = 14222
    PERLVER = 5.10.1
    SHELL = /bin/bash
    TERM = screen

Perl special variables (and OS-specific diagnostics, for MSWin32):

    $^X = /rpool/home/david/cpantesting/perl-5.10.1/bin/perl
    $UID/$EUID = 10217 / 10217
    $GID = 1 1
    $EGID = 1 1

Perl module toolchain versions installed:

    Module              Have   
    ------------------- -------
    CPAN                1.9402 
    Cwd                 3.31   
    ExtUtils::CBuilder  0.2703 
    ExtUtils::Command   1.16   
    ExtUtils::Install   1.54   
    ExtUtils::MakeMaker 6.55_02
    ExtUtils::Manifest  1.56   
    ExtUtils::ParseXS   2.2206 
    File::Spec          3.31   
    Module::Build       0.3607 
    Module::Signature   n/a    
    Test::Harness       3.17   
    Test::More          0.96   
    YAML                0.71   
    YAML::Syck          1.12   
    version             0.82   


--

Summary of my perl5 (revision 5 version 10 subversion 1) configuration:
   
  Platform:
    osname=solaris, osvers=2.10, archname=sun4-solaris-thread-multi
    uname='sunos t1k.mrbill.net 5.10 generic_142900-06 sun4v sparc sunw,sun-fire-t1000 solaris '
    config_args='-de -Dprefix=/usr/local/home/david/cpantesting/perl-5.10.1 -Dusethreads'
    hint=recommended, useposix=true, d_sigaction=define
    useithreads=define, usemultiplicity=define
    useperlio=define, d_sfio=undef, uselargefiles=define, usesocks=undef
    use64bitint=undef, use64bitall=undef, uselongdouble=undef
    usemymalloc=n, bincompat5005=undef
  Compiler:
    cc='cc', ccflags ='-D_REENTRANT -fno-strict-aliasing -pipe -I/usr/local/include -D_LARGEFILE_SOURCE -D_FILE_OFFSET_BITS=64 -DPERL_USE_SAFE_PUTENV',
    optimize='-O',
    cppflags='-D_REENTRANT -fno-strict-aliasing -pipe -I/usr/local/include'
    ccversion='', gccversion='3.4.3 (csl-sol210-3_4-branch+sol_rpath)', gccosandvers='solaris2.10'
    intsize=4, longsize=4, ptrsize=4, doublesize=8, byteorder=4321
    d_longlong=define, longlongsize=8, d_longdbl=define, longdblsize=16
    ivtype='long', ivsize=4, nvtype='double', nvsize=8, Off_t='off_t', lseeksize=8
    alignbytes=8, prototype=define
  Linker and Libraries:
    ld='cc', ldflags =' -L/usr/local/lib '
    libpth=/usr/local/lib /usr/lib /usr/ccs/lib
    libs=-lsocket -lnsl -ldl -lm -lpthread -lc
    perllibs=-lsocket -lnsl -ldl -lm -lpthread -lc
    libc=/lib/libc.so, so=so, useshrplib=false, libperl=libperl.a
    gnulibc_version=''
  Dynamic Linking:
    dlsrc=dl_dlopen.xs, dlext=so, d_dlsymun=undef, ccdlflags=' '
    cccdlflags='-fPIC', lddlflags='-G -L/usr/local/lib'


Characteristics of this binary (from libperl): 
  Compile-time options: MULTIPLICITY PERL_DONT_CREATE_GVSV
                        PERL_IMPLICIT_CONTEXT PERL_MALLOC_WRAP
                        PERL_USE_SAFE_PUTENV USE_ITHREADS USE_LARGE_FILES
                        USE_PERLIO USE_REENTRANT_API
  Built under solaris
  Compiled at Mar 25 2010 15:59:57
  %ENV:
    PERL5LIB=""
    PERL5OPT=""
    PERL5_CPANPLUS_IS_RUNNING="14222"
    PERL5_CPAN_IS_RUNNING="14222"
    PERLVER="5.10.1"
  @INC:
    /usr/local/home/david/cpantesting/perl-5.10.1/lib/5.10.1/sun4-solaris-thread-multi
    /usr/local/home/david/cpantesting/perl-5.10.1/lib/5.10.1
    /usr/local/home/david/cpantesting/perl-5.10.1/lib/site_perl/5.10.1/sun4-solaris-thread-multi
    /usr/local/home/david/cpantesting/perl-5.10.1/lib/site_perl/5.10.1
    .