Back
From: metabase:user:44baa983-6bf6-1014-9a1d-e6daa5296772
Subject: PASS SQL-ReservedWords-0.8 v5.12.3 Mac OS X
Date: 2013-03-05T15:37:26Z
This distribution has been tested as part of the CPAN Testers
project, supporting the Perl programming language. See
http://wiki.cpantesters.org/ for more information or email
questions to cpan-testers-discuss@perl.org
--
Dear Christian Hansen,
This is a computer-generated report for SQL-ReservedWords-0.8
on perl 5.12.3, created by CPAN-Reporter-1.2009.
Thank you for uploading your work to CPAN. Congratulations!
All tests were successful.
Sections of this report:
* Tester comments
* Program output
* Prerequisites
* Environment and other context
------------------------------
TESTER COMMENTS
------------------------------
Additional comments from tester:
none provided
------------------------------
PROGRAM OUTPUT
------------------------------
Output from './Build test':
t/01-use.t ......... ok
t/02-pod.t ......... skipped: set TEST_POD to enable this test
t/04-sql.t ......... ok
t/05-db2.t ......... ok
t/06-mysql.t ....... ok
t/07-odbc.t ........ ok
t/08-oracle.t ...... ok
t/09-postgresql.t .. ok
t/10-sqlite.t ...... ok
t/11-sqlserver.t ... ok
t/12-sybase.t ...... ok
All tests successful.
Files=11, Tests=376, 1 wallclock secs ( 0.09 usr 0.04 sys + 0.66 cusr 0.10 csys = 0.89 CPU)
Result: PASS
------------------------------
PREREQUISITES
------------------------------
Prerequisite modules loaded:
requires:
Module Need Have
------------- ---- ------
Sub::Exporter 0 0.982
build_requires:
Module Need Have
------------- ---- ------
Test::More 0 0.98
configure_requires:
Module Need Have
------------- ---- ------
Module::Build 0.4 0.4003
------------------------------
ENVIRONMENT AND OTHER CONTEXT
------------------------------
Environment variables:
LC_CTYPE = UTF-8
PATH = /usr/bin:/bin:/usr/sbin:/sbin:/usr/local/bin:/opt/local/bin:/home/burakgursoy/bin:/Users/burakgursoy/bin
PERL5LIB =
PERL5OPT =
PERL5_CPANPLUS_IS_RUNNING = 2382
PERL5_CPAN_IS_RUNNING = 2382
SHELL = /bin/bash
TERM = xterm-256color
Perl special variables (and OS-specific diagnostics, for MSWin32):
$^X = /usr/burak/bin/perl
$UID/$EUID = 0 / 0
$GID = 0 0 1 2 3 4 5 8 9 12 20 29 61 80
$EGID = 0 0 1 2 3 4 5 8 9 12 20 29 61 80
Perl module toolchain versions installed:
Module Have
------------------- --------
CPAN 1.9800
CPAN::Meta 2.120921
Cwd 3.40
ExtUtils::CBuilder 0.280205
ExtUtils::Command 1.17
ExtUtils::Install 1.55
ExtUtils::MakeMaker 6.64
ExtUtils::Manifest 1.61
ExtUtils::ParseXS 3.18
File::Spec 3.40
JSON 2.53
JSON::PP 2.27200
Module::Build 0.4003
Module::Signature n/a
Parse::CPAN::Meta 1.4404
Test::Harness 3.25
Test::More 0.98
YAML 0.81
YAML::Syck 1.20
version 0.99
--
Summary of my perl5 (revision 5 version 12 subversion 3) configuration:
Platform:
osname=darwin, osvers=10.6.0, archname=darwin-thread-multi-2level
uname='darwin burak.local 10.6.0 darwin kernel version 10.6.0: wed nov 10 18:13:17 pst 2010; root:xnu-1504.9.26~3release_i386 i386 '
config_args=''
hint=recommended, useposix=true, d_sigaction=define
useithreads=define, usemultiplicity=define
useperlio=define, d_sfio=undef, uselargefiles=define, usesocks=undef
use64bitint=define, use64bitall=define, uselongdouble=undef
usemymalloc=n, bincompat5005=undef
Compiler:
cc='cc', ccflags ='-fno-common -DPERL_DARWIN -no-cpp-precomp -fno-strict-aliasing -pipe -fstack-protector -I/usr/local/include -I/opt/local/include',
optimize='-O3',
cppflags='-no-cpp-precomp -fno-common -DPERL_DARWIN -no-cpp-precomp -fno-strict-aliasing -pipe -fstack-protector -I/usr/local/include -I/opt/local/include'
ccversion='', gccversion='4.2.1 (Apple Inc. build 5664)', gccosandvers=''
intsize=4, longsize=8, ptrsize=8, doublesize=8, byteorder=12345678
d_longlong=define, longlongsize=8, d_longdbl=define, longdblsize=16
ivtype='long', ivsize=8, nvtype='double', nvsize=8, Off_t='off_t', lseeksize=8
alignbytes=8, prototype=define
Linker and Libraries:
ld='env MACOSX_DEPLOYMENT_TARGET=10.3 cc', ldflags =' -fstack-protector -L/usr/local/lib -L/opt/local/lib'
libpth=/usr/local/lib /opt/local/lib /usr/lib
libs=-lgdbm -ldbm -ldl -lm -lutil -lc
perllibs=-ldl -lm -lutil -lc
libc=/usr/lib/libc.dylib, so=dylib, useshrplib=false, libperl=libperl.a
gnulibc_version=''
Dynamic Linking:
dlsrc=dl_dlopen.xs, dlext=bundle, d_dlsymun=undef, ccdlflags=' '
cccdlflags=' ', lddlflags=' -bundle -undefined dynamic_lookup -L/usr/local/lib -L/opt/local/lib -fstack-protector'
Characteristics of this binary (from libperl):
Compile-time options: MULTIPLICITY PERL_DONT_CREATE_GVSV
PERL_IMPLICIT_CONTEXT PERL_MALLOC_WRAP USE_64_BIT_ALL
USE_64_BIT_INT USE_ITHREADS USE_LARGE_FILES
USE_PERLIO USE_PERL_ATOF
Built under darwin
Compiled at Jan 24 2011 00:48:31
%ENV:
PERL5LIB=""
PERL5OPT=""
PERL5_CPANPLUS_IS_RUNNING="2382"
PERL5_CPAN_IS_RUNNING="2382"
@INC:
/usr/burak/lib/perl5/site_perl/5.12.3/darwin-thread-multi-2level
/usr/burak/lib/perl5/site_perl/5.12.3
/usr/burak/lib/perl5/5.12.3/darwin-thread-multi-2level
/usr/burak/lib/perl5/5.12.3
.