HTML-Restrict v2.2.4 Perl 5 v5.14.4 amd64-freebsd

Status
Pass
From
Slaven Rezić (SREZIC)
Dist
HTML-Restrict v2.2.4
Platform
Perl 5 v5.14.4 amd64-freebsd
Date
2017-11-08 08:55:34
ID
94e438f2-c462-11e7-92e1-aaff6f95645d
This distribution has been tested as part of the CPAN Testers
project, supporting the Perl programming language.  See
http://wiki.cpantesters.org/ for more information or email
questions to cpan-testers-discuss@perl.org


--
Dear Olaf Alders,

This is a computer-generated report for HTML-Restrict-2.2.4
on perl 5.14.4, created by CPAN-Reporter-1.2018.

Thank you for uploading your work to CPAN.  Congratulations!
All tests were successful.

Sections of this report:

    * Tester comments
    * Program output
    * Prerequisites
    * Environment and other context

------------------------------
TESTER COMMENTS
------------------------------

Additional comments from tester:

none provided

------------------------------
PROGRAM OUTPUT
------------------------------

Output from '/usr/bin/make test':

PERL_DL_NONLAZY=1 "/usr/perl5.14.4p/bin/perl" "-MExtUtils::Command::MM" "-MTest::Harness" "-e" "undef *Test::Harness::Switches; test_harness(0, 'blib/lib', 'blib/arch')" t/*.t
# Testing HTML::Restrict 2.2.4, Perl 5.014004, /usr/perl5.14.4p/bin/perl
t/00-load.t ................ ok
t/attribute_constraints.t .. ok
t/author-pod-coverage.t .... skipped: these tests are for testing by the author
t/author-pod-spell.t ....... skipped: these tests are for testing by the author
t/author-synopsis.t ........ skipped: these tests are for testing by the author
t/author-tidyall.t ......... skipped: these tests are for testing by the author
t/comments.t ............... ok
t/declaration.t ............ ok
t/js.t ..................... ok
t/lowercase.t .............. ok
t/memory-leak.t ............ ok
t/pod.t .................... ok
t/release-cpan-changes.t ... skipped: these tests are for release candidate testing
t/replace_img.t ............ ok
t/scheme.t ................. ok
t/stack.t .................. ok
t/style.t .................. ok
t/xss.t .................... ok
All tests successful.
Files=18, Tests=72,  4 wallclock secs ( 0.08 usr  0.06 sys +  3.17 cusr  0.80 csys =  4.12 CPU)
Result: PASS

------------------------------
PREREQUISITES
------------------------------

Prerequisite modules loaded:

requires:

    Module              Need     Have    
    ------------------- -------- --------
    Carp                0        1.38    
    Data::Dump          0        1.23    
    HTML::Entities      0        3.69    
    HTML::Parser        0        3.72    
    List::Util          1.33     1.49    
    Moo                 1.002000 2.003002
    namespace::clean    0        0.27    
    perl                5.006    5.014004
    Scalar::Util        0        1.49    
    strict              0        1.04    
    Sub::Quote          0        2.004000
    Types::Standard     1.000001 1.002001
    URI                 0        1.72    

build_requires:

    Module              Need     Have    
    ------------------- -------- --------
    ExtUtils::MakeMaker 0        7.30    
    Test::Fatal         0        0.014   
    Test::More          0        1.302106
    warnings            0        1.12    

configure_requires:

    Module              Need     Have    
    ------------------- -------- --------
    ExtUtils::MakeMaker 0        7.30    
    perl                5.006    5.014004


------------------------------
ENVIRONMENT AND OTHER CONTEXT
------------------------------

Environment variables:

    PATH = /usr/local/bin:/usr/bin:/bin:/usr/local/sbin:/usr/sbin:/sbin:/home/cpansand/bin/freebsd12.0:/home/cpansand/bin/sh:/home/cpansand/bin:/usr/games:/home/cpansand/devel:/usr/home/eserte/src/srezic-misc/scripts
    PERL5LIB = /home/cpansand/.cpan/build/2017110809/HTML-FormatText-WithLinks-0.15-0/blib/arch:/home/cpansand/.cpan/build/2017110809/HTML-FormatText-WithLinks-0.15-0/blib/lib:/home/cpansand/.cpan/build/2017110809/HTML-Formatter-2.16-0/blib/arch:/home/cpansand/.cpan/build/2017110809/HTML-Formatter-2.16-0/blib/lib:/home/cpansand/.cpan/build/2017110809/Font-AFM-1.20-0/blib/arch:/home/cpansand/.cpan/build/2017110809/Font-AFM-1.20-0/blib/lib:/home/cpansand/.cpan/build/2017110809/Find-Lib-1.04-0/blib/arch:/home/cpansand/.cpan/build/2017110809/Find-Lib-1.04-0/blib/lib:/home/cpansand/.cpan/build/2017110809/MetaCPAN-Client-2.018000-0/blib/arch:/home/cpansand/.cpan/build/2017110809/MetaCPAN-Client-2.018000-0/blib/lib:/home/cpansand/.cpan/build/2017110809/Perinci-Sub-Property-cmdline-0.04-0/blib/arch:/home/cpansand/.cpan/build/2017110809/Perinci-Sub-Property-cmdline-0.04-0/blib/lib
    PERL5OPT = 
    PERL5_CPANPLUS_IS_RUNNING = 45203
    PERL5_CPAN_IS_RUNNING = 45203
    PERL5_CPAN_IS_RUNNING_IN_RECURSION = 45163,45203
    PERL_BATCH = yes
    PERL_CANARY_STABILITY_NOPROMPT = 1
    PERL_CPAN_REPORTER_CONFIG = /var/tmp/cpansmoker-1023/2017110809/cpanreporter_000_config.ini
    PERL_EXTUTILS_AUTOINSTALL = --defaultdeps
    SHELL = /bin/sh
    TMPDIR = /var/tmp/cpansmoker-1023/2017110809

Perl special variables (and OS-specific diagnostics, for MSWin32):

    $^X = /usr/perl5.14.4p/bin/perl
    $UID/$EUID = 1023 / 1023
    $GID = 1023 1023
    $EGID = 1023 1023

Perl module toolchain versions installed:

    Module              Have    
    ------------------- --------
    CPAN                2.16    
    CPAN::Meta          2.150010
    Cwd                 3.62    
    ExtUtils::CBuilder  0.280226
    ExtUtils::Command   7.30    
    ExtUtils::Install   2.06    
    ExtUtils::MakeMaker 7.30    
    ExtUtils::Manifest  1.70    
    ExtUtils::ParseXS   3.35    
    File::Spec          3.62    
    JSON                2.94    
    JSON::PP            2.94    
    Module::Build       0.4224  
    Module::Signature   0.81    
    Parse::CPAN::Meta   2.150010
    Test::Harness       3.39    
    Test::More          1.302106
    YAML                1.24    
    YAML::Syck          1.30    
    version             0.9918  


--

Summary of my perl5 (revision 5 version 14 subversion 4) configuration:
   
  Platform:
    osname=freebsd, osvers=12.0-current, archname=amd64-freebsd
    uname='freebsd freebsd 12.0-current freebsd 12.0-current #1 ff104cc9da3(master)-dirty: thu oct 19 23:44:51 cest 2017 root@freebsd:usrobjusrsrcsysgeneric amd64 '
    config_args='-ds -e -Dprefix=/usr/perl5.14.4p -Dcf_email=srezic@cpan.org -Doptimize=-O2 -pipe'
    hint=recommended, useposix=true, d_sigaction=define
    useithreads=undef, usemultiplicity=undef
    useperlio=define, d_sfio=undef, uselargefiles=define, usesocks=undef
    use64bitint=define, use64bitall=define, uselongdouble=undef
    usemymalloc=n, bincompat5005=undef
  Compiler:
    cc='cc', ccflags ='-DHAS_FPSETMASK -DHAS_FLOATINGPOINT_H -fno-strict-aliasing -pipe -fstack-protector -I/usr/local/include',
    optimize='-O2 -pipe',
    cppflags='-DHAS_FPSETMASK -DHAS_FLOATINGPOINT_H -fno-strict-aliasing -pipe -fstack-protector -I/usr/local/include'
    ccversion='', gccversion='4.2.1 Compatible FreeBSD Clang 5.0.0 (tags/RELEASE_500/final 312559)', gccosandvers=''
    intsize=4, longsize=8, ptrsize=8, doublesize=8, byteorder=12345678
    d_longlong=define, longlongsize=8, d_longdbl=define, longdblsize=16
    ivtype='long', ivsize=8, nvtype='double', nvsize=8, Off_t='off_t', lseeksize=8
    alignbytes=8, prototype=define
  Linker and Libraries:
    ld='cc', ldflags ='-pthread -Wl,-E  -fstack-protector -L/usr/local/lib'
    libpth=/usr/lib /usr/local/lib
    libs=-lgdbm -lm -lcrypt -lutil -lc
    perllibs=-lm -lcrypt -lutil -lc
    libc=, so=so, useshrplib=false, libperl=libperl.a
    gnulibc_version=''
  Dynamic Linking:
    dlsrc=dl_dlopen.xs, dlext=so, d_dlsymun=undef, ccdlflags=' '
    cccdlflags='-DPIC -fPIC', lddlflags='-shared  -L/usr/local/lib -fstack-protector'


Characteristics of this binary (from libperl): 
  Compile-time options: PERL_DONT_CREATE_GVSV PERL_MALLOC_WRAP
                        PERL_PRESERVE_IVUV USE_64_BIT_ALL USE_64_BIT_INT
                        USE_LARGE_FILES USE_PERLIO USE_PERL_ATOF
  Built under freebsd
  Compiled at Oct 22 2017 18:54:20
  %ENV:
    PERL5LIB="/home/cpansand/.cpan/build/2017110809/HTML-FormatText-WithLinks-0.15-0/blib/arch:/home/cpansand/.cpan/build/2017110809/HTML-FormatText-WithLinks-0.15-0/blib/lib:/home/cpansand/.cpan/build/2017110809/HTML-Formatter-2.16-0/blib/arch:/home/cpansand/.cpan/build/2017110809/HTML-Formatter-2.16-0/blib/lib:/home/cpansand/.cpan/build/2017110809/Font-AFM-1.20-0/blib/arch:/home/cpansand/.cpan/build/2017110809/Font-AFM-1.20-0/blib/lib:/home/cpansand/.cpan/build/2017110809/Find-Lib-1.04-0/blib/arch:/home/cpansand/.cpan/build/2017110809/Find-Lib-1.04-0/blib/lib:/home/cpansand/.cpan/build/2017110809/MetaCPAN-Client-2.018000-0/blib/arch:/home/cpansand/.cpan/build/2017110809/MetaCPAN-Client-2.018000-0/blib/lib:/home/cpansand/.cpan/build/2017110809/Perinci-Sub-Property-cmdline-0.04-0/blib/arch:/home/cpansand/.cpan/build/2017110809/Perinci-Sub-Property-cmdline-0.04-0/blib/lib"
    PERL5OPT=""
    PERL5_CPANPLUS_IS_RUNNING="45203"
    PERL5_CPAN_IS_RUNNING="45203"
    PERL5_CPAN_IS_RUNNING_IN_RECURSION="45163,45203"
    PERL_BATCH="yes"
    PERL_CANARY_STABILITY_NOPROMPT="1"
    PERL_CPAN_REPORTER_CONFIG="/var/tmp/cpansmoker-1023/2017110809/cpanreporter_000_config.ini"
    PERL_EXTUTILS_AUTOINSTALL="--defaultdeps"
  @INC:
    /home/cpansand/.cpan/build/2017110809/HTML-FormatText-WithLinks-0.15-0/blib/arch
    /home/cpansand/.cpan/build/2017110809/HTML-FormatText-WithLinks-0.15-0/blib/lib
    /home/cpansand/.cpan/build/2017110809/HTML-Formatter-2.16-0/blib/arch
    /home/cpansand/.cpan/build/2017110809/HTML-Formatter-2.16-0/blib/lib
    /home/cpansand/.cpan/build/2017110809/Font-AFM-1.20-0/blib/arch
    /home/cpansand/.cpan/build/2017110809/Font-AFM-1.20-0/blib/lib
    /home/cpansand/.cpan/build/2017110809/Find-Lib-1.04-0/blib/arch
    /home/cpansand/.cpan/build/2017110809/Find-Lib-1.04-0/blib/lib
    /home/cpansand/.cpan/build/2017110809/MetaCPAN-Client-2.018000-0/blib/arch
    /home/cpansand/.cpan/build/2017110809/MetaCPAN-Client-2.018000-0/blib/lib
    /home/cpansand/.cpan/build/2017110809/Perinci-Sub-Property-cmdline-0.04-0/blib/arch
    /home/cpansand/.cpan/build/2017110809/Perinci-Sub-Property-cmdline-0.04-0/blib/lib
    /usr/perl5.14.4p/lib/site_perl/5.14.4/amd64-freebsd
    /usr/perl5.14.4p/lib/site_perl/5.14.4
    /usr/perl5.14.4p/lib/5.14.4/amd64-freebsd
    /usr/perl5.14.4p/lib/5.14.4
    .