Report for AnyEvent-Net-Curl-Queued-0.046

Back
From: metabase:user:30ae4450-2aae-11df-837a-5e0a49663a4f
Subject: PASS AnyEvent-Net-Curl-Queued-0.046 v5.16.2 GNU/Linux
Date: 2013-10-22T13:05:10Z

This distribution has been tested as part of the CPAN Testers
project, supporting the Perl programming language.  See
http://wiki.cpantesters.org/ for more information or email
questions to cpan-testers-discuss@perl.org


--
Dear Stanislaw Pusep,

This is a computer-generated report for AnyEvent-Net-Curl-Queued-0.046
on perl 5.16.2, created by CPAN-Reporter-1.2009.

Thank you for uploading your work to CPAN.  Congratulations!
All tests were successful.

Sections of this report:

    * Tester comments
    * Program output
    * Prerequisites
    * Environment and other context

------------------------------
TESTER COMMENTS
------------------------------

Additional comments from tester:

this report is from an automated smoke testing program
and was not reviewed by a human for accuracy

------------------------------
PROGRAM OUTPUT
------------------------------

Output from '/usr/bin/make test':

PERL_DL_NONLAZY=1 /home/c/perl5/perlbrew/perls/perl-5.16.2/bin/perl "-MExtUtils::Command::MM" "-e" "test_harness(0, 'blib/lib', 'blib/arch')" t/*.t
t/00-compile.t ................. ok
# AnyEvent::Net::Curl::Queued v0.046
# Net::Curl v0.32
Too late to run CHECK block at /home/c/perl5/perlbrew/perls/perl-5.16.2/lib/site_perl/5.16.2/i686-linux/EV.pm line 123.
# AnyEvent v7.04 (AnyEvent::Impl::EV)
# Perl 5.016002 (/home/c/perl5/perlbrew/perls/perl-5.16.2/bin/perl)
# Net::Curl::version():
# 	libcurl/7.21.0 GnuTLS/2.8.6 zlib/1.2.3.4 libidn/1.15
# Net::Curl::version_info():
# 	{age} = 3;
# 	{ares_num} = 0;
# 	{features} = 
# 		| CURL_VERSION_IPV6 (1<<0)
# 		| CURL_VERSION_SSL (1<<2)
# 		| CURL_VERSION_LIBZ (1<<3)
# 		| CURL_VERSION_NTLM (1<<4)
# 		| CURL_VERSION_GSSNEGOTIATE (1<<5)
# 		| CURL_VERSION_LARGEFILE (1<<9)
# 		| CURL_VERSION_IDN (1<<10);
# 	missing features = 
# 		| CURL_VERSION_KERBEROS4 (1<<1)
# 		| CURL_VERSION_DEBUG (1<<6)
# 		| CURL_VERSION_ASYNCHDNS (1<<7)
# 		| CURL_VERSION_SPNEGO (1<<8)
# 		| CURL_VERSION_SSPI (1<<11)
# 		| CURL_VERSION_CONV (1<<12)
# 		| CURL_VERSION_CURLDEBUG (1<<13);
# 	{host} = 'i486-pc-linux-gnu';
# 	{iconv_ver_num} = 0;
# 	{libidn} = '1.15';
# 	{libz_version} = '1.2.3.4';
# 	{protocols} = dict, file, ftp, ftps, http, https, imap, imaps, ldap, ldaps, pop3, pop3s, rtsp, smtp, smtps, telnet, tftp;
# 	{ssl_version} = 'GnuTLS/2.8.6';
# 	{ssl_version_num} = 0;
# 	{version} = '7.21.0';
# 	{version_num} = 0x071500;
t/00-load.t .................... ok
Too late to run CHECK block at /home/c/perl5/perlbrew/perls/perl-5.16.2/lib/site_perl/5.16.2/i686-linux/EV.pm line 123.
Too late to run CHECK block at /home/c/perl5/perlbrew/perls/perl-5.16.2/lib/site_perl/5.16.2/i686-linux/EV.pm line 123.
t/01-net-curl-compatibility.t .. ok
t/02-const.t ................... ok
Too late to run CHECK block at /home/c/perl5/perlbrew/perls/perl-5.16.2/lib/site_perl/5.16.2/i686-linux/EV.pm line 123.
t/10-stats.t ................... ok
Too late to run CHECK block at /home/c/perl5/perlbrew/perls/perl-5.16.2/lib/site_perl/5.16.2/i686-linux/EV.pm line 123.
Too late to run CHECK block at /home/c/perl5/perlbrew/perls/perl-5.16.2/lib/site_perl/5.16.2/i686-linux/EV.pm line 123.
t/20-easy.t .................... ok
# setopt()/getinfo() are *forced* to fail so warnings are OK here!
Too late to run CHECK block at /home/c/perl5/perlbrew/perls/perl-5.16.2/lib/site_perl/5.16.2/i686-linux/EV.pm line 123.
Specify at least one OPTION/VALUE pair! at t/21-easy-bulk-getset.t line 48.
setopt() expects OPTION/VALUE pair, OPTION/VALUE hash or hashref! at t/21-easy-bulk-getset.t line 49.
Use of uninitialized value in numeric eq (==) at t/21-easy-bulk-getset.t line 51.
Invalid libcurl constant: CURLINFO_INVALIDNAME at /home/c/.cpan/build/AnyEvent-Net-Curl-Queued-0.046-dnXcjm/blib/lib/AnyEvent/Net/Curl/Queued/Easy.pm line 385.
getinfo() expects array/hash reference or string! at t/21-easy-bulk-getset.t line 98.
t/21-easy-bulk-getset.t ........ ok
Too late to run CHECK block at /home/c/perl5/perlbrew/perls/perl-5.16.2/lib/site_perl/5.16.2/i686-linux/EV.pm line 123.
t/30-queued-single.t ........... ok
Too late to run CHECK block at /home/c/perl5/perlbrew/perls/perl-5.16.2/lib/site_perl/5.16.2/i686-linux/EV.pm line 123.
t/31-queued.t .................. ok
Too late to run CHECK block at /home/c/perl5/perlbrew/perls/perl-5.16.2/lib/site_perl/5.16.2/i686-linux/EV.pm line 123.
t/40-loopback.t ................ ok
Too late to run CHECK block at /home/c/perl5/perlbrew/perls/perl-5.16.2/lib/site_perl/5.16.2/i686-linux/EV.pm line 123.
t/41-loopback-cb.t ............. ok
Too late to run CHECK block at /home/c/perl5/perlbrew/perls/perl-5.16.2/lib/site_perl/5.16.2/i686-linux/EV.pm line 123.
t/42-loopback-retry.t .......... ok
Too late to run CHECK block at /home/c/perl5/perlbrew/perls/perl-5.16.2/lib/site_perl/5.16.2/i686-linux/EV.pm line 123.
t/43-loopback-yada.t ........... ok
Too late to run CHECK block at /home/c/perl5/perlbrew/perls/perl-5.16.2/lib/site_perl/5.16.2/i686-linux/EV.pm line 123.
t/44-yada-simple.t ............. ok
Too late to run CHECK block at /home/c/perl5/perlbrew/perls/perl-5.16.2/lib/site_perl/5.16.2/i686-linux/EV.pm line 123.
t/50-recursion.t ............... ok
Too late to run CHECK block at /home/c/perl5/perlbrew/perls/perl-5.16.2/lib/site_perl/5.16.2/i686-linux/EV.pm line 123.
t/60-cleanup.t ................. ok
Too late to run CHECK block at /home/c/perl5/perlbrew/perls/perl-5.16.2/lib/site_perl/5.16.2/i686-linux/EV.pm line 123.
t/61-nest.t .................... ok
Too late to run CHECK block at /home/c/perl5/perlbrew/perls/perl-5.16.2/lib/site_perl/5.16.2/i686-linux/EV.pm line 123.
t/70-timeout.t ................. ok
Too late to run CHECK block at /home/c/perl5/perlbrew/perls/perl-5.16.2/lib/site_perl/5.16.2/i686-linux/EV.pm line 123.
t/71-bad-address.t ............. ok
Too late to run CHECK block at /home/c/perl5/perlbrew/perls/perl-5.16.2/lib/site_perl/5.16.2/i686-linux/EV.pm line 123.
t/72-non-http.t ................ ok
t/73-cycle.t ................... skipped: these tests are for testing by the author
t/74-exception.t ............... ok
t/author-critic.t .............. skipped: these tests are for testing by the author
t/author-test-eol.t ............ skipped: these tests are for testing by the author
t/release-cpan-changes.t ....... skipped: these tests are for release candidate testing
t/release-dist-manifest.t ...... skipped: these tests are for release candidate testing
t/release-distmeta.t ........... skipped: these tests are for release candidate testing
t/release-kwalitee.t ........... skipped: these tests are for release candidate testing
t/release-minimum-version.t .... skipped: these tests are for release candidate testing
t/release-mojibake.t ........... skipped: these tests are for release candidate testing
t/release-no-tabs.t ............ skipped: these tests are for release candidate testing
t/release-pod-coverage.t ....... skipped: these tests are for release candidate testing
t/release-pod-linkcheck.t ...... skipped: these tests are for release candidate testing
t/release-pod-syntax.t ......... skipped: these tests are for release candidate testing
t/release-portability.t ........ skipped: these tests are for release candidate testing
t/release-synopsis.t ........... skipped: these tests are for release candidate testing
t/release-test-version.t ....... skipped: these tests are for release candidate testing
t/release-unused-vars.t ........ skipped: these tests are for release candidate testing
All tests successful.
Files=38, Tests=2691, 22 wallclock secs ( 0.02 usr  0.78 sys +  3.28 cusr  2.45 csys =  6.53 CPU)
Result: PASS

------------------------------
PREREQUISITES
------------------------------

Prerequisite modules loaded:

requires:

    Module                 Need     Have    
    ---------------------- -------- --------
    AnyEvent               0        7.04    
    HTTP::Response         0        6.04    
    JSON                   0        2.53    
    Moo                    1.001000 1.003001
    MooX::Types::MooseLike 0.18     0.25    
    Net::Curl              0.25     0.32    
    URI                    0        1.60    

build_requires:

    Module                 Need     Have    
    ---------------------- -------- --------
    Test::Exception        0        0.31    
    Test::Warn             0        0.24    


------------------------------
ENVIRONMENT AND OTHER CONTEXT
------------------------------

Environment variables:

    AUTOMATED_TESTING = 1
    LANG = ru_RU.utf8
    PATH = /home/c/perl5/perlbrew/bin:/home/c/perl5/perlbrew/perls/perl-5.16.2/bin:/usr/local/bin:/usr/bin:/bin:/usr/local/games:/usr/games
    PERL5LIB = /home/c/.cpan/build/Net-Curl-0.32-Mqvl9M/blib/arch:/home/c/.cpan/build/Net-Curl-0.32-Mqvl9M/blib/lib:/home/c/.cpan/build/MooX-Types-MooseLike-0.25-i7zQ7w/blib/arch:/home/c/.cpan/build/MooX-Types-MooseLike-0.25-i7zQ7w/blib/lib:/home/c/.cpan/build/Moo-1.003001-PVCee0/blib/arch:/home/c/.cpan/build/Moo-1.003001-PVCee0/blib/lib:/home/c/.cpan/build/Devel-GlobalDestruction-0.11-ok9s2W/blib/arch:/home/c/.cpan/build/Devel-GlobalDestruction-0.11-ok9s2W/blib/lib:/home/c/.cpan/build/Role-Tiny-1.003002-p5Hx39/blib/arch:/home/c/.cpan/build/Role-Tiny-1.003002-p5Hx39/blib/lib
    PERL5OPT = 
    PERL5_CPANPLUS_IS_RUNNING = 20563
    PERL5_CPAN_IS_RUNNING = 20563
    PERL5_CPAN_IS_RUNNING_IN_RECURSION = 7474,20563
    PERLBREW_MANPATH = /home/c/perl5/perlbrew/perls/perl-5.16.2/man
    PERLBREW_PATH = /home/c/perl5/perlbrew/bin:/home/c/perl5/perlbrew/perls/perl-5.16.2/bin
    PERLBREW_PERL = perl-5.16.2
    PERLBREW_ROOT = /home/c/perl5/perlbrew
    PERLBREW_SKIP_INIT = 1
    PERLBREW_VERSION = 0.58
    PERL_CR_SMOKER_CURRENT = AnyEvent-Net-Curl-Queued-0.046
    PERL_EXTUTILS_AUTOINSTALL = --defaultdeps
    PERL_MM_USE_DEFAULT = 1
    SHELL = /bin/bash
    TERM = xterm

Perl special variables (and OS-specific diagnostics, for MSWin32):

    $^X = /home/c/perl5/perlbrew/perls/perl-5.16.2/bin/perl
    $UID/$EUID = 1000 / 1000
    $GID = 1000 24 25 27 29 30 44 46 108 109 115 1000 1001
    $EGID = 1000 24 25 27 29 30 44 46 108 109 115 1000 1001

Perl module toolchain versions installed:

    Module              Have    
    ------------------- --------
    CPAN                1.9800  
    CPAN::Meta          2.120921
    Cwd                 3.39_02 
    ExtUtils::CBuilder  0.280206
    ExtUtils::Command   1.17    
    ExtUtils::Install   1.58    
    ExtUtils::MakeMaker 6.63_02 
    ExtUtils::Manifest  1.61    
    ExtUtils::ParseXS   3.16    
    File::Spec          3.39_02 
    JSON                2.53    
    JSON::PP            2.27200 
    Module::Build       0.4004  
    Module::Signature   0.70    
    Parse::CPAN::Meta   1.4404  
    Test::Harness       3.23    
    Test::More          0.98    
    YAML                0.84    
    YAML::Syck          1.22    
    version             0.9901  


--

Summary of my perl5 (revision 5 version 16 subversion 2) configuration:
   
  Platform:
    osname=linux, osvers=2.6.32-5-686, archname=i686-linux
    uname='linux deb1 2.6.32-5-686 #1 smp sun sep 23 09:49:36 utc 2012 i686 gnulinux '
    config_args='-de -Dprefix=/home/c/perl5/perlbrew/perls/perl-5.16.2 -Aeval:scriptdir=/home/c/perl5/perlbrew/perls/perl-5.16.2/bin'
    hint=recommended, useposix=true, d_sigaction=define
    useithreads=undef, usemultiplicity=undef
    useperlio=define, d_sfio=undef, uselargefiles=define, usesocks=undef
    use64bitint=undef, use64bitall=undef, uselongdouble=undef
    usemymalloc=n, bincompat5005=undef
  Compiler:
    cc='cc', ccflags ='-fno-strict-aliasing -pipe -fstack-protector -I/usr/local/include -D_LARGEFILE_SOURCE -D_FILE_OFFSET_BITS=64',
    optimize='-O2',
    cppflags='-fno-strict-aliasing -pipe -fstack-protector -I/usr/local/include'
    ccversion='', gccversion='4.4.5', gccosandvers=''
    intsize=4, longsize=4, ptrsize=4, doublesize=8, byteorder=1234
    d_longlong=define, longlongsize=8, d_longdbl=define, longdblsize=12
    ivtype='long', ivsize=4, nvtype='double', nvsize=8, Off_t='off_t', lseeksize=8
    alignbytes=4, prototype=define
  Linker and Libraries:
    ld='cc', ldflags =' -fstack-protector -L/usr/local/lib'
    libpth=/usr/local/lib /lib/../lib /usr/lib/../lib /lib /usr/lib /usr/lib/i486-linux-gnu /usr/lib64
    libs=-lnsl -ldl -lm -lcrypt -lutil -lc
    perllibs=-lnsl -ldl -lm -lcrypt -lutil -lc
    libc=/lib/libc-2.11.3.so, so=so, useshrplib=false, libperl=libperl.a
    gnulibc_version='2.11.3'
  Dynamic Linking:
    dlsrc=dl_dlopen.xs, dlext=so, d_dlsymun=undef, ccdlflags='-Wl,-E'
    cccdlflags='-fPIC', lddlflags='-shared -O2 -L/usr/local/lib -fstack-protector'


Characteristics of this binary (from libperl): 
  Compile-time options: HAS_TIMES PERLIO_LAYERS PERL_DONT_CREATE_GVSV
                        PERL_MALLOC_WRAP PERL_PRESERVE_IVUV USE_LARGE_FILES
                        USE_LOCALE USE_LOCALE_COLLATE USE_LOCALE_CTYPE
                        USE_LOCALE_NUMERIC USE_PERLIO USE_PERL_ATOF
  Built under linux
  Compiled at Jan  4 2013 21:20:12
  %ENV:
    PERL5LIB="/home/c/.cpan/build/Net-Curl-0.32-Mqvl9M/blib/arch:/home/c/.cpan/build/Net-Curl-0.32-Mqvl9M/blib/lib:/home/c/.cpan/build/MooX-Types-MooseLike-0.25-i7zQ7w/blib/arch:/home/c/.cpan/build/MooX-Types-MooseLike-0.25-i7zQ7w/blib/lib:/home/c/.cpan/build/Moo-1.003001-PVCee0/blib/arch:/home/c/.cpan/build/Moo-1.003001-PVCee0/blib/lib:/home/c/.cpan/build/Devel-GlobalDestruction-0.11-ok9s2W/blib/arch:/home/c/.cpan/build/Devel-GlobalDestruction-0.11-ok9s2W/blib/lib:/home/c/.cpan/build/Role-Tiny-1.003002-p5Hx39/blib/arch:/home/c/.cpan/build/Role-Tiny-1.003002-p5Hx39/blib/lib"
    PERL5OPT=""
    PERL5_CPANPLUS_IS_RUNNING="20563"
    PERL5_CPAN_IS_RUNNING="20563"
    PERL5_CPAN_IS_RUNNING_IN_RECURSION="7474,20563"
    PERLBREW_MANPATH="/home/c/perl5/perlbrew/perls/perl-5.16.2/man"
    PERLBREW_PATH="/home/c/perl5/perlbrew/bin:/home/c/perl5/perlbrew/perls/perl-5.16.2/bin"
    PERLBREW_PERL="perl-5.16.2"
    PERLBREW_ROOT="/home/c/perl5/perlbrew"
    PERLBREW_SKIP_INIT="1"
    PERLBREW_VERSION="0.58"
    PERL_CR_SMOKER_CURRENT="AnyEvent-Net-Curl-Queued-0.046"
    PERL_EXTUTILS_AUTOINSTALL="--defaultdeps"
    PERL_MM_USE_DEFAULT="1"
  @INC:
    /home/c/.cpan/build/Net-Curl-0.32-Mqvl9M/blib/arch
    /home/c/.cpan/build/Net-Curl-0.32-Mqvl9M/blib/lib
    /home/c/.cpan/build/MooX-Types-MooseLike-0.25-i7zQ7w/blib/arch
    /home/c/.cpan/build/MooX-Types-MooseLike-0.25-i7zQ7w/blib/lib
    /home/c/.cpan/build/Moo-1.003001-PVCee0/blib/arch
    /home/c/.cpan/build/Moo-1.003001-PVCee0/blib/lib
    /home/c/.cpan/build/Devel-GlobalDestruction-0.11-ok9s2W/blib/arch
    /home/c/.cpan/build/Devel-GlobalDestruction-0.11-ok9s2W/blib/lib
    /home/c/.cpan/build/Role-Tiny-1.003002-p5Hx39/blib/arch
    /home/c/.cpan/build/Role-Tiny-1.003002-p5Hx39/blib/lib
    /home/c/perl5/perlbrew/perls/perl-5.16.2/lib/site_perl/5.16.2/i686-linux
    /home/c/perl5/perlbrew/perls/perl-5.16.2/lib/site_perl/5.16.2
    /home/c/perl5/perlbrew/perls/perl-5.16.2/lib/5.16.2/i686-linux
    /home/c/perl5/perlbrew/perls/perl-5.16.2/lib/5.16.2
    .