Report for Text-Balanced-2.03

Back
From: metabase:user:5bbb2efa-715f-11e3-8cc1-b2993ff2e0c7
Subject: PASS Text-Balanced-2.03 v5.20.1 SunOS/Solaris
Date: 2015-05-16T15:59:49Z

This distribution has been tested as part of the CPAN Testers
project, supporting the Perl programming language.  See
http://wiki.cpantesters.org/ for more information or email
questions to cpan-testers-discuss@perl.org


--
Dear SHAY,

This is a computer-generated report for Text-Balanced-2.03
on perl 5.20.1, created by NX::cpanminus::reporter 0.10 (1.7025).

Thank you for uploading your work to CPAN.  Congratulations!
All tests were successful.

Sections of this report:

    * Tester comments
    * Program output
    * Prerequisites
    * Environment and other context

------------------------------
TESTER COMMENTS
------------------------------

Additional comments from tester:

none provided

------------------------------
PROGRAM OUTPUT
------------------------------

Output from '':

Building and testing Text-Balanced-2.03
cp lib/Text/Balanced.pm blib/lib/Text/Balanced.pm
Manifying 1 pod document
PERL_DL_NONLAZY=1 "/home/ollisg/opt/perl/5.20.1/bin/perl" "-MExtUtils::Command::MM" "-MTest::Harness" "-e" "undef *Test::Harness::Switches; test_harness(0, 'blib/lib', 'blib/arch')" t/*.t
t/01_compile.t .. ok
t/02_extbrk.t ... ok
t/03_extcbk.t ... ok
t/04_extdel.t ... ok
t/05_extmul.t ... ok
t/06_extqlk.t ... ok
t/07_exttag.t ... ok
t/08_extvar.t ... ok
t/09_gentag.t ... ok
t/97_meta.t ..... skipped: Author tests not required for installation
t/98_pod.t ...... skipped: Author tests not required for installation
t/99_pmv.t ...... skipped: Author tests not required for installation
All tests successful.
Files=12, Tests=560,  1 wallclock secs ( 0.13 usr  0.05 sys +  0.40 cusr  0.13 csys =  0.71 CPU)
Result: PASS

------------------------------
PREREQUISITES
------------------------------

Prerequisite modules loaded:

    No requirements found

------------------------------
ENVIRONMENT AND OTHER CONTEXT
------------------------------

Environment variables:

    LANG = en_US.UTF-8
    LC_COLLATE = C
    PATH = /home/ollisg/perl5/5.20.1/bin:/home/ollisg/opt/perl/5.20.1/bin:/home/ollisg/bin:/opt/solarisstudio12.3/bin:/usr/bin:/bin
    PERL5LIB = /home/ollisg/perl5/5.20.1/lib/perl5/i86pc-solaris:/home/ollisg/perl5/5.20.1/lib/perl5
    PERL_CPANM_OPT = --mirror http://mirror.sydney.wdlabs.com/cpan/ --mirror-only
    PERL_LOCAL_LIB_ROOT = /home/ollisg/perl5/5.20.1
    PERL_MB_OPT = --install_base /home/ollisg/perl5/5.20.1
    PERL_MM_OPT = INSTALL_BASE=/home/ollisg/perl5/5.20.1
    SHELL = /bin/tcsh
    TERM = xterm

Perl special variables (and OS-specific diagnostics, for MSWin32):

    EGID = 10 10
    EUID = 101
    EXECUTABLE_NAME = /home/ollisg/opt/perl/5.20.1/bin/perl
    GID = 10 10
    UID = 101

Perl module toolchain versions installed:

    Module              Have    
    ------------------- --------
    CPAN                2.10    
    CPAN::Meta          2.150001
    Cwd                 3.48    
    ExtUtils::CBuilder  0.280220
    ExtUtils::Command   1.20    
    ExtUtils::Install   2.04    
    ExtUtils::MakeMaker 7.04    
    ExtUtils::Manifest  1.70    
    ExtUtils::ParseXS   3.24    
    File::Spec          3.48    
    JSON                2.90    
    JSON::PP            2.27300 
    Module::Build       0.4211  
    Module::Signature   n/a     
    Parse::CPAN::Meta   1.4414  
    Test::Harness       3.35    
    Test::More          1.001014
    YAML                1.15    
    YAML::Syck          n/a     
    version             0.9912  


--

Summary of my perl5 (revision 5 version 20 subversion 1) configuration:
   
  Platform:
    osname=solaris, osvers=2.11, archname=i86pc-solaris-64
    uname='sunos sun 5.11 oi_151a5 i86pc i386 i86pc '
    config_args='-Duse64bitall'
    hint=recommended, useposix=true, d_sigaction=define
    useithreads=undef, usemultiplicity=undef
    use64bitint=define, use64bitall=define, uselongdouble=undef
    usemymalloc=n, bincompat5005=undef
  Compiler:
    cc='cc', ccflags ='-m64 -D_LARGEFILE_SOURCE -D_FILE_OFFSET_BITS=64 -DPERL_USE_SAFE_PUTENV',
    optimize='-O',
    cppflags='-m64'
    ccversion='Sun C 5.12 SunOS_i386 2011/11/16', gccversion='', gccosandvers=''
    intsize=4, longsize=8, ptrsize=8, doublesize=8, byteorder=12345678
    d_longlong=define, longlongsize=8, d_longdbl=define, longdblsize=16
    ivtype='long', ivsize=8, nvtype='double', nvsize=8, Off_t='off_t', lseeksize=8
    alignbytes=8, prototype=define
  Linker and Libraries:
    ld='cc', ldflags =' -m64 -L/opt/solarisstudio12.3/prod/lib/amd64 -L/lib/64 -L/usr/gnu/lib '
    libpth=/opt/solarisstudio12.3/prod/lib/amd64 /lib/64 /usr/gnu/lib /usr/lib /usr/ccs/lib
    libs=-lsocket -lnsl -ldl -lm -lc
    perllibs=-lsocket -lnsl -ldl -lm -lc
    libc=/lib/libc.so, so=so, useshrplib=false, libperl=libperl.a
    gnulibc_version=''
  Dynamic Linking:
    dlsrc=dl_dlopen.xs, dlext=so, d_dlsymun=undef, ccdlflags=' '
    cccdlflags='-KPIC', lddlflags=' -G -m64 -L/opt/solarisstudio12.3/prod/lib/amd64 -L/lib/64 -L/usr/gnu/lib'


Characteristics of this binary (from libperl): 
  Compile-time options: HAS_TIMES PERLIO_LAYERS PERL_DONT_CREATE_GVSV
                        PERL_HASH_FUNC_ONE_AT_A_TIME_HARD PERL_MALLOC_WRAP
                        PERL_NEW_COPY_ON_WRITE PERL_PRESERVE_IVUV
                        PERL_USE_SAFE_PUTENV USE_64_BIT_ALL USE_64_BIT_INT
                        USE_LARGE_FILES USE_LOCALE USE_LOCALE_COLLATE
                        USE_LOCALE_CTYPE USE_LOCALE_NUMERIC USE_PERLIO
                        USE_PERL_ATOF
  Built under solaris
  Compiled at Feb 12 2015 22:45:25
  %ENV:
    PERL5LIB="/home/ollisg/perl5/5.20.1/lib/perl5/i86pc-solaris:/home/ollisg/perl5/5.20.1/lib/perl5"
    PERL_CPANM_OPT="--mirror http://mirror.sydney.wdlabs.com/cpan/ --mirror-only"
    PERL_LOCAL_LIB_ROOT="/home/ollisg/perl5/5.20.1"
    PERL_MB_OPT="--install_base /home/ollisg/perl5/5.20.1"
    PERL_MM_OPT="INSTALL_BASE=/home/ollisg/perl5/5.20.1"
  @INC:
    /home/ollisg/perl5/5.20.1/lib/perl5/i86pc-solaris
    /home/ollisg/perl5/5.20.1/lib/perl5/i86pc-solaris-64
    /home/ollisg/perl5/5.20.1/lib/perl5
    /home/ollisg/opt/perl/5.20.1/lib/site_perl/5.20.1/i86pc-solaris-64
    /home/ollisg/opt/perl/5.20.1/lib/site_perl/5.20.1
    /home/ollisg/opt/perl/5.20.1/lib/5.20.1/i86pc-solaris-64
    /home/ollisg/opt/perl/5.20.1/lib/5.20.1
    .