Perl-Critic v1.156 Perl 5 v5.28.2 MSWin32-x64-multi-thread
- Status
- Pass
- From
- twata
- Dist
-
Perl-Critic v1.156
- Platform
- Perl 5 v5.28.2 MSWin32-x64-multi-thread
- Date
- 2024-10-26 11:58:16
- ID
- 94f8d5a4-6e6e-1014-8279-f257cb952333
This distribution has been tested as part of the CPAN Testers
project, supporting the Perl programming language. See
http://wiki.cpantesters.org/ for more information or email
questions to cpan-testers-discuss@perl.org
--
Dear Andy Lester,
This is a computer-generated report for Perl-Critic-1.156
on perl 5.28.2, created by CPAN-Reporter-1.2020.
Thank you for uploading your work to CPAN. Congratulations!
All tests were successful.
Sections of this report:
* Tester comments
* Program output
* Prerequisites
* Environment and other context
------------------------------
TESTER COMMENTS
------------------------------
Additional comments from tester:
none provided
------------------------------
PROGRAM OUTPUT
------------------------------
Output from 'C:\Strawberry\perl\bin\perl.exe ./Build test':
# Testing Perl::Critic 1.156 with PPI 1.279 under Perl 5.028002, C:\Strawberry\perl\bin\perl.exe
t\00_modules.t ................................ ok
t\00_versions.t ............................... ok
t\01_config.t ................................. ok
t\01_config_bad_perlcriticrc.t ................ ok
t\01_policy_config.t .......................... ok
t\02_policy.t ................................. ok
t\03_annotations.t ............................ ok
t\03_pragmas.t ................................ ok
t\04_options_processor.t ...................... ok
t\05_utils.t .................................. ok
t\05_utils_perl.t ............................. ok
t\05_utils_pod.t .............................. ok
t\05_utils_ppi.t .............................. ok
t\06_violation.t .............................. ok
t\07_command.t ................................ ok
t\07_perlcritic.t ............................. ok
t\08_document.t ............................... ok
t\09_theme.t .................................. ok
t\10_user_profile.t ........................... ok
t\11_policy_factory.t ......................... ok
t\12_policy_listing.t ......................... ok
t\12_theme_listing.t .......................... ok
t\13_bundled_policies.t ....................... ok
t\14_policy_parameter_behavior_boolean.t ...... ok
t\14_policy_parameter_behavior_enumeration.t .. ok
t\14_policy_parameter_behavior_integer.t ...... ok
t\14_policy_parameter_behavior_list_string.t .. ok
t\14_policy_parameter_behavior_string.t ....... ok
t\14_policy_parameters.t ...................... ok
t\15_statistics.t ............................. ok
t\16_roundtrip_defaults.t ..................... ok
t\20_policies.t ............................... ok
t\20_policy_pod_spelling.t .................... ok
t\20_policy_prohibit_evil_modules.t ........... ok
t\20_policy_prohibit_hard_tabs.t .............. ok
t\20_policy_prohibit_trailing_whitespace.t .... ok
t\20_policy_require_consistent_newlines.t ..... ok
t\20_policy_require_tidy_code.t ............... ok
Unhandled type: REGEXP at C:/Strawberry/perl/vendor/lib/Devel/Cycle.pm line 107.
t\92_memory_leaks.t ........................... ok
t\gh-734.t .................................... ok
All tests successful.
Files=40, Tests=8211, 181 wallclock secs ( 1.33 usr + 0.14 sys = 1.47 CPU)
Result: PASS
------------------------------
PREREQUISITES
------------------------------
Prerequisite modules loaded:
requires:
Module Need Have
------------------------- -------- --------
B::Keywords 1.23 1.27
Carp 0 1.50
charnames 0 1.45
Config::Tiny 2 2.30
English 0 1.10
Exception::Class 1.23 1.45
Exporter 5.63 5.78
File::Basename 0 2.85
File::Find 0 1.34
File::Path 0 2.18
File::Spec 0 3.75
File::Spec::Unix 0 3.75
File::Temp 0 0.2311
File::Which 0 1.27
Getopt::Long 0 2.58
List::SomeUtils 0.55 0.59
List::Util 0 1.68
Module::Pluggable 3.1 5.2
overload 0 1.30
parent 0 0.242
perl 5.010001 5.028002
Perl::Tidy 0 20240903
Pod::PlainText 0 2.07
Pod::Select 0 1.67
Pod::Spell 1 1.27
Pod::Usage 0 2.03
PPI 1.277 1.279
PPI::Document 1.277 1.279
PPI::Document::File 1.277 1.279
PPI::Node 1.277 1.279
PPI::Token::Quote::Single 1.277 1.279
PPI::Token::Whitespace 1.277 1.279
PPIx::QuoteLike 0 0.023
PPIx::Regexp 0.027 0.088
PPIx::Regexp::Util 0.068 0.088
PPIx::Utils::Traversal 0.003 0.003
Readonly 2 2.05
Scalar::Util 0 1.68
strict 0 1.11
String::Format 1.18 1.18
Term::ANSIColor 2.02 4.06
Test::Builder 0.92 1.302204
Text::ParseWords 3 3.31
version 0.77 0.9933
warnings 0 1.42
build_requires:
Module Need Have
------------------------- -------- --------
lib 0 0.64
Test::More 0 1.302204
configure_requires:
Module Need Have
------------------------- -------- --------
B::Keywords 1.23 1.27
base 0 2.27
Carp 0 1.50
English 0 1.10
Exporter 5.63 5.78
lib 0 0.64
List::SomeUtils 0.55 0.59
Module::Build 0.4204 0.42_35
------------------------------
ENVIRONMENT AND OTHER CONTEXT
------------------------------
Environment variables:
COMSPEC = C:\WINDOWS\system32\cmd.exe
NONINTERACTIVE_TESTING = 1
NUMBER_OF_PROCESSORS = 4
PATH = C:\home\gardenseat\perl5\bin;C:\WINDOWS\system32;C:\WINDOWS;C:\WINDOWS\System32\Wbem;C:\WINDOWS\System32\WindowsPowerShell\v1.0\;C:\Strawberry\c\bin;C:\Strawberry\perl\site\bin;C:\Strawberry\perl\bin
PERL5LIB = C:\home\gardenseat\perl5\lib\perl5
PERL5OPT =
PERL5_CPANPLUS_IS_RUNNING = 17324
PERL5_CPAN_IS_RUNNING = 17324
PERL_LOCAL_LIB_ROOT = C:\home\gardenseat\perl5
PERL_MB_OPT = --install_base "C:\\home\\gardenseat\\perl5"
PERL_MM_OPT = INSTALL_BASE=C:\\home\\gardenseat\\perl5
PERL_MM_USE_DEFAULT = 1
PERL_USE_UNSAFE_INC = 1
PROCESSOR_IDENTIFIER = Intel64 Family 6 Model 58 Stepping 9, GenuineIntel
TEMP = C:\Users\USER\AppData\Local\Temp
TERM = dumb
Perl special variables (and OS-specific diagnostics, for MSWin32):
$^X = C:\Strawberry\perl\bin\perl.exe
$UID/$EUID = 0 / 0
$GID = 0
$EGID = 0
Win32::GetOSName = Win8.1
Win32::GetOSVersion = , 6, 3, 9600, 2, 0, 0, 256, 1
Win32::FsType = NTFS
Win32::IsAdminUser = 0
Perl module toolchain versions installed:
Module Have
------------------- --------
CPAN 2.34
CPAN::Meta 2.150010
Cwd 3.75
ExtUtils::CBuilder 0.280236
ExtUtils::Command 7.71_01
ExtUtils::Install 2.22
ExtUtils::MakeMaker 7.71_01
ExtUtils::Manifest 1.75
ExtUtils::ParseXS 3.51
File::Spec 3.75
JSON 4.10
JSON::PP 4.17_01
Module::Build 0.42_35
Module::Signature 0.89
Parse::CPAN::Meta 2.150010
Test2 1.302204
Test::Harness 3.50
Test::More 1.302204
YAML 1.31
YAML::Syck 1.34
version 0.9933
--
Summary of my perl5 (revision 5 version 28 subversion 2) configuration:
Platform:
osname=MSWin32
osvers=10.0.17763.437
archname=MSWin32-x64-multi-thread
uname='Win32 strawberry-perl 5.28.2.1 #1 Wed May 1 21:18:04 2019 x64'
config_args='undef'
hint=recommended
useposix=true
d_sigaction=undef
useithreads=define
usemultiplicity=define
use64bitint=define
use64bitall=undef
uselongdouble=undef
usemymalloc=n
default_inc_excludes_dot=define
bincompat5005=undef
Compiler:
cc='gcc'
ccflags =' -s -O2 -DWIN32 -DWIN64 -DCONSERVATIVE -D__USE_MINGW_ANSI_STDIO -DPERL_TEXTMODE_SCRIPTS -DPERL_IMPLICIT_CONTEXT -DPERL_IMPLICIT_SYS -DUSE_PERLIO -fwrapv -fno-strict-aliasing -mms-bitfields'
optimize='-s -O2'
cppflags='-DWIN32'
ccversion=''
gccversion='7.1.0'
gccosandvers=''
intsize=4
longsize=4
ptrsize=8
doublesize=8
byteorder=12345678
doublekind=3
d_longlong=define
longlongsize=8
d_longdbl=define
longdblsize=16
longdblkind=3
ivtype='long long'
ivsize=8
nvtype='double'
nvsize=8
Off_t='long long'
lseeksize=8
alignbytes=8
prototype=define
Linker and Libraries:
ld='g++'
ldflags ='-s -L"C:\Strawberry\perl\lib\CORE" -L"C:\Strawberry\c\lib"'
libpth=C:\Strawberry\c\lib C:\Strawberry\c\x86_64-w64-mingw32\lib C:\Strawberry\c\lib\gcc\x86_64-w64-mingw32\7.1.0
libs= -lmoldname -lkernel32 -luser32 -lgdi32 -lwinspool -lcomdlg32 -ladvapi32 -lshell32 -lole32 -loleaut32 -lnetapi32 -luuid -lws2_32 -lmpr -lwinmm -lversion -lodbc32 -lodbccp32 -lcomctl32
perllibs= -lmoldname -lkernel32 -luser32 -lgdi32 -lwinspool -lcomdlg32 -ladvapi32 -lshell32 -lole32 -loleaut32 -lnetapi32 -luuid -lws2_32 -lmpr -lwinmm -lversion -lodbc32 -lodbccp32 -lcomctl32
libc=
so=dll
useshrplib=true
libperl=libperl528.a
gnulibc_version=''
Dynamic Linking:
dlsrc=dl_win32.xs
dlext=xs.dll
d_dlsymun=undef
ccdlflags=' '
cccdlflags=' '
lddlflags='-mdll -s -L"C:\Strawberry\perl\lib\CORE" -L"C:\Strawberry\c\lib"'
Characteristics of this binary (from libperl):
Compile-time options:
HAS_TIMES
HAVE_INTERP_INTERN
MULTIPLICITY
PERLIO_LAYERS
PERL_COPY_ON_WRITE
PERL_DONT_CREATE_GVSV
PERL_IMPLICIT_CONTEXT
PERL_IMPLICIT_SYS
PERL_MALLOC_WRAP
PERL_OP_PARENT
PERL_PRESERVE_IVUV
USE_64_BIT_INT
USE_ITHREADS
USE_LARGE_FILES
USE_LOCALE
USE_LOCALE_COLLATE
USE_LOCALE_CTYPE
USE_LOCALE_NUMERIC
USE_LOCALE_TIME
USE_PERLIO
USE_PERL_ATOF
Built under MSWin32
Compiled at May 1 2019 21:42:15
%ENV:
PERL5LIB="C:\home\gardenseat\perl5\lib\perl5"
PERL5_CPANPLUS_IS_RUNNING="17324"
PERL5_CPAN_IS_RUNNING="17324"
PERL_LOCAL_LIB_ROOT="C:\home\gardenseat\perl5"
PERL_MB_OPT="--install_base "C:\\home\\gardenseat\\perl5""
PERL_MM_OPT="INSTALL_BASE=C:\\home\\gardenseat\\perl5"
PERL_MM_USE_DEFAULT="1"
PERL_USE_UNSAFE_INC="1"
@INC:
C:\home\gardenseat\perl5\lib\perl5/MSWin32-x64-multi-thread
C:\home\gardenseat\perl5\lib\perl5
C:/Strawberry/perl/site/lib
C:/Strawberry/perl/vendor/lib
C:/Strawberry/perl/lib
.