Report for Yash-0.2

Back
From: metabase:user:322078bc-2aae-11df-837a-5e0a49663a4f
Subject: PASS Yash-0.2 v5.13.1 GNU/Linux
Date: 2010-11-12T00:55:45Z

This distribution has been tested as part of the CPAN Testers
project, supporting the Perl programming language.  See
http://wiki.cpantesters.org/ for more information or email
questions to cpan-testers-discuss@perl.org


--

Dear IDERRICK,
    
This is a computer-generated error report created automatically by
CPANPLUS, version 0.9007. Testers personal comments may appear 
at the end of this report.

MAKE TEST passed:
t/array.t ... ok
t/hash.t .... ok
t/scalar.t .. ok
All tests successful.
Files=3, Tests=10, 11 wallclock secs ( 0.19 usr  0.03 sys +  8.86 cusr  0.74 csys =  9.82 CPU)
Result: PASS

[MSG] [Fri Nov 12 00:55:45 2010] Sending test report for 'Yash-0.2'

This report was machine-generated by CPANPLUS::Dist::YACSmoke 0.58.
Powered by minismokebox version 0.32

------------------------------
ENVIRONMENT AND OTHER CONTEXT
------------------------------

Environment variables:

    AUTOMATED_TESTING = 1
    LANG = en_GB.UTF-8
    PATH = /usr/local/bin:/usr/bin:/bin:/usr/games
    PERL5LIB = :/home/cpan/pit/bare/conf/perl-5.13.1/.cpanplus/5.13.1/build/YAML-0.72/blib/lib:/home/cpan/pit/bare/conf/perl-5.13.1/.cpanplus/5.13.1/build/YAML-0.72/blib/arch:/home/cpan/pit/bare/conf/perl-5.13.1/.cpanplus/5.13.1/build/Yash-0.2/blib/lib:/home/cpan/pit/bare/conf/perl-5.13.1/.cpanplus/5.13.1/build/Yash-0.2/blib/arch
    PERL5_CPANPLUS_IS_RUNNING = 14087
    PERL5_CPANPLUS_IS_VERSION = 0.9007
    PERL5_MINISMOKEBOX = 0.32
    PERL5_YACSMOKE_BASE = /home/cpan/pit/bare/conf/perl-5.13.1
    PERL_EXTUTILS_AUTOINSTALL = --defaultdeps
    PERL_MM_USE_DEFAULT = 1
    SHELL = /bin/bash
    TERM = screen.linux

Perl special variables (and OS-specific diagnostics, for MSWin32):

    Perl: $^X = /home/cpan/pit/bare/perl-5.13.1/bin/perl5.13.1
    UID:  $<  = 1001
    EUID: $>  = 1001
    GID:  $(  = 1001 1001
    EGID: $)  = 1001 1001


-------------------------------


--

Summary of my perl5 (revision 5 version 13 subversion 1) configuration:
   
  Platform:
    osname=linux, osvers=2.6.26-2-alpha-generic, archname=alpha-linux
    uname='linux debauch 2.6.26-2-alpha-generic #1 tue mar 9 22:27:23 utc 2010 alpha gnulinux '
    config_args='-des -Dusedevel -Dprefix=/home/cpan/pit/bare/perl-5.13.1'
    hint=recommended, useposix=true, d_sigaction=define
    useithreads=undef, usemultiplicity=undef
    useperlio=define, d_sfio=undef, uselargefiles=define, usesocks=undef
    use64bitint=define, use64bitall=define, uselongdouble=undef
    usemymalloc=n, bincompat5005=undef
  Compiler:
    cc='cc', ccflags ='-fno-strict-aliasing -pipe -I/usr/local/include -D_LARGEFILE_SOURCE -D_FILE_OFFSET_BITS=64',
    optimize='-O2',
    cppflags='-fno-strict-aliasing -pipe -I/usr/local/include'
    ccversion='', gccversion='4.2.4 (Debian 4.2.4-6)', gccosandvers=''
    intsize=4, longsize=8, ptrsize=8, doublesize=8, byteorder=12345678
    d_longlong=define, longlongsize=8, d_longdbl=define, longdblsize=16
    ivtype='long', ivsize=8, nvtype='double', nvsize=8, Off_t='off_t', lseeksize=8
    alignbytes=8, prototype=define
  Linker and Libraries:
    ld='cc', ldflags =' -L/usr/local/lib'
    libpth=/usr/local/lib /lib /usr/lib
    libs=-lnsl -ldl -lm -lcrypt -lutil -lc
    perllibs=-lnsl -ldl -lm -lcrypt -lutil -lc
    libc=, so=so, useshrplib=false, libperl=libperl.a
    gnulibc_version='2.7'
  Dynamic Linking:
    dlsrc=dl_dlopen.xs, dlext=so, d_dlsymun=undef, ccdlflags='-Wl,-E'
    cccdlflags='-fPIC', lddlflags='-shared -O2 -L/usr/local/lib'


Characteristics of this binary (from libperl): 
  Compile-time options: PERL_DONT_CREATE_GVSV PERL_MALLOC_WRAP PERL_USE_DEVEL
                        USE_64_BIT_ALL USE_64_BIT_INT USE_LARGE_FILES
                        USE_PERLIO USE_PERL_ATOF
  Built under linux
  Compiled at May 21 2010 17:18:43
  %ENV:
    PERL5LIB=":/home/cpan/pit/bare/conf/perl-5.13.1/.cpanplus/5.13.1/build/YAML-0.72/blib/lib:/home/cpan/pit/bare/conf/perl-5.13.1/.cpanplus/5.13.1/build/YAML-0.72/blib/arch:/home/cpan/pit/bare/conf/perl-5.13.1/.cpanplus/5.13.1/build/Yash-0.2/blib/lib:/home/cpan/pit/bare/conf/perl-5.13.1/.cpanplus/5.13.1/build/Yash-0.2/blib/arch"
    PERL5_CPANPLUS_IS_RUNNING="14087"
    PERL5_CPANPLUS_IS_VERSION="0.9007"
    PERL5_MINISMOKEBOX="0.32"
    PERL5_YACSMOKE_BASE="/home/cpan/pit/bare/conf/perl-5.13.1"
    PERL_EXTUTILS_AUTOINSTALL="--defaultdeps"
    PERL_MM_USE_DEFAULT="1"
  @INC:
    /home/cpan/pit/bare/conf/perl-5.13.1/.cpanplus/5.13.1/build/YAML-0.72/blib/lib
    /home/cpan/pit/bare/conf/perl-5.13.1/.cpanplus/5.13.1/build/YAML-0.72/blib/arch
    /home/cpan/pit/bare/conf/perl-5.13.1/.cpanplus/5.13.1/build/Yash-0.2/blib/lib
    /home/cpan/pit/bare/conf/perl-5.13.1/.cpanplus/5.13.1/build/Yash-0.2/blib/arch
    /home/cpan/pit/bare/perl-5.13.1/lib/site_perl/5.13.1/alpha-linux
    /home/cpan/pit/bare/perl-5.13.1/lib/site_perl/5.13.1
    /home/cpan/pit/bare/perl-5.13.1/lib/5.13.1/alpha-linux
    /home/cpan/pit/bare/perl-5.13.1/lib/5.13.1
    .