Back
From: metabase:user:30f4dfbe-2aae-11df-837a-5e0a49663a4f
Subject: PASS Wiki-Toolkit-0.80 v5.15.1 GNU/Linux
Date: 2012-08-14T10:27:00Z
This distribution has been tested as part of the CPAN Testers
project, supporting the Perl programming language. See
http://wiki.cpantesters.org/ for more information or email
questions to cpan-testers-discuss@perl.org
--
Dear Dominic Hargreaves,
This is a computer-generated report for Wiki-Toolkit-0.80
on perl 5.15.1, created by CPAN-Reporter-1.2006.
Thank you for uploading your work to CPAN. Congratulations!
All tests were successful.
Sections of this report:
* Tester comments
* Program output
* Prerequisites
* Environment and other context
------------------------------
TESTER COMMENTS
------------------------------
Additional comments from tester:
this report is from an automated smoke testing program
and was not reviewed by a human for accuracy
------------------------------
PROGRAM OUTPUT
------------------------------
Output from '/usr/bin/make test':
PERL_DL_NONLAZY=1 /home/njh/perl5/perlbrew/perls/perl-5.15.1/bin/perl5.15.1 "-MExtUtils::Command::MM" "-e" "test_harness(0, 'blib/lib', 'blib/arch')" t/*.t
t/001_load.t ........................... ok
t/002_datastore_setup.t ................ ok
t/003_instantiate.t .................... ok
t/004_write_and_retrieve.t ............. ok
t/005_delete.t ......................... ok
t/006_list_all.t ....................... ok
t/007_search.t ......................... ok
t/008_write_and_rewrite.t .............. ok
t/009_backlinks.t ...................... ok
t/010_metadata.t ....................... ok
t/011_recent_changes.t ................. ok
t/012_blank_data.t ..................... ok
t/013_fuzzy_title_match.t .............. ok
t/014_advanced_metadata.t .............. ok
t/015_dangling_links.t ................. ok
t/016_recent_changes_between.t ......... ok
Asked to delete non existant version 2 of node 5 (Five Node) at /home/njh/.cpan/build/Wiki-Toolkit-0.80-6NCVde/blib/lib/Wiki/Toolkit/Store/Database.pm line 1053.
t/017_delete_version.t ................. ok
t/018_rc_multiple_metadata_criteria.t .. ok
t/019_recent_changes_case.t ............ ok
t/020_node_exists_case_insensitive.t ... ok
t/021_moderation.t ..................... ok
t/022_list_unmoderated.t ............... ok
t/025_list_node_all_versions.t ......... ok
t/026_schema_current.t ................. ok
t/027_list_last_version_before.t ....... ok
t/040_rename.t ......................... ok
t/050_mysql_store.t .................... ok
t/051_pg_store.t ....................... ok
t/052_sqlite_store.t ................... ok
t/060_recent_changes_new_only.t ........ ok
t/061_list_metadata_by_type.t .......... ok
t/062_recent_changes_metadata_was.t .... ok
t/100_formatting.t ..................... ok
t/101_default_formatter.t .............. ok
t/102_multiple_formatter.t ............. ok
t/150_plugins.t ........................ ok
t/151_plugin_methods.t ................. ok
t/152_pre_plugin_approval.t ............ ok
t/297_feed_rss_recentchanges.t ......... ok
t/298_feed_rss_node_all_versions.t ..... ok
t/299_feed_rss_gen_node_dist_feed.t .... ok
t/300_feed_atom_setup.t ................ ok
t/301_feed_atom_add_test_data.t ........ ok
t/302_feed_atom_recentchanges.t ........ ok
t/303_feed_atom_node_all_versions.t .... ok
t/304_feed_atom_gen_node_dist_feed.t ... ok
t/400_upgrade.t ........................ ok
t/401_null_change.t .................... ok
t/500_pod.t ............................ ok
All tests successful.
Files=49, Tests=944, 175 wallclock secs ( 0.17 usr 0.04 sys + 2.72 cusr 0.47 csys = 3.40 CPU)
Result: PASS
------------------------------
PREREQUISITES
------------------------------
Prerequisite modules loaded:
requires:
Module Need Have
------------------- ---- -------
DBD::SQLite 0.25 1.37
DBI 0 1.622
Digest::MD5 0 2.52
HTML::PullParser 0 3.57
Test::More 0 0.98
Text::WikiFormat 0.78 0.80
Time::Piece 0 1.20_01
build_requires:
Module Need Have
------------------- ---- -------
ExtUtils::MakeMaker 0 6.62
configure_requires:
Module Need Have
------------------- ---- -------
ExtUtils::MakeMaker 0 6.62
------------------------------
ENVIRONMENT AND OTHER CONTEXT
------------------------------
Environment variables:
AUTOMATED_TESTING = 1
LANG = en_GB.UTF-8
LANGUAGE = en_GB:en
PATH = /home/njh/perl5/perlbrew/bin:/home/njh/perl5/perlbrew/perls/perl-5.15.1/bin:/usr/bin:/bin
PERL5LIB = /home/njh/.cpan/build/Text-WikiFormat-0.80-4ytMLV/blib/arch:/home/njh/.cpan/build/Text-WikiFormat-0.80-4ytMLV/blib/lib:/home/njh/.cpan/build/URI-Find-Delimited-0.02-vZmJY6/blib/arch:/home/njh/.cpan/build/URI-Find-Delimited-0.02-vZmJY6/blib/lib
PERL5OPT =
PERL5_CPANPLUS_IS_RUNNING = 16674
PERL5_CPAN_IS_RUNNING = 16674
PERL5_MINISMOKEBOX = 0.54
PERLBREW_MANPATH = /home/njh/perl5/perlbrew/perls/perl-5.15.1/man
PERLBREW_PATH = /home/njh/perl5/perlbrew/bin:/home/njh/perl5/perlbrew/perls/perl-5.15.1/bin
PERLBREW_PERL = perl-5.15.1
PERLBREW_ROOT = /home/njh/perl5/perlbrew
PERLBREW_VERSION = 0.46
PERL_EXTUTILS_AUTOINSTALL = --defaultdeps
PERL_MM_USE_DEFAULT = 1
SHELL = /bin/sh
Perl special variables (and OS-specific diagnostics, for MSWin32):
$^X = /home/njh/perl5/perlbrew/perls/perl-5.15.1/bin/perl5.15.1
$UID/$EUID = 1000 / 1000
$GID = 1000 24 25 29 30 44 46 108 112 1000
$EGID = 1000 24 25 29 30 44 46 108 112 1000
Perl module toolchain versions installed:
Module Have
------------------- --------
CPAN 1.9800
CPAN::Meta 2.120921
Cwd 3.37
ExtUtils::CBuilder 0.280205
ExtUtils::Command 1.17
ExtUtils::Install 1.56
ExtUtils::MakeMaker 6.62
ExtUtils::Manifest 1.60
ExtUtils::ParseXS 3.15
File::Spec 3.33
JSON 2.53
JSON::PP 2.27200
Module::Build 0.4002
Module::Signature 0.68
Parse::CPAN::Meta 1.4404
Test::Harness 3.25
Test::More 0.98
YAML 0.84
YAML::Syck 1.20
version 0.99
--
Summary of my perl5 (revision 5 version 15 subversion 1) configuration:
Platform:
osname=linux, osvers=3.2.0-2-amd64, archname=x86_64-linux
uname='linux gateway 3.2.0-2-amd64 #1 smp sun apr 15 16:47:38 utc 2012 x86_64 gnulinux '
config_args='-de -Dprefix=/home/njh/perl5/perlbrew/perls/perl-5.15.1 -Dusedevel -Accflags=-O2 -W -Wformat=2 -Wswitch -Wshadow -Wwrite-strings -Wuninitialized -Wall -pipe -mtune=native -march=native -fomit-frame-pointer -mfpmath=sse -pedantic -D_FORTIFY_SOURCE=2 -Wpointer-arith -Wstrict-prototypes -fstack-protector -Wstack-protector -Wextra -Wbad-function-cast -Wcast-align -Wcast-qual -Wdisabled-optimization -Wendif-labels -Wfloat-equal -Wformat-nonliteral -Winline -Wmissing-declarations -Wmissing-prototypes -Wnested-externs -Wpointer-arith -Wundef -Wformat-security'
hint=recommended, useposix=true, d_sigaction=define
useithreads=undef, usemultiplicity=undef
useperlio=define, d_sfio=undef, uselargefiles=define, usesocks=undef
use64bitint=define, use64bitall=define, uselongdouble=undef
usemymalloc=n, bincompat5005=undef
Compiler:
cc='cc', ccflags ='-O2 -W -Wformat=2 -Wswitch -Wshadow -Wwrite-strings -Wuninitialized -Wall -pipe -mtune=native -march=native -fomit-frame-pointer -mfpmath=sse -pedantic -D_FORTIFY_SOURCE=2 -Wpointer-arith -Wstrict-prototypes -fstack-protector -Wstack-protector -Wextra -Wbad-function-cast -Wcast-align -Wcast-qual -Wdisabled-optimization -Wendif-labels -Wfloat-equal -Wformat-nonliteral -Winline -Wmissing-declarations -Wmissing-prototypes -Wnested-externs -Wpointer-arith -Wundef -Wformat-security -fno-strict-aliasing -I/usr/local/include -D_LARGEFILE_SOURCE -D_FILE_OFFSET_BITS=64',
optimize='-O2',
cppflags='-O2 -W -Wformat=2 -Wswitch -Wshadow -Wwrite-strings -Wuninitialized -Wall -pipe -mtune=native -march=native -fomit-frame-pointer -mfpmath=sse -pedantic -D_FORTIFY_SOURCE=2 -Wpointer-arith -Wstrict-prototypes -fstack-protector -Wstack-protector -Wextra -Wbad-function-cast -Wcast-align -Wcast-qual -Wdisabled-optimization -Wendif-labels -Wfloat-equal -Wformat-nonliteral -Winline -Wmissing-declarations -Wmissing-prototypes -Wnested-externs -Wpointer-arith -Wundef -Wformat-security -fno-strict-aliasing -I/usr/local/include'
ccversion='', gccversion='4.6.3', gccosandvers=''
intsize=4, longsize=8, ptrsize=8, doublesize=8, byteorder=12345678
d_longlong=define, longlongsize=8, d_longdbl=define, longdblsize=16
ivtype='long', ivsize=8, nvtype='double', nvsize=8, Off_t='off_t', lseeksize=8
alignbytes=8, prototype=define
Linker and Libraries:
ld='cc', ldflags =' -fstack-protector -L/usr/local/lib'
libpth=/usr/local/lib /lib/x86_64-linux-gnu /lib/../lib /usr/lib/x86_64-linux-gnu /usr/lib/../lib /lib /usr/lib
libs=-lnsl -lgdbm -ldb -ldl -lm -lcrypt -lutil -lc -lgdbm_compat
perllibs=-lnsl -ldl -lm -lcrypt -lutil -lc
libc=, so=so, useshrplib=false, libperl=libperl.a
gnulibc_version='2.13'
Dynamic Linking:
dlsrc=dl_dlopen.xs, dlext=so, d_dlsymun=undef, ccdlflags='-Wl,-E'
cccdlflags='-fPIC', lddlflags='-shared -O2 -L/usr/local/lib -fstack-protector'
Characteristics of this binary (from libperl):
Compile-time options: HAS_TIMES PERLIO_LAYERS PERL_DONT_CREATE_GVSV
PERL_MALLOC_WRAP PERL_PRESERVE_IVUV PERL_USE_DEVEL
USE_64_BIT_ALL USE_64_BIT_INT USE_LARGE_FILES
USE_LOCALE USE_LOCALE_COLLATE USE_LOCALE_CTYPE
USE_LOCALE_NUMERIC USE_PERLIO USE_PERL_ATOF
Built under linux
Compiled at Apr 23 2012 10:02:48
%ENV:
PERL5LIB="/home/njh/.cpan/build/Text-WikiFormat-0.80-4ytMLV/blib/arch:/home/njh/.cpan/build/Text-WikiFormat-0.80-4ytMLV/blib/lib:/home/njh/.cpan/build/URI-Find-Delimited-0.02-vZmJY6/blib/arch:/home/njh/.cpan/build/URI-Find-Delimited-0.02-vZmJY6/blib/lib"
PERL5OPT=""
PERL5_CPANPLUS_IS_RUNNING="16674"
PERL5_CPAN_IS_RUNNING="16674"
PERL5_MINISMOKEBOX="0.54"
PERLBREW_MANPATH="/home/njh/perl5/perlbrew/perls/perl-5.15.1/man"
PERLBREW_PATH="/home/njh/perl5/perlbrew/bin:/home/njh/perl5/perlbrew/perls/perl-5.15.1/bin"
PERLBREW_PERL="perl-5.15.1"
PERLBREW_ROOT="/home/njh/perl5/perlbrew"
PERLBREW_VERSION="0.46"
PERL_EXTUTILS_AUTOINSTALL="--defaultdeps"
PERL_MM_USE_DEFAULT="1"
@INC:
/home/njh/.cpan/build/Text-WikiFormat-0.80-4ytMLV/blib/arch
/home/njh/.cpan/build/Text-WikiFormat-0.80-4ytMLV/blib/lib
/home/njh/.cpan/build/URI-Find-Delimited-0.02-vZmJY6/blib/arch
/home/njh/.cpan/build/URI-Find-Delimited-0.02-vZmJY6/blib/lib
/home/njh/perl5/perlbrew/perls/perl-5.15.1/lib/site_perl/5.15.1/x86_64-linux
/home/njh/perl5/perlbrew/perls/perl-5.15.1/lib/site_perl/5.15.1
/home/njh/perl5/perlbrew/perls/perl-5.15.1/lib/5.15.1/x86_64-linux
/home/njh/perl5/perlbrew/perls/perl-5.15.1/lib/5.15.1
.