Back
From: metabase:user:32904986-c427-11df-a07f-b497e104d833
Subject: PASS Math-Polynomial-Solve-2.80 v5.18.2 Mac OS X
Date: 2017-05-17T06:25:12Z
This distribution has been tested as part of the CPAN Testers
project, supporting the Perl programming language. See
http://wiki.cpantesters.org/ for more information or email
questions to cpan-testers-discuss@perl.org
--
Dear John Gamble,
This is a computer-generated report for Math-Polynomial-Solve-2.80
on perl 5.18.2, created by CPAN-Reporter-1.2018.
Thank you for uploading your work to CPAN. Congratulations!
All tests were successful.
Sections of this report:
* Tester comments
* Program output
* Prerequisites
* Environment and other context
------------------------------
TESTER COMMENTS
------------------------------
Additional comments from tester:
none provided
------------------------------
PROGRAM OUTPUT
------------------------------
Output from './Build test':
t/01-option.t ..... ok
t/02-limit.t ...... ok
t/10-quadratic.t .. ok
t/11-cubic.t ...... ok
t/12-quartic.t .... ok
t/20-poly.t ....... ok
t/21-poly.t ....... ok
t/22-polyfp.t ..... ok
t/23-polyfp.t ..... ok
t/24-varsubst.t ... ok
t/25-rootfunc.t ... ok
t/30-sturm.t ...... ok
t/31-sturm.t ...... ok
t/32-sturm.t ...... ok
t/33-sturm.t ...... ok
t/50-laguerre.t ... ok
t/51-nr.t ......... ok
t/pod.t ........... ok
All tests successful.
Files=18, Tests=378, 2 wallclock secs ( 0.09 usr 0.04 sys + 1.52 cusr 0.13 csys = 1.78 CPU)
Result: PASS
------------------------------
PREREQUISITES
------------------------------
Prerequisite modules loaded:
requires:
Module Need Have
------------- ------- --------
Math::Complex 1.36 1.59
Math::Utils 1.06 1.09
perl v5.10.1 5.018002
build_requires:
Module Need Have
------------- ------- --------
Test::More 0 1.302085
configure_requires:
Module Need Have
------------- ------- --------
Module::Build 0.4 0.4222
------------------------------
ENVIRONMENT AND OTHER CONTEXT
------------------------------
Environment variables:
LANG = sv_SE.UTF-8
PATH = /usr/local/bin:/usr/bin:/bin:/usr/sbin:/sbin:/opt/X11/bin:/usr/local/MacGPG2/bin:/Library/TeX/texbin
PERL5LIB =
PERL5OPT =
PERL5_CPANPLUS_IS_RUNNING = 5425
PERL5_CPAN_IS_RUNNING = 5425
SHELL = /bin/bash
TERM = xterm-256color
TMPDIR = /var/folders/y9/7vddvyqs64j1pfp28_p_6dfm0000gn/T/
VERSIONER_PERL_PREFER_32_BIT = no
VERSIONER_PERL_VERSION = 5.18
Perl special variables (and OS-specific diagnostics, for MSWin32):
$^X = /usr/bin/perl
$UID/$EUID = 501 / 501
$GID = 20 20 12 61 79 80 81 98 33 100 204 395 398 399
$EGID = 20 20 12 61 79 80 81 98 33 100 204 395 398 399
Perl module toolchain versions installed:
Module Have
------------------- --------
CPAN 2.10
CPAN::Meta 2.150010
Cwd 3.62
ExtUtils::CBuilder 0.280224
ExtUtils::Command 7.24
ExtUtils::Install 2.10
ExtUtils::MakeMaker 7.24
ExtUtils::Manifest 1.70
ExtUtils::ParseXS 3.30
File::Spec 3.62
JSON 2.92
JSON::PP 2.93
Module::Build 0.4222
Module::Signature 0.81
Parse::CPAN::Meta 2.150010
Test::Harness 3.39
Test::More 1.302085
YAML 1.23
YAML::Syck 1.30
version 0.9918
--
Summary of my perl5 (revision 5 version 18 subversion 2) configuration:
Platform:
osname=darwin, osvers=16.0, archname=darwin-thread-multi-2level
uname='darwin osx320.apple.com 16.0 darwin kernel version 15.0.0: wed jun 22 17:57:08 pdt 2016; root:xnu-3247.1.106.2.9~1development_x86_64 x86_64 '
config_args='-ds -e -Dprefix=/usr -Dccflags=-g -pipe -Dldflags= -Dman3ext=3pm -Duseithreads -Duseshrplib -Dinc_version_list=none -Dcc=cc'
hint=recommended, useposix=true, d_sigaction=define
useithreads=define, usemultiplicity=define
useperlio=define, d_sfio=undef, uselargefiles=define, usesocks=undef
use64bitint=define, use64bitall=define, uselongdouble=undef
usemymalloc=n, bincompat5005=undef
Compiler:
cc='cc', ccflags ='-arch x86_64 -arch i386 -g -pipe -fno-common -DPERL_DARWIN -fno-strict-aliasing -fstack-protector',
optimize='-Os',
cppflags='-g -pipe -fno-common -DPERL_DARWIN -fno-strict-aliasing -fstack-protector'
ccversion='', gccversion='4.2.1 Compatible Apple LLVM 8.0.0 (clang-800.0.34)', gccosandvers=''
intsize=4, longsize=8, ptrsize=8, doublesize=8, byteorder=12345678
d_longlong=define, longlongsize=8, d_longdbl=define, longdblsize=16
ivtype='long', ivsize=8, nvtype='double', nvsize=8, Off_t='off_t', lseeksize=8
alignbytes=8, prototype=define
Linker and Libraries:
ld='cc -mmacosx-version-min=10.12.5', ldflags ='-arch x86_64 -arch i386 -fstack-protector'
libpth=/usr/lib /usr/local/lib
libs=
perllibs=
libc=, so=dylib, useshrplib=true, libperl=libperl.dylib
gnulibc_version=''
Dynamic Linking:
dlsrc=dl_dlopen.xs, dlext=bundle, d_dlsymun=undef, ccdlflags=' '
cccdlflags=' ', lddlflags='-arch x86_64 -arch i386 -bundle -undefined dynamic_lookup -fstack-protector'
Characteristics of this binary (from libperl):
Compile-time options: HAS_TIMES MULTIPLICITY PERLIO_LAYERS
PERL_DONT_CREATE_GVSV
PERL_HASH_FUNC_ONE_AT_A_TIME_HARD
PERL_IMPLICIT_CONTEXT PERL_MALLOC_WRAP
PERL_PRESERVE_IVUV PERL_SAWAMPERSAND USE_64_BIT_ALL
USE_64_BIT_INT USE_ITHREADS USE_LARGE_FILES
USE_LOCALE USE_LOCALE_COLLATE USE_LOCALE_CTYPE
USE_LOCALE_NUMERIC USE_PERLIO USE_PERL_ATOF
USE_REENTRANT_API
Locally applied patches:
/Library/Perl/Updates/<version> comes before system perl directories
installprivlib and installarchlib points to the Updates directory
Built under darwin
Compiled at Feb 6 2017 22:16:22
%ENV:
PERL5LIB=""
PERL5OPT=""
PERL5_CPANPLUS_IS_RUNNING="5425"
PERL5_CPAN_IS_RUNNING="5425"
@INC:
/Library/Perl/5.18/darwin-thread-multi-2level
/Library/Perl/5.18
/Network/Library/Perl/5.18/darwin-thread-multi-2level
/Network/Library/Perl/5.18
/Library/Perl/Updates/5.18.2/darwin-thread-multi-2level
/Library/Perl/Updates/5.18.2
/System/Library/Perl/5.18/darwin-thread-multi-2level
/System/Library/Perl/5.18
/System/Library/Perl/Extras/5.18/darwin-thread-multi-2level
/System/Library/Perl/Extras/5.18
.