Patterns-ChainOfResponsibility v0.02 Perl 5 v5.27.11 x86_64-linux-ld
- Status
- Pass
- From
- Andreas J. König (ANDK)
- Dist
-
Patterns-ChainOfResponsibility v0.02
- Platform
- Perl 5 v5.27.11 x86_64-linux-ld
- Date
- 2018-03-24 19:00:13
- ID
- 954db284-2f95-11e8-bcc1-6eab8e36a9cc
This distribution has been tested as part of the CPAN Testers
project, supporting the Perl programming language. See
http://wiki.cpantesters.org/ for more information or email
questions to cpan-testers-discuss@perl.org
--
Dear John Napiorkowski,
This is a computer-generated report for Patterns-ChainOfResponsibility-0.02
on perl 5.27.11, created by CPAN-Reporter-1.2018.
Thank you for uploading your work to CPAN. Congratulations!
All tests were successful.
Sections of this report:
* Tester comments
* Program output
* Prerequisites
* Environment and other context
------------------------------
TESTER COMMENTS
------------------------------
Additional comments from tester:
this report is from an automated smoke testing program
and was not reviewed by a human for accuracy
------------------------------
PROGRAM OUTPUT
------------------------------
Output from '/usr/bin/make test':
PERL_DL_NONLAZY=1 "/tmp/basesmoker-reloperl-wGOW/bin/perl" "-MExtUtils::Command::MM" "-MTest::Harness" "-e" "undef *Test::Harness::Switches; test_harness(0, 'inc', 'blib/lib', 'blib/arch')" t/*.t
Class::MOP::load_class is deprecated at /home/sand/src/perl/repoperls/installed-perls/host/k93msid/v5.27.10-19-ge77195360c/af11/lib/site_perl/5.27.11/x86_64-linux-ld/Class/MOP.pm line 69.
Class::MOP::load_class("Patterns::ChainOfResponsibility::Provider") called at /tmp/loop_over_bdir-19614-a7F2U7/Patterns-ChainOfResponsibility-0.02-0/blib/lib/Patterns/ChainOfResponsibility/Role/Handler.pm line 22
Patterns::ChainOfResponsibility::Role::Handler::__ANON__(Moose::Meta::Class::__ANON__::SERIAL::2=HASH(0x562c4ebb1288), "operating_on", MooseX::Role::Parameterized::Meta::Role::Parameterized=HASH(0x562c4ed1bc10), "consumer", Moose::Meta::Class=HASH(0x562c4eb650d0)) called at /home/sand/src/perl/repoperls/installed-perls/host/k93msid/v5.27.10-19-ge77195360c/af11/lib/site_perl/5.27.11/MooseX/Role/Parameterized/Meta/Trait/Parameterizable.pm line 88
MooseX::Role::Parameterized::Meta::Trait::Parameterizable::generate_role(Moose::Meta::Class::__ANON__::SERIAL::1=HASH(0x562c4ed112d0), "consumer", Moose::Meta::Class=HASH(0x562c4eb650d0), "parameters", HASH(0x562c4ecadba8), "orig_apply", CODE(0x562c4e958c50)) called at /home/sand/src/perl/repoperls/installed-perls/host/k93msid/v5.27.10-19-ge77195360c/af11/lib/site_perl/5.27.11/MooseX/Role/Parameterized/Meta/Trait/Parameterizable.pm line 110
Class::MOP::Class:::around(CODE(0x562c4e958c50), Moose::Meta::Class::__ANON__::SERIAL::1=HASH(0x562c4ed112d0), Moose::Meta::Class=HASH(0x562c4eb650d0)) called at /home/sand/src/perl/repoperls/installed-perls/host/k93msid/v5.27.10-19-ge77195360c/af11/lib/site_perl/5.27.11/x86_64-linux-ld/Class/MOP/Method/Wrapped.pm line 164
Moose::Meta::Class::__ANON__::SERIAL::1::_wrapped_apply(Moose::Meta::Class::__ANON__::SERIAL::1=HASH(0x562c4ed112d0), Moose::Meta::Class=HASH(0x562c4eb650d0)) called at /home/sand/src/perl/repoperls/installed-perls/host/k93msid/v5.27.10-19-ge77195360c/af11/lib/site_perl/5.27.11/x86_64-linux-ld/Class/MOP/Method/Wrapped.pm line 95
Moose::Meta::Class::__ANON__::SERIAL::1::apply(Moose::Meta::Class::__ANON__::SERIAL::1=HASH(0x562c4ed112d0), Moose::Meta::Class=HASH(0x562c4eb650d0)) called at /home/sand/src/perl/repoperls/installed-perls/host/k93msid/v5.27.10-19-ge77195360c/af11/lib/site_perl/5.27.11/x86_64-linux-ld/Moose/Util.pm line 172
Moose::Util::_apply_all_roles(Moose::Meta::Class=HASH(0x562c4eb650d0), undef, "Patterns::ChainOfResponsibility::Role::Handler") called at /home/sand/src/perl/repoperls/installed-perls/host/k93msid/v5.27.10-19-ge77195360c/af11/lib/site_perl/5.27.11/x86_64-linux-ld/Moose/Util.pm line 114
Moose::Util::apply_all_roles(Moose::Meta::Class=HASH(0x562c4eb650d0), "Patterns::ChainOfResponsibility::Role::Handler") called at /home/sand/src/perl/repoperls/installed-perls/host/k93msid/v5.27.10-19-ge77195360c/af11/lib/site_perl/5.27.11/x86_64-linux-ld/Moose.pm line 57
Moose::with(Moose::Meta::Class=HASH(0x562c4eb650d0), "Patterns::ChainOfResponsibility::Role::Handler") called at /home/sand/src/perl/repoperls/installed-perls/host/k93msid/v5.27.10-19-ge77195360c/af11/lib/site_perl/5.27.11/x86_64-linux-ld/Moose/Exporter.pm line 419
Moose::with("Patterns::ChainOfResponsibility::Role::Handler") called at t/application.t line 9
t/application.t .. ok
t/basic.t ........ ok
Class::MOP::load_class is deprecated at /home/sand/src/perl/repoperls/installed-perls/host/k93msid/v5.27.10-19-ge77195360c/af11/lib/site_perl/5.27.11/x86_64-linux-ld/Class/MOP.pm line 69.
Class::MOP::load_class("Patterns::ChainOfResponsibility::Broadcast") called at /tmp/loop_over_bdir-19614-a7F2U7/Patterns-ChainOfResponsibility-0.02-0/blib/lib/Patterns/ChainOfResponsibility/Role/Handler.pm line 22
Patterns::ChainOfResponsibility::Role::Handler::__ANON__(Moose::Meta::Class::__ANON__::SERIAL::4=HASH(0x564df008a830), "operating_on", MooseX::Role::Parameterized::Meta::Role::Parameterized=HASH(0x564df02a9ad0), "consumer", Moose::Meta::Class=HASH(0x564df0075728)) called at /home/sand/src/perl/repoperls/installed-perls/host/k93msid/v5.27.10-19-ge77195360c/af11/lib/site_perl/5.27.11/MooseX/Role/Parameterized/Meta/Trait/Parameterizable.pm line 88
MooseX::Role::Parameterized::Meta::Trait::Parameterizable::generate_role(Moose::Meta::Class::__ANON__::SERIAL::3=HASH(0x564df02a03c0), "consumer", Moose::Meta::Class=HASH(0x564df0075728), "parameters", HASH(0x564df021b5d0), "orig_apply", CODE(0x564defe22790)) called at /home/sand/src/perl/repoperls/installed-perls/host/k93msid/v5.27.10-19-ge77195360c/af11/lib/site_perl/5.27.11/MooseX/Role/Parameterized/Meta/Trait/Parameterizable.pm line 110
Class::MOP::Class:::around(CODE(0x564defe22790), Moose::Meta::Class::__ANON__::SERIAL::3=HASH(0x564df02a03c0), Moose::Meta::Class=HASH(0x564df0075728), "dispatcher", "::Broadcast") called at /home/sand/src/perl/repoperls/installed-perls/host/k93msid/v5.27.10-19-ge77195360c/af11/lib/site_perl/5.27.11/x86_64-linux-ld/Class/MOP/Method/Wrapped.pm line 164
Moose::Meta::Class::__ANON__::SERIAL::3::_wrapped_apply(Moose::Meta::Class::__ANON__::SERIAL::3=HASH(0x564df02a03c0), Moose::Meta::Class=HASH(0x564df0075728), "dispatcher", "::Broadcast") called at /home/sand/src/perl/repoperls/installed-perls/host/k93msid/v5.27.10-19-ge77195360c/af11/lib/site_perl/5.27.11/x86_64-linux-ld/Class/MOP/Method/Wrapped.pm line 95
Moose::Meta::Class::__ANON__::SERIAL::3::apply(Moose::Meta::Class::__ANON__::SERIAL::3=HASH(0x564df02a03c0), Moose::Meta::Class=HASH(0x564df0075728), "dispatcher", "::Broadcast") called at /home/sand/src/perl/repoperls/installed-perls/host/k93msid/v5.27.10-19-ge77195360c/af11/lib/site_perl/5.27.11/x86_64-linux-ld/Moose/Util.pm line 172
Moose::Util::_apply_all_roles(Moose::Meta::Class=HASH(0x564df0075728), undef, "Patterns::ChainOfResponsibility::Role::Handler", HASH(0x564deec87b88)) called at /home/sand/src/perl/repoperls/installed-perls/host/k93msid/v5.27.10-19-ge77195360c/af11/lib/site_perl/5.27.11/x86_64-linux-ld/Moose/Util.pm line 114
Moose::Util::apply_all_roles(Moose::Meta::Class=HASH(0x564df0075728), "Patterns::ChainOfResponsibility::Role::Handler", HASH(0x564deec87b88)) called at /home/sand/src/perl/repoperls/installed-perls/host/k93msid/v5.27.10-19-ge77195360c/af11/lib/site_perl/5.27.11/x86_64-linux-ld/Moose.pm line 57
Moose::with(Moose::Meta::Class=HASH(0x564df0075728), "Patterns::ChainOfResponsibility::Role::Handler", HASH(0x564deec87b88)) called at /home/sand/src/perl/repoperls/installed-perls/host/k93msid/v5.27.10-19-ge77195360c/af11/lib/site_perl/5.27.11/x86_64-linux-ld/Moose/Exporter.pm line 419
Moose::with("Patterns::ChainOfResponsibility::Role::Handler", HASH(0x564deec87b88)) called at t/broadcast.t line 13
t/broadcast.t .... ok
Class::MOP::load_class is deprecated at /home/sand/src/perl/repoperls/installed-perls/host/k93msid/v5.27.10-19-ge77195360c/af11/lib/site_perl/5.27.11/x86_64-linux-ld/Class/MOP.pm line 69.
Class::MOP::load_class("Patterns::ChainOfResponsibility::Filter") called at /tmp/loop_over_bdir-19614-a7F2U7/Patterns-ChainOfResponsibility-0.02-0/blib/lib/Patterns/ChainOfResponsibility/Role/Handler.pm line 22
Patterns::ChainOfResponsibility::Role::Handler::__ANON__(Moose::Meta::Class::__ANON__::SERIAL::2=HASH(0x5654df634288), "operating_on", MooseX::Role::Parameterized::Meta::Role::Parameterized=HASH(0x5654df792300), "consumer", Moose::Meta::Class=HASH(0x5654df5eb070)) called at /home/sand/src/perl/repoperls/installed-perls/host/k93msid/v5.27.10-19-ge77195360c/af11/lib/site_perl/5.27.11/MooseX/Role/Parameterized/Meta/Trait/Parameterizable.pm line 88
MooseX::Role::Parameterized::Meta::Trait::Parameterizable::generate_role(Moose::Meta::Class::__ANON__::SERIAL::1=HASH(0x5654df780d98), "consumer", Moose::Meta::Class=HASH(0x5654df5eb070), "parameters", HASH(0x5654df70c590), "orig_apply", CODE(0x5654df3dcc30)) called at /home/sand/src/perl/repoperls/installed-perls/host/k93msid/v5.27.10-19-ge77195360c/af11/lib/site_perl/5.27.11/MooseX/Role/Parameterized/Meta/Trait/Parameterizable.pm line 110
Class::MOP::Class:::around(CODE(0x5654df3dcc30), Moose::Meta::Class::__ANON__::SERIAL::1=HASH(0x5654df780d98), Moose::Meta::Class=HASH(0x5654df5eb070), "dispatcher", "::Filter") called at /home/sand/src/perl/repoperls/installed-perls/host/k93msid/v5.27.10-19-ge77195360c/af11/lib/site_perl/5.27.11/x86_64-linux-ld/Class/MOP/Method/Wrapped.pm line 164
Moose::Meta::Class::__ANON__::SERIAL::1::_wrapped_apply(Moose::Meta::Class::__ANON__::SERIAL::1=HASH(0x5654df780d98), Moose::Meta::Class=HASH(0x5654df5eb070), "dispatcher", "::Filter") called at /home/sand/src/perl/repoperls/installed-perls/host/k93msid/v5.27.10-19-ge77195360c/af11/lib/site_perl/5.27.11/x86_64-linux-ld/Class/MOP/Method/Wrapped.pm line 95
Moose::Meta::Class::__ANON__::SERIAL::1::apply(Moose::Meta::Class::__ANON__::SERIAL::1=HASH(0x5654df780d98), Moose::Meta::Class=HASH(0x5654df5eb070), "dispatcher", "::Filter") called at /home/sand/src/perl/repoperls/installed-perls/host/k93msid/v5.27.10-19-ge77195360c/af11/lib/site_perl/5.27.11/x86_64-linux-ld/Moose/Util.pm line 172
Moose::Util::_apply_all_roles(Moose::Meta::Class=HASH(0x5654df5eb070), undef, "Patterns::ChainOfResponsibility::Role::Handler", HASH(0x5654de243b88)) called at /home/sand/src/perl/repoperls/installed-perls/host/k93msid/v5.27.10-19-ge77195360c/af11/lib/site_perl/5.27.11/x86_64-linux-ld/Moose/Util.pm line 114
Moose::Util::apply_all_roles(Moose::Meta::Class=HASH(0x5654df5eb070), "Patterns::ChainOfResponsibility::Role::Handler", HASH(0x5654de243b88)) called at /home/sand/src/perl/repoperls/installed-perls/host/k93msid/v5.27.10-19-ge77195360c/af11/lib/site_perl/5.27.11/x86_64-linux-ld/Moose.pm line 57
Moose::with(Moose::Meta::Class=HASH(0x5654df5eb070), "Patterns::ChainOfResponsibility::Role::Handler", HASH(0x5654de243b88)) called at /home/sand/src/perl/repoperls/installed-perls/host/k93msid/v5.27.10-19-ge77195360c/af11/lib/site_perl/5.27.11/x86_64-linux-ld/Moose/Exporter.pm line 419
Moose::with("Patterns::ChainOfResponsibility::Role::Handler", HASH(0x5654de243b88)) called at t/filter.t line 9
t/filter.t ....... ok
Class::MOP::load_class is deprecated at /home/sand/src/perl/repoperls/installed-perls/host/k93msid/v5.27.10-19-ge77195360c/af11/lib/site_perl/5.27.11/x86_64-linux-ld/Class/MOP.pm line 69.
Class::MOP::load_class("Patterns::ChainOfResponsibility::Provider") called at /tmp/loop_over_bdir-19614-a7F2U7/Patterns-ChainOfResponsibility-0.02-0/blib/lib/Patterns/ChainOfResponsibility/Role/Handler.pm line 22
Patterns::ChainOfResponsibility::Role::Handler::__ANON__(Moose::Meta::Class::__ANON__::SERIAL::2=HASH(0x563f563bc8c0), "operating_on", MooseX::Role::Parameterized::Meta::Role::Parameterized=HASH(0x563f56513208), "consumer", Moose::Meta::Class=HASH(0x563f56367198)) called at /home/sand/src/perl/repoperls/installed-perls/host/k93msid/v5.27.10-19-ge77195360c/af11/lib/site_perl/5.27.11/MooseX/Role/Parameterized/Meta/Trait/Parameterizable.pm line 88
MooseX::Role::Parameterized::Meta::Trait::Parameterizable::generate_role(Moose::Meta::Class::__ANON__::SERIAL::1=HASH(0x563f5650c6e0), "consumer", Moose::Meta::Class=HASH(0x563f56367198), "parameters", HASH(0x563f564908a0), "orig_apply", CODE(0x563f561668e0)) called at /home/sand/src/perl/repoperls/installed-perls/host/k93msid/v5.27.10-19-ge77195360c/af11/lib/site_perl/5.27.11/MooseX/Role/Parameterized/Meta/Trait/Parameterizable.pm line 110
Class::MOP::Class:::around(CODE(0x563f561668e0), Moose::Meta::Class::__ANON__::SERIAL::1=HASH(0x563f5650c6e0), Moose::Meta::Class=HASH(0x563f56367198)) called at /home/sand/src/perl/repoperls/installed-perls/host/k93msid/v5.27.10-19-ge77195360c/af11/lib/site_perl/5.27.11/x86_64-linux-ld/Class/MOP/Method/Wrapped.pm line 164
Moose::Meta::Class::__ANON__::SERIAL::1::_wrapped_apply(Moose::Meta::Class::__ANON__::SERIAL::1=HASH(0x563f5650c6e0), Moose::Meta::Class=HASH(0x563f56367198)) called at /home/sand/src/perl/repoperls/installed-perls/host/k93msid/v5.27.10-19-ge77195360c/af11/lib/site_perl/5.27.11/x86_64-linux-ld/Class/MOP/Method/Wrapped.pm line 95
Moose::Meta::Class::__ANON__::SERIAL::1::apply(Moose::Meta::Class::__ANON__::SERIAL::1=HASH(0x563f5650c6e0), Moose::Meta::Class=HASH(0x563f56367198)) called at /home/sand/src/perl/repoperls/installed-perls/host/k93msid/v5.27.10-19-ge77195360c/af11/lib/site_perl/5.27.11/x86_64-linux-ld/Moose/Util.pm line 172
Moose::Util::_apply_all_roles(Moose::Meta::Class=HASH(0x563f56367198), undef, "Patterns::ChainOfResponsibility::Role::Handler") called at /home/sand/src/perl/repoperls/installed-perls/host/k93msid/v5.27.10-19-ge77195360c/af11/lib/site_perl/5.27.11/x86_64-linux-ld/Moose/Util.pm line 114
Moose::Util::apply_all_roles(Moose::Meta::Class=HASH(0x563f56367198), "Patterns::ChainOfResponsibility::Role::Handler") called at /home/sand/src/perl/repoperls/installed-perls/host/k93msid/v5.27.10-19-ge77195360c/af11/lib/site_perl/5.27.11/x86_64-linux-ld/Moose.pm line 57
Moose::with(Moose::Meta::Class=HASH(0x563f56367198), "Patterns::ChainOfResponsibility::Role::Handler") called at /home/sand/src/perl/repoperls/installed-perls/host/k93msid/v5.27.10-19-ge77195360c/af11/lib/site_perl/5.27.11/x86_64-linux-ld/Moose/Exporter.pm line 419
Moose::with("Patterns::ChainOfResponsibility::Role::Handler") called at t/provider.t line 9
t/provider.t ..... ok
All tests successful.
Files=5, Tests=20, 2 wallclock secs ( 0.03 usr 0.03 sys + 1.27 cusr 0.17 csys = 1.50 CPU)
Result: PASS
------------------------------
PREREQUISITES
------------------------------
Prerequisite modules loaded:
requires:
Module Need Have
--------------------------- -------- --------
Moose 1.21 2.2010
MooseX::Role::Parameterized 0.23 1.10
perl 5.008005 5.027011
Test::More 0.96 1.302133
build_requires:
Module Need Have
--------------------------- -------- --------
ExtUtils::MakeMaker 6.42 7.34
Test::More 0.96 1.302133
configure_requires:
Module Need Have
--------------------------- -------- --------
ExtUtils::MakeMaker 6.42 7.34
------------------------------
ENVIRONMENT AND OTHER CONTEXT
------------------------------
Environment variables:
AUTOMATED_TESTING = 1
LANG = en_US.UTF-8
PATH = /home/sand/bin:/usr/local/bin:/usr/bin:/bin:/usr/games:/usr/local/perl/bin:/usr/X11/bin:/sbin:/usr/sbin
PERL5LIB = /tmp/loop_over_bdir-19614-a7F2U7/Net-DNS-1.15-0/blib/arch:/tmp/loop_over_bdir-19614-a7F2U7/Net-DNS-1.15-0/blib/lib
PERL5OPT =
PERL5_CPANPLUS_IS_RUNNING = 10373
PERL5_CPAN_IS_RUNNING = 10373
PERL_CANARY_STABILITY_NOPROMPT = 1
PERL_MM_USE_DEFAULT = 1
PERL_USE_UNSAFE_INC = 1
SHELL = /usr/bin/zsh
TERM = screen
Perl special variables (and OS-specific diagnostics, for MSWin32):
$^X = /tmp/basesmoker-reloperl-wGOW/bin/perl
$UID/$EUID = 1005 / 1005
$GID = 1005 1005
$EGID = 1005 1005
Perl module toolchain versions installed:
Module Have
------------------- --------
CPAN 2.20
CPAN::Meta 2.150010
Cwd 3.74
ExtUtils::CBuilder 0.280230
ExtUtils::Command 7.34
ExtUtils::Install 2.14
ExtUtils::MakeMaker 7.34
ExtUtils::Manifest 1.70
ExtUtils::ParseXS 3.39
File::Spec 3.74
JSON 2.97001
JSON::PP 2.97001
Module::Build 0.4224
Module::Signature 0.81
Parse::CPAN::Meta 2.150010
Test::Harness 3.42
Test::More 1.302133
YAML 1.24
YAML::Syck 1.30
version 0.9918
--
Summary of my perl5 (revision 5 version 27 subversion 11) configuration:
Commit id: e77195360c1a2b081a806df017630b3165e2aeac
Platform:
osname=linux
osvers=4.14.0-3-amd64
archname=x86_64-linux-ld
uname='linux k93msid 4.14.0-3-amd64 #1 smp debian 4.14.12-2 (2018-01-06) x86_64 gnulinux '
config_args='-Dprefix=/home/sand/src/perl/repoperls/installed-perls/host/k93msid/v5.27.10-19-ge77195360c/af11 -Dmyhostname=k93msid -Dinstallusrbinperl=n -Uversiononly -Dusedevel -des -Ui_db -Dlibswanted=cl pthread socket inet nsl gdbm dbm malloc dl ld sun m crypt sec util c cposix posix ucb BSD gdbm_compat -Uuseithreads -Duselongdouble -DEBUGGING=-g'
hint=recommended
useposix=true
d_sigaction=define
useithreads=undef
usemultiplicity=undef
use64bitint=define
use64bitall=define
uselongdouble=define
usemymalloc=n
default_inc_excludes_dot=define
bincompat5005=undef
Compiler:
cc='cc'
ccflags ='-fwrapv -fno-strict-aliasing -pipe -fstack-protector-strong -I/usr/local/include -D_LARGEFILE_SOURCE -D_FILE_OFFSET_BITS=64 -D_FORTIFY_SOURCE=2'
optimize='-O2 -g'
cppflags='-fwrapv -fno-strict-aliasing -pipe -fstack-protector-strong -I/usr/local/include'
ccversion=''
gccversion='7.2.0'
gccosandvers=''
intsize=4
longsize=8
ptrsize=8
doublesize=8
byteorder=12345678
doublekind=3
d_longlong=define
longlongsize=8
d_longdbl=define
longdblsize=16
longdblkind=3
ivtype='long'
ivsize=8
nvtype='long double'
nvsize=16
Off_t='off_t'
lseeksize=8
alignbytes=16
prototype=define
Linker and Libraries:
ld='cc'
ldflags =' -fstack-protector-strong -L/usr/local/lib'
libpth=/usr/local/lib /usr/lib/gcc/x86_64-linux-gnu/7/include-fixed /usr/include/x86_64-linux-gnu /usr/lib /lib/x86_64-linux-gnu /lib/../lib /usr/lib/x86_64-linux-gnu /usr/lib/../lib /lib
libs=-lpthread -lnsl -ldl -lm -lcrypt -lutil -lc
perllibs=-lpthread -lnsl -ldl -lm -lcrypt -lutil -lc
libc=libc-2.26.so
so=so
useshrplib=false
libperl=libperl.a
gnulibc_version='2.26'
Dynamic Linking:
dlsrc=dl_dlopen.xs
dlext=so
d_dlsymun=undef
ccdlflags='-Wl,-E'
cccdlflags='-fPIC'
lddlflags='-shared -O2 -g -L/usr/local/lib -fstack-protector-strong'
Characteristics of this binary (from libperl):
Compile-time options:
HAS_TIMES
PERLIO_LAYERS
PERL_COPY_ON_WRITE
PERL_DONT_CREATE_GVSV
PERL_MALLOC_WRAP
PERL_OP_PARENT
PERL_PRESERVE_IVUV
PERL_USE_DEVEL
USE_64_BIT_ALL
USE_64_BIT_INT
USE_LARGE_FILES
USE_LOCALE
USE_LOCALE_COLLATE
USE_LOCALE_CTYPE
USE_LOCALE_NUMERIC
USE_LOCALE_TIME
USE_LONG_DOUBLE
USE_PERLIO
USE_PERL_ATOF
Built under linux
Compiled at Mar 23 2018 17:06:58
%ENV:
PERL5LIB="/tmp/loop_over_bdir-19614-a7F2U7/Net-DNS-1.15-0/blib/arch:/tmp/loop_over_bdir-19614-a7F2U7/Net-DNS-1.15-0/blib/lib"
PERL5OPT=""
PERL5_CPANPLUS_IS_RUNNING="10373"
PERL5_CPAN_IS_RUNNING="10373"
PERL_CANARY_STABILITY_NOPROMPT="1"
PERL_MM_USE_DEFAULT="1"
PERL_USE_UNSAFE_INC="1"
@INC:
/tmp/loop_over_bdir-19614-a7F2U7/Net-DNS-1.15-0/blib/arch
/tmp/loop_over_bdir-19614-a7F2U7/Net-DNS-1.15-0/blib/lib
/home/sand/src/perl/repoperls/installed-perls/host/k93msid/v5.27.10-19-ge77195360c/af11/lib/site_perl/5.27.11/x86_64-linux-ld
/home/sand/src/perl/repoperls/installed-perls/host/k93msid/v5.27.10-19-ge77195360c/af11/lib/site_perl/5.27.11
/home/sand/src/perl/repoperls/installed-perls/host/k93msid/v5.27.10-19-ge77195360c/af11/lib/5.27.11/x86_64-linux-ld
/home/sand/src/perl/repoperls/installed-perls/host/k93msid/v5.27.10-19-ge77195360c/af11/lib/5.27.11
.