Set-Object v1.39 Perl 5 v5.20.1 MSWin32-x86-multi-thread-64int
- Status
- Pass
- From
- Alexandr Ciornii (CHORNY)
- Dist
-
Set-Object v1.39
- Platform
- Perl 5 v5.20.1 MSWin32-x86-multi-thread-64int
- Date
- 2018-01-15 18:23:01
- ID
- 95783d99-6bfe-1014-bea7-db5f5bdd44cb
This distribution has been tested as part of the CPAN Testers
project, supporting the Perl programming language. See
http://wiki.cpantesters.org/ for more information or email
questions to cpan-testers-discuss@perl.org
--
Dear Reini Urban,
This is a computer-generated report for Set-Object-1.39
on perl 5.20.1, created by CPAN-Reporter-1.2014.
Thank you for uploading your work to CPAN. Congratulations!
All tests were successful.
Sections of this report:
* Tester comments
* Program output
* Prerequisites
* Environment and other context
------------------------------
TESTER COMMENTS
------------------------------
Additional comments from tester:
this report is from an automated smoke testing program
and was not reviewed by a human for accuracy
------------------------------
PROGRAM OUTPUT
------------------------------
Output from 'C:\STRAWB~1\c\bin\dmake.exe test':
"C:\Strawberry201\perl\bin\perl.exe" "-MExtUtils::Command::MM" "-MTest::Harness" "-e" "undef *Test::Harness::Switches; test_harness(0, 'blib\lib', 'blib\arch')" t/ingy/arrayref.t t/misc/kwalitee.t t/misc/leaks.t t/misc/leaktrace.t t/misc/manifest.t t/misc/meta.t t/misc/more_leaks.t t/misc/perl_minimum_version.t t/misc/pod.t t/misc/pod_coverage.t t/misc/segfault.t t/misc/threads.t t/misc/undef.t t/object/abuse.t t/object/clear.t t/object/difference.t t/object/equal.t t/object/flags.t t/object/includes.t t/object/insert.t t/object/intersection.t t/object/magic.t t/object/members.t t/object/properties.t t/object/refcount.t t/object/remove.t t/object/set_subclass.t t/object/storable.t t/object/subsuper.t t/object/symmetric_difference.t t/object/union.t t/object/weakref.t t/scalar/basic.t t/scalar/basic_overload.t t/scalar/boolean.t t/scalar/clear.t t/scalar/compare.t t/scalar/custom_display.t t/scalar/difference.t t/scalar/each.t t/scalar/has.t t/scalar/intersection.t t/scalar/member.t t/scalar/misc.t t/scalar/set_set.t t/scalar/storable.t t/scalar/symmdiff.t t/scalar/union.t t/scalar/unique.t
t/ingy/arrayref.t ................ ok
t/misc/kwalitee.t ................ skipped: This test is only run for the module author
t/misc/leaks.t ................... ok
t/misc/leaktrace.t ............... ok
t/misc/manifest.t ................ skipped: Author tests not required for installation
t/misc/meta.t .................... skipped: This test is only run for the module author
t/misc/more_leaks.t .............. ok
t/misc/perl_minimum_version.t .... skipped: Author tests not required for installation
t/misc/pod.t ..................... ok
t/misc/pod_coverage.t ............ ok
t/misc/segfault.t ................ ok
Attempt to free nonexistent shared string '3', Perl interpreter: 0xd11034 at t/misc/threads.t line 56.
Attempt to free nonexistent shared string '4', Perl interpreter: 0xd11034 at t/misc/threads.t line 56.
Attempt to free nonexistent shared string '5', Perl interpreter: 0xd11034 at t/misc/threads.t line 56.
Attempt to free nonexistent shared string '6', Perl interpreter: 0xd11034 at t/misc/threads.t line 56.
Attempt to free nonexistent shared string '7', Perl interpreter: 0xd11034 at t/misc/threads.t line 56.
Attempt to free nonexistent shared string '8', Perl interpreter: 0xd11034 at t/misc/threads.t line 56.
Attempt to free nonexistent shared string '9', Perl interpreter: 0xd11034 at t/misc/threads.t line 56.
Unbalanced string table refcount: (1) for "7" during global destruction.
Unbalanced string table refcount: (1) for "9" during global destruction.
Unbalanced string table refcount: (1) for "5" during global destruction.
Unbalanced string table refcount: (1) for "3" during global destruction.
Unbalanced string table refcount: (1) for "8" during global destruction.
Unbalanced string table refcount: (1) for "6" during global destruction.
Unbalanced string table refcount: (1) for "4" during global destruction.
t/misc/threads.t ................. ok
t/misc/undef.t ................... ok
t/object/abuse.t ................. ok
t/object/clear.t ................. ok
t/object/difference.t ............ ok
t/object/equal.t ................. ok
t/object/flags.t ................. ok
t/object/includes.t .............. ok
t/object/insert.t ................ ok
t/object/intersection.t .......... ok
t/object/magic.t ................. ok
t/object/members.t ............... ok
t/object/properties.t ............ ok
t/object/refcount.t .............. ok
t/object/remove.t ................ ok
t/object/set_subclass.t .......... ok
t/object/storable.t .............. ok
t/object/subsuper.t .............. ok
t/object/symmetric_difference.t .. ok
t/object/union.t ................. ok
t/object/weakref.t ............... ok
t/scalar/basic.t ................. ok
t/scalar/basic_overload.t ........ ok
t/scalar/boolean.t ............... ok
t/scalar/clear.t ................. ok
t/scalar/compare.t ............... ok
t/scalar/custom_display.t ........ ok
t/scalar/difference.t ............ ok
t/scalar/each.t .................. skipped: TO-DO
t/scalar/has.t ................... ok
t/scalar/intersection.t .......... ok
t/scalar/member.t ................ ok
t/scalar/misc.t .................. ok
t/scalar/set_set.t ............... ok
t/scalar/storable.t .............. ok
t/scalar/symmdiff.t .............. ok
t/scalar/union.t ................. ok
t/scalar/unique.t ................ ok
All tests successful.
Files=49, Tests=461, 6 wallclock secs ( 0.11 usr + 0.21 sys = 0.32 CPU)
Result: PASS
------------------------------
PREREQUISITES
------------------------------
Prerequisite modules loaded:
requires:
Module Need Have
------------------- ---- --------
Scalar::Util 0 1.41
Test::More 0 1.001006
build_requires:
Module Need Have
------------------- ---- --------
ExtUtils::MakeMaker 0 7.04
configure_requires:
Module Need Have
------------------- ---- --------
ExtUtils::MakeMaker 0 7.04
------------------------------
ENVIRONMENT AND OTHER CONTEXT
------------------------------
Environment variables:
AUTOMATED_TESTING = 1
COMSPEC = C:\WINDOWS\system32\cmd.exe
NUMBER_OF_PROCESSORS = 1
PATH = C:\WINDOWS\system32;C:\WINDOWS;C:\WINDOWS\System32\Wbem;C:\Strawberry201\c\bin;C:\Strawberry201\perl\site\bin;C:\Strawberry201\perl\bin;C:\Git\cmd
PERL5LIB =
PERL5OPT =
PERL5_CPANPLUS_IS_RUNNING = 1840
PERL5_CPAN_IS_RUNNING = 1840
PERL5_CPAN_IS_RUNNING_IN_RECURSION = 1900,1840
PERL_CR_SMOKER_CURRENT = Set-Object-1.39
PERL_CR_SMOKER_RUNONCE = 1
PERL_EXTUTILS_AUTOINSTALL = --defaultdeps
PERL_MM_USE_DEFAULT = 1
PROCESSOR_IDENTIFIER = x86 Family 16 Model 5 Stepping 3, AuthenticAMD
TEMP = C:\DOCUME~1\c\LOCALS~1\Temp
Perl special variables (and OS-specific diagnostics, for MSWin32):
$^X = C:\Strawberry201\perl\bin\perl.exe
$UID/$EUID = 0 / 0
$GID = 0
$EGID = 0
Win32::GetOSName = WinXP/.Net
Win32::GetOSVersion = Service Pack 3, 5, 1, 2600, 2, 3, 0, 256, 1
Win32::FsType = NTFS
Win32::IsAdminUser = 1
Perl module toolchain versions installed:
Module Have
------------------- --------
CPAN 2.05
CPAN::Meta 2.142060
Cwd 3.48
ExtUtils::CBuilder 0.280219
ExtUtils::Command 1.18
ExtUtils::Install 1.68
ExtUtils::MakeMaker 7.04
ExtUtils::Manifest 1.66
ExtUtils::ParseXS 3.24
File::Spec 3.48
JSON 2.90
JSON::PP 2.27203
Module::Build 0.4211
Module::Signature 0.78
Parse::CPAN::Meta 1.4414
Test::Harness 3.33
Test::More 1.001006
YAML 1.15
YAML::Syck 1.29
version 0.9909
--
Summary of my perl5 (revision 5 version 20 subversion 1) configuration:
Platform:
osname=MSWin32, osvers=6.3, archname=MSWin32-x86-multi-thread-64int
uname='Win32 strawberry-perl 5.20.1.1 #1 Mon Sep 15 18:25:23 2014 i386'
config_args='undef'
hint=recommended, useposix=true, d_sigaction=undef
useithreads=define, usemultiplicity=define
use64bitint=define, use64bitall=undef, uselongdouble=undef
usemymalloc=n, bincompat5005=undef
Compiler:
cc='gcc', ccflags =' -s -O2 -DWIN32 -DPERL_TEXTMODE_SCRIPTS -DPERL_IMPLICIT_CONTEXT -DPERL_IMPLICIT_SYS -DUSE_PERLIO -fwrapv -fno-strict-aliasing -mms-bitfields',
optimize='-s -O2',
cppflags='-DWIN32'
ccversion='', gccversion='4.8.3', gccosandvers=''
intsize=4, longsize=4, ptrsize=4, doublesize=8, byteorder=12345678
d_longlong=define, longlongsize=8, d_longdbl=define, longdblsize=12
ivtype='long long', ivsize=8, nvtype='double', nvsize=8, Off_t='long long', lseeksize=8
alignbytes=8, prototype=define
Linker and Libraries:
ld='g++', ldflags ='-s -L"C:\STRAWB~1\perl\lib\CORE" -L"C:\STRAWB~1\c\lib"'
libpth=C:\STRAWB~1\c\lib C:\STRAWB~1\c\i686-w64-mingw32\lib C:\STRAWB~1\c\lib\gcc\i686-w64-mingw32\4.8.3
libs=-lmoldname -lkernel32 -luser32 -lgdi32 -lwinspool -lcomdlg32 -ladvapi32 -lshell32 -lole32 -loleaut32 -lnetapi32 -luuid -lws2_32 -lmpr -lwinmm -lversion -lodbc32 -lodbccp32 -lcomctl32
perllibs=-lmoldname -lkernel32 -luser32 -lgdi32 -lwinspool -lcomdlg32 -ladvapi32 -lshell32 -lole32 -loleaut32 -lnetapi32 -luuid -lws2_32 -lmpr -lwinmm -lversion -lodbc32 -lodbccp32 -lcomctl32
libc=, so=dll, useshrplib=true, libperl=libperl520.a
gnulibc_version=''
Dynamic Linking:
dlsrc=dl_win32.xs, dlext=xs.dll, d_dlsymun=undef, ccdlflags=' '
cccdlflags=' ', lddlflags='-mdll -s -L"C:\STRAWB~1\perl\lib\CORE" -L"C:\STRAWB~1\c\lib"'
Characteristics of this binary (from libperl):
Compile-time options: HAS_TIMES HAVE_INTERP_INTERN MULTIPLICITY
PERLIO_LAYERS PERL_DONT_CREATE_GVSV
PERL_HASH_FUNC_ONE_AT_A_TIME_HARD
PERL_IMPLICIT_CONTEXT PERL_IMPLICIT_SYS
PERL_MALLOC_WRAP PERL_NEW_COPY_ON_WRITE
PERL_PRESERVE_IVUV USE_64_BIT_INT USE_ITHREADS
USE_LARGE_FILES USE_LOCALE USE_LOCALE_COLLATE
USE_LOCALE_CTYPE USE_LOCALE_NUMERIC USE_PERLIO
USE_PERL_ATOF
Built under MSWin32
Compiled at Sep 15 2014 18:29:20
%ENV:
PERL5_CPANPLUS_IS_RUNNING="1840"
PERL5_CPAN_IS_RUNNING="1840"
PERL5_CPAN_IS_RUNNING_IN_RECURSION="1900,1840"
PERL_CR_SMOKER_CURRENT="Set-Object-1.39"
PERL_CR_SMOKER_RUNONCE="1"
PERL_EXTUTILS_AUTOINSTALL="--defaultdeps"
PERL_MM_USE_DEFAULT="1"
@INC:
C:/Strawberry201/perl/site/lib
C:/Strawberry201/perl/vendor/lib
C:/Strawberry201/perl/lib
.