PLUTO v0.30 Perl 5 v5.39.9 x86_64-linux-thread-multi-ld

Status
Pass
From
Andreas J. König (ANDK)
Dist
PLUTO v0.30
Platform
Perl 5 v5.39.9 x86_64-linux-thread-multi-ld
Date
2024-03-23 18:02:59
ID
95793e4e-e93f-11ee-b5da-61aa08639cae
This distribution has been tested as part of the CPAN Testers
project, supporting the Perl programming language.  See
http://wiki.cpantesters.org/ for more information or email
questions to cpan-testers-discuss@perl.org


--
Dear Edward Kawas,

This is a computer-generated report for PLUTO-0.30
on perl 5.39.9, created by CPAN-Reporter-1.2019.

Thank you for uploading your work to CPAN.  Congratulations!
All tests were successful.

Sections of this report:

    * Tester comments
    * Program output
    * Prerequisites
    * Environment and other context

------------------------------
TESTER COMMENTS
------------------------------

Additional comments from tester:

this report is from an automated smoke testing program
and was not reviewed by a human for accuracy

------------------------------
PROGRAM OUTPUT
------------------------------

Output from '/usr/bin/make test':

PERL_DL_NONLAZY=1 "/tmp/basesmoker-reloperl-Ksjm/bin/perl" "-MExtUtils::Command::MM" "-MTest::Harness" "-e" "undef *Test::Harness::Switches; test_harness(0, 'inc', 'blib/lib', 'blib/arch')" t/00_base.t t/10_nodes.t t/20_statements.t t/30_graph.t t/31_graph_memory.t t/40_parser.t t/41_parser_ntriples.t t/42_parser_xml.t t/43_parser_n3.t t/50_db.t t/60_jena.t t/61_jena_sql.t t/70_query.t t/71_query_simple.t t/72_query_rdql.t t/80_ontology.t t/81_ontology_rdfs.t t/81b_ontology_rdfs.t t/82_ontology_jena.t t/85_jena_graph_system.t
t/00_base.t ............... ok
Name "ODO::Node::Any::DEBUG" used only once: possible typo at /home/sand/src/perl/repoperls/installed-perls/host/k93jammy/v5.39.9/322f/lib/site_perl/5.39.9/Class/Base.pm line 34.
t/10_nodes.t .............. ok
Name "ODO::Node::Any::DEBUG" used only once: possible typo at /home/sand/src/perl/repoperls/installed-perls/host/k93jammy/v5.39.9/322f/lib/site_perl/5.39.9/Class/Base.pm line 34.
t/20_statements.t ......... ok
t/30_graph.t .............. ok
Name "ODO::Node::Any::DEBUG" used only once: possible typo at /home/sand/src/perl/repoperls/installed-perls/host/k93jammy/v5.39.9/322f/lib/site_perl/5.39.9/Class/Base.pm line 34.
t/31_graph_memory.t ....... ok
Name "ODO::Node::Any::DEBUG" used only once: possible typo at /home/sand/src/perl/repoperls/installed-perls/host/k93jammy/v5.39.9/322f/lib/site_perl/5.39.9/Class/Base.pm line 34.
t/40_parser.t ............. ok
Name "ODO::Node::Any::DEBUG" used only once: possible typo at /home/sand/src/perl/repoperls/installed-perls/host/k93jammy/v5.39.9/322f/lib/site_perl/5.39.9/Class/Base.pm line 34.
t/41_parser_ntriples.t .... ok
Name "ODO::Node::Any::DEBUG" used only once: possible typo at /home/sand/src/perl/repoperls/installed-perls/host/k93jammy/v5.39.9/322f/lib/site_perl/5.39.9/Class/Base.pm line 34.
Subroutine XML::Namespace::rdf redefined at /home/sand/src/perl/repoperls/installed-perls/host/k93jammy/v5.39.9/322f/lib/site_perl/5.39.9/XML/Namespace.pm line 54.
Subroutine XML::Namespace::rdf redefined at /home/sand/src/perl/repoperls/installed-perls/host/k93jammy/v5.39.9/322f/lib/site_perl/5.39.9/XML/Namespace.pm line 54.
Please download the latest approved test cases and place them in t/rdf.
See http://www.w3.org/2000/10/rdf-tests/rdfcore/latest_Approved.zip
t/42_parser_xml.t ......... ok
Name "ODO::Node::Any::DEBUG" used only once: possible typo at /home/sand/src/perl/repoperls/installed-perls/host/k93jammy/v5.39.9/322f/lib/site_perl/5.39.9/Class/Base.pm line 34.
t/43_parser_n3.t .......... ok
t/50_db.t ................. ok
Name "ODO::Node::Any::DEBUG" used only once: possible typo at /home/sand/src/perl/repoperls/installed-perls/host/k93jammy/v5.39.9/322f/lib/site_perl/5.39.9/Class/Base.pm line 34.
t/60_jena.t ............... ok
Unescaped left brace in regex is passed through in regex; marked by <-- HERE in m/\${ <-- HERE a}/ at /tmp/loop_over_bdir-1950-ABUgTA/PLUTO-0.30-0/blib/lib/ODO/Jena/SQL.pm line 138.
Unescaped left brace in regex is passed through in regex; marked by <-- HERE in m/\${ <-- HERE b}/ at /tmp/loop_over_bdir-1950-ABUgTA/PLUTO-0.30-0/blib/lib/ODO/Jena/SQL.pm line 138.
Unescaped left brace in regex is passed through in regex; marked by <-- HERE in m/\${ <-- HERE c}/ at /tmp/loop_over_bdir-1950-ABUgTA/PLUTO-0.30-0/blib/lib/ODO/Jena/SQL.pm line 138.
Unescaped left brace in regex is passed through in regex; marked by <-- HERE in m/\${ <-- HERE d}/ at /tmp/loop_over_bdir-1950-ABUgTA/PLUTO-0.30-0/blib/lib/ODO/Jena/SQL.pm line 138.
t/61_jena_sql.t ........... ok
Name "ODO::Query::Simple::DEBUG" used only once: possible typo at /home/sand/src/perl/repoperls/installed-perls/host/k93jammy/v5.39.9/322f/lib/site_perl/5.39.9/Class/Base.pm line 34.
Name "ODO::Node::Any::DEBUG" used only once: possible typo at /home/sand/src/perl/repoperls/installed-perls/host/k93jammy/v5.39.9/322f/lib/site_perl/5.39.9/Class/Base.pm line 34.
t/70_query.t .............. ok
Name "ODO::Node::Any::DEBUG" used only once: possible typo at /home/sand/src/perl/repoperls/installed-perls/host/k93jammy/v5.39.9/322f/lib/site_perl/5.39.9/Class/Base.pm line 34.
Name "ODO::Query::Simple::DEBUG" used only once: possible typo at /home/sand/src/perl/repoperls/installed-perls/host/k93jammy/v5.39.9/322f/lib/site_perl/5.39.9/Class/Base.pm line 34.
t/71_query_simple.t ....... ok
Name "ODO::Node::Any::DEBUG" used only once: possible typo at /home/sand/src/perl/repoperls/installed-perls/host/k93jammy/v5.39.9/322f/lib/site_perl/5.39.9/Class/Base.pm line 34.
Name "ODO::Query::Simple::DEBUG" used only once: possible typo at /home/sand/src/perl/repoperls/installed-perls/host/k93jammy/v5.39.9/322f/lib/site_perl/5.39.9/Class/Base.pm line 34.
Use of uninitialized value in substr at /home/sand/src/perl/repoperls/installed-perls/host/k93jammy/v5.39.9/322f/lib/site_perl/5.39.9/Class/ParamParser.pm line 353.
Subroutine XML::Namespace::rdf redefined at /home/sand/src/perl/repoperls/installed-perls/host/k93jammy/v5.39.9/322f/lib/site_perl/5.39.9/XML/Namespace.pm line 54.
Subroutine XML::Namespace::rdf redefined at /home/sand/src/perl/repoperls/installed-perls/host/k93jammy/v5.39.9/322f/lib/site_perl/5.39.9/XML/Namespace.pm line 54.
t/72_query_rdql.t ......... ok
Name "ODO::Query::Simple::DEBUG" used only once: possible typo at /home/sand/src/perl/repoperls/installed-perls/host/k93jammy/v5.39.9/322f/lib/site_perl/5.39.9/Class/Base.pm line 34.
Name "ODO::Node::Any::DEBUG" used only once: possible typo at /home/sand/src/perl/repoperls/installed-perls/host/k93jammy/v5.39.9/322f/lib/site_perl/5.39.9/Class/Base.pm line 34.
t/80_ontology.t ........... ok
Subroutine XML::Namespace::rdf redefined at /home/sand/src/perl/repoperls/installed-perls/host/k93jammy/v5.39.9/322f/lib/site_perl/5.39.9/XML/Namespace.pm line 54.
Name "ODO::Node::Any::DEBUG" used only once: possible typo at /home/sand/src/perl/repoperls/installed-perls/host/k93jammy/v5.39.9/322f/lib/site_perl/5.39.9/Class/Base.pm line 34.
Name "ODO::Query::Simple::DEBUG" used only once: possible typo at /home/sand/src/perl/repoperls/installed-perls/host/k93jammy/v5.39.9/322f/lib/site_perl/5.39.9/Class/Base.pm line 34.
Subroutine XML::Namespace::rdf redefined at /home/sand/src/perl/repoperls/installed-perls/host/k93jammy/v5.39.9/322f/lib/site_perl/5.39.9/XML/Namespace.pm line 54.
Subroutine XML::Namespace::rdfs redefined at /home/sand/src/perl/repoperls/installed-perls/host/k93jammy/v5.39.9/322f/lib/site_perl/5.39.9/XML/Namespace.pm line 54.
Subroutine XML::Namespace::rdf redefined at /home/sand/src/perl/repoperls/installed-perls/host/k93jammy/v5.39.9/322f/lib/site_perl/5.39.9/XML/Namespace.pm line 54.
Odd number of elements in hash assignment at /tmp/loop_over_bdir-1950-ABUgTA/PLUTO-0.30-0/blib/lib/ODO/RDFS/Resource.pm line 24.
Odd number of elements in hash assignment at /tmp/loop_over_bdir-1950-ABUgTA/PLUTO-0.30-0/blib/lib/ODO/RDFS/Class.pm line 24.
Odd number of elements in hash assignment at /tmp/loop_over_bdir-1950-ABUgTA/PLUTO-0.30-0/blib/lib/ODO/RDFS/Resource.pm line 24.
Odd number of elements in hash assignment at (eval 170) line 34.
Odd number of elements in hash assignment at (eval 146) line 34.
Odd number of elements in hash assignment at (eval 180) line 34.
Odd number of elements in hash assignment at /tmp/loop_over_bdir-1950-ABUgTA/PLUTO-0.30-0/blib/lib/ODO/RDFS/Container.pm line 24.
Odd number of elements in hash assignment at /tmp/loop_over_bdir-1950-ABUgTA/PLUTO-0.30-0/blib/lib/ODO/RDFS/Resource.pm line 24.
Odd number of elements in hash assignment at (eval 170) line 34.
Odd number of elements in hash assignment at (eval 146) line 34.
Odd number of elements in hash assignment at (eval 180) line 34.
Odd number of elements in hash assignment at /tmp/loop_over_bdir-1950-ABUgTA/PLUTO-0.30-0/blib/lib/ODO/RDFS/Container.pm line 24.
Odd number of elements in hash assignment at /tmp/loop_over_bdir-1950-ABUgTA/PLUTO-0.30-0/blib/lib/ODO/RDFS/Resource.pm line 24.
t/81_ontology_rdfs.t ...... ok
Subroutine XML::Namespace::rdf redefined at /home/sand/src/perl/repoperls/installed-perls/host/k93jammy/v5.39.9/322f/lib/site_perl/5.39.9/XML/Namespace.pm line 54.
Name "ODO::Query::Simple::DEBUG" used only once: possible typo at /home/sand/src/perl/repoperls/installed-perls/host/k93jammy/v5.39.9/322f/lib/site_perl/5.39.9/Class/Base.pm line 34.
Name "ODO::Node::Any::DEBUG" used only once: possible typo at /home/sand/src/perl/repoperls/installed-perls/host/k93jammy/v5.39.9/322f/lib/site_perl/5.39.9/Class/Base.pm line 34.
Subroutine XML::Namespace::rdf redefined at /home/sand/src/perl/repoperls/installed-perls/host/k93jammy/v5.39.9/322f/lib/site_perl/5.39.9/XML/Namespace.pm line 54.
Subroutine XML::Namespace::rdfs redefined at /home/sand/src/perl/repoperls/installed-perls/host/k93jammy/v5.39.9/322f/lib/site_perl/5.39.9/XML/Namespace.pm line 54.
Subroutine XML::Namespace::rdf redefined at /home/sand/src/perl/repoperls/installed-perls/host/k93jammy/v5.39.9/322f/lib/site_perl/5.39.9/XML/Namespace.pm line 54.
Odd number of elements in hash assignment at /tmp/loop_over_bdir-1950-ABUgTA/PLUTO-0.30-0/blib/lib/ODO/RDFS/Resource.pm line 24.
Odd number of elements in hash assignment at /tmp/loop_over_bdir-1950-ABUgTA/PLUTO-0.30-0/blib/lib/ODO/RDFS/Class.pm line 24.
Odd number of elements in hash assignment at /tmp/loop_over_bdir-1950-ABUgTA/PLUTO-0.30-0/blib/lib/ODO/RDFS/Resource.pm line 24.
Odd number of elements in hash assignment at (eval 165) line 34.
Odd number of elements in hash assignment at (eval 151) line 34.
Odd number of elements in hash assignment at (eval 190) line 34.
Odd number of elements in hash assignment at /tmp/loop_over_bdir-1950-ABUgTA/PLUTO-0.30-0/blib/lib/ODO/RDFS/Container.pm line 24.
Odd number of elements in hash assignment at /tmp/loop_over_bdir-1950-ABUgTA/PLUTO-0.30-0/blib/lib/ODO/RDFS/Resource.pm line 24.
Odd number of elements in hash assignment at (eval 165) line 34.
Odd number of elements in hash assignment at (eval 151) line 34.
Odd number of elements in hash assignment at (eval 190) line 34.
Odd number of elements in hash assignment at /tmp/loop_over_bdir-1950-ABUgTA/PLUTO-0.30-0/blib/lib/ODO/RDFS/Container.pm line 24.
Odd number of elements in hash assignment at /tmp/loop_over_bdir-1950-ABUgTA/PLUTO-0.30-0/blib/lib/ODO/RDFS/Resource.pm line 24.
t/81b_ontology_rdfs.t ..... ok
Name "ODO::Node::Any::DEBUG" used only once: possible typo at /home/sand/src/perl/repoperls/installed-perls/host/k93jammy/v5.39.9/322f/lib/site_perl/5.39.9/Class/Base.pm line 34.
Name "ODO::Query::Simple::DEBUG" used only once: possible typo at /home/sand/src/perl/repoperls/installed-perls/host/k93jammy/v5.39.9/322f/lib/site_perl/5.39.9/Class/Base.pm line 34.
t/82_ontology_jena.t ...... ok
t/85_jena_graph_system.t .. skipped: Ignored because of problems installing DBD::mysql
All tests successful.
Files=20, Tests=192,  4 wallclock secs ( 0.06 usr  0.03 sys +  3.42 cusr  0.60 csys =  4.11 CPU)
Result: PASS

------------------------------
PREREQUISITES
------------------------------

Prerequisite modules loaded:

requires:

    Module                    Need   Have    
    ------------------------- ------ --------
    Aspect                    0.10   1.04    
    Class::Accessor           0.25   0.51    
    Class::Base               0.02   0.09    
    Class::Interfaces         0.04   0.04    
    Class::ISA                0.32   0.36    
    Class::ParamParser        1.041  1.041   
    Digest::MD5               2.34   2.58_01 
    Error                     0.17   0.17029 
    Exception::Class          1.22   1.45    
    Exception::Class::DBI     0.94   1.04    
    Module::Load              0.10   0.36    
    Module::Load::Conditional 0.38   0.74    
    Params::Check             0.23   0.38    
    Parse::RecDescent         1.93   1.967015
    SQL::Library              v0.0.3 0.0.5   
    Template                  2.15   3.101   
    Time::HiRes               1.20   1.9777  
    URI                       1.35   5.27    
    XML::LibXML               1.70   2.0210  
    XML::Namespace            0.02   0.02    
    XML::RegExp               0.02   0.04    
    XML::SAX                  0.96   1.02    

build_requires:

    Module                    Need   Have    
    ------------------------- ------ --------
    ExtUtils::MakeMaker       6.42   7.70    

configure_requires:

    Module                    Need   Have    
    ------------------------- ------ --------
    ExtUtils::MakeMaker       6.42   7.70    


------------------------------
ENVIRONMENT AND OTHER CONTEXT
------------------------------

Environment variables:

    AUTOMATED_TESTING = 1
    LANG = en_US.UTF-8
    LC_ADDRESS = de_DE.UTF-8
    LC_IDENTIFICATION = de_DE.UTF-8
    LC_MEASUREMENT = de_DE.UTF-8
    LC_MONETARY = de_DE.UTF-8
    LC_NAME = de_DE.UTF-8
    LC_NUMERIC = de_DE.UTF-8
    LC_PAPER = de_DE.UTF-8
    LC_TELEPHONE = de_DE.UTF-8
    LC_TIME = de_DE.UTF-8
    PATH = /home/sand/bin:/usr/local/bin:/usr/local/sbin:/usr/sbin:/usr/bin:/sbin:/bin:/usr/games:/usr/local/games:/snap/bin:/usr/local/perl/bin:/usr/X11/bin
    PERL = /tmp/basesmoker-reloperl-Ksjm/bin/perl
    PERL5LIB = /tmp/loop_over_bdir-1950-ABUgTA/triceps-2.1.0-0/blib/arch:/tmp/loop_over_bdir-1950-ABUgTA/triceps-2.1.0-0/blib/lib:/tmp/loop_over_bdir-1950-ABUgTA/HTML-Menu-TreeView-1.22-0/blib/arch:/tmp/loop_over_bdir-1950-ABUgTA/HTML-Menu-TreeView-1.22-0/blib/lib:/tmp/loop_over_bdir-1950-ABUgTA/Dpkg-1.22.6-0/blib/arch:/tmp/loop_over_bdir-1950-ABUgTA/Dpkg-1.22.6-0/blib/lib:/tmp/loop_over_bdir-1950-ABUgTA/CORBA-Python-2.66-0/blib/arch:/tmp/loop_over_bdir-1950-ABUgTA/CORBA-Python-2.66-0/blib/lib
    PERL5OPT = 
    PERL5_CPANPLUS_IS_RUNNING = 1958
    PERL5_CPAN_IS_RUNNING = 1958
    PERL_CANARY_STABILITY_NOPROMPT = 1
    PERL_MM_USE_DEFAULT = 1
    PERL_USE_UNSAFE_INC = 1
    SHELL = /usr/bin/zsh
    TERM = screen

Perl special variables (and OS-specific diagnostics, for MSWin32):

    $^X = /tmp/basesmoker-reloperl-Ksjm/bin/perl
    $UID/$EUID = 1005 / 1005
    $GID = 1005 1005
    $EGID = 1005 1005

Perl module toolchain versions installed:

    Module              Have    
    ------------------- --------
    CPAN                2.36    
    CPAN::Meta          2.150010
    Cwd                 3.90    
    ExtUtils::CBuilder  0.280240
    ExtUtils::Command   7.70    
    ExtUtils::Install   2.22    
    ExtUtils::MakeMaker 7.70    
    ExtUtils::Manifest  1.75    
    ExtUtils::ParseXS   3.51    
    File::Spec          3.90    
    JSON                4.10    
    JSON::PP            4.16    
    Module::Build       0.4234  
    Module::Signature   0.88    
    Parse::CPAN::Meta   2.150010
    Test2               1.302198
    Test::Harness       3.48    
    Test::More          1.302198
    YAML                1.31    
    YAML::Syck          1.34    
    version             0.9930  


--

Summary of my perl5 (revision 5 version 39 subversion 9) configuration:
  Commit id: 824a7e0bf8052e62e6913c5fb807a6a8331a2d81
  Platform:
    osname=linux
    osvers=6.5.0-25-generic
    archname=x86_64-linux-thread-multi-ld
    uname='linux k93jammy 6.5.0-25-generic #25~22.04.1-ubuntu smp preempt_dynamic tue feb 20 16:09:15 utc 2 x86_64 x86_64 x86_64 gnulinux '
    config_args='-Dprefix=/home/sand/src/perl/repoperls/installed-perls/host/k93jammy/v5.39.9/322f -Dmyhostname=k93jammy -Dinstallusrbinperl=n -Uversiononly -Dusedevel -des -Ui_db -Dlibswanted=cl pthread socket inet nsl gdbm dbm malloc dl ld sun m crypt sec util c cposix posix ucb BSD gdbm_compat -Duseithreads -Duselongdouble -DEBUGGING=-g'
    hint=recommended
    useposix=true
    d_sigaction=define
    useithreads=define
    usemultiplicity=define
    use64bitint=define
    use64bitall=define
    uselongdouble=define
    usemymalloc=n
    default_inc_excludes_dot=define
  Compiler:
    cc='cc'
    ccflags ='-D_REENTRANT -D_GNU_SOURCE -fwrapv -fno-strict-aliasing -pipe -fstack-protector-strong -I/usr/local/include -D_LARGEFILE_SOURCE -D_FILE_OFFSET_BITS=64'
    optimize='-O2 -g'
    cppflags='-D_REENTRANT -D_GNU_SOURCE -fwrapv -fno-strict-aliasing -pipe -fstack-protector-strong -I/usr/local/include'
    ccversion=''
    gccversion='11.4.0'
    gccosandvers=''
    intsize=4
    longsize=8
    ptrsize=8
    doublesize=8
    byteorder=12345678
    doublekind=3
    d_longlong=define
    longlongsize=8
    d_longdbl=define
    longdblsize=16
    longdblkind=3
    ivtype='long'
    ivsize=8
    nvtype='long double'
    nvsize=16
    Off_t='off_t'
    lseeksize=8
    alignbytes=16
    prototype=define
  Linker and Libraries:
    ld='cc'
    ldflags =' -fstack-protector-strong -L/usr/local/lib'
    libpth=/usr/local/lib /usr/lib/x86_64-linux-gnu /usr/lib /usr/lib64
    libs=-lpthread -lnsl -ldl -lm -lcrypt -lutil -lc
    perllibs=-lpthread -lnsl -ldl -lm -lcrypt -lutil -lc
    libc=/lib/x86_64-linux-gnu/libc.so.6
    so=so
    useshrplib=false
    libperl=libperl.a
    gnulibc_version='2.35'
  Dynamic Linking:
    dlsrc=dl_dlopen.xs
    dlext=so
    d_dlsymun=undef
    ccdlflags='-Wl,-E'
    cccdlflags='-fPIC'
    lddlflags='-shared -O2 -g -L/usr/local/lib -fstack-protector-strong'


Characteristics of this binary (from libperl): 
  Compile-time options:
    HAS_LONG_DOUBLE
    HAS_STRTOLD
    HAS_TIMES
    MULTIPLICITY
    PERLIO_LAYERS
    PERL_COPY_ON_WRITE
    PERL_DONT_CREATE_GVSV
    PERL_HASH_FUNC_SIPHASH13
    PERL_HASH_USE_SBOX32
    PERL_MALLOC_WRAP
    PERL_OP_PARENT
    PERL_PRESERVE_IVUV
    PERL_USE_DEVEL
    PERL_USE_SAFE_PUTENV
    USE_64_BIT_ALL
    USE_64_BIT_INT
    USE_ITHREADS
    USE_LARGE_FILES
    USE_LOCALE
    USE_LOCALE_COLLATE
    USE_LOCALE_CTYPE
    USE_LOCALE_NUMERIC
    USE_LOCALE_TIME
    USE_LONG_DOUBLE
    USE_PERLIO
    USE_PERL_ATOF
    USE_REENTRANT_API
    USE_THREAD_SAFE_LOCALE
  Built under linux
  Compiled at Mar 21 2024 04:30:26
  %ENV:
    PERL="/tmp/basesmoker-reloperl-Ksjm/bin/perl"
    PERL5LIB="/tmp/loop_over_bdir-1950-ABUgTA/triceps-2.1.0-0/blib/arch:/tmp/loop_over_bdir-1950-ABUgTA/triceps-2.1.0-0/blib/lib:/tmp/loop_over_bdir-1950-ABUgTA/HTML-Menu-TreeView-1.22-0/blib/arch:/tmp/loop_over_bdir-1950-ABUgTA/HTML-Menu-TreeView-1.22-0/blib/lib:/tmp/loop_over_bdir-1950-ABUgTA/Dpkg-1.22.6-0/blib/arch:/tmp/loop_over_bdir-1950-ABUgTA/Dpkg-1.22.6-0/blib/lib:/tmp/loop_over_bdir-1950-ABUgTA/CORBA-Python-2.66-0/blib/arch:/tmp/loop_over_bdir-1950-ABUgTA/CORBA-Python-2.66-0/blib/lib"
    PERL5OPT=""
    PERL5_CPANPLUS_IS_RUNNING="1958"
    PERL5_CPAN_IS_RUNNING="1958"
    PERL_CANARY_STABILITY_NOPROMPT="1"
    PERL_MM_USE_DEFAULT="1"
    PERL_USE_UNSAFE_INC="1"
  @INC:
    /tmp/loop_over_bdir-1950-ABUgTA/triceps-2.1.0-0/blib/arch
    /tmp/loop_over_bdir-1950-ABUgTA/triceps-2.1.0-0/blib/lib
    /tmp/loop_over_bdir-1950-ABUgTA/HTML-Menu-TreeView-1.22-0/blib/arch
    /tmp/loop_over_bdir-1950-ABUgTA/HTML-Menu-TreeView-1.22-0/blib/lib
    /tmp/loop_over_bdir-1950-ABUgTA/Dpkg-1.22.6-0/blib/arch
    /tmp/loop_over_bdir-1950-ABUgTA/Dpkg-1.22.6-0/blib/lib
    /tmp/loop_over_bdir-1950-ABUgTA/CORBA-Python-2.66-0/blib/arch
    /tmp/loop_over_bdir-1950-ABUgTA/CORBA-Python-2.66-0/blib/lib
    /home/sand/src/perl/repoperls/installed-perls/host/k93jammy/v5.39.9/322f/lib/site_perl/5.39.9/x86_64-linux-thread-multi-ld
    /home/sand/src/perl/repoperls/installed-perls/host/k93jammy/v5.39.9/322f/lib/site_perl/5.39.9
    /home/sand/src/perl/repoperls/installed-perls/host/k93jammy/v5.39.9/322f/lib/5.39.9/x86_64-linux-thread-multi-ld
    /home/sand/src/perl/repoperls/installed-perls/host/k93jammy/v5.39.9/322f/lib/5.39.9
    .