IO-Stringy v2.113 Perl 5 v5.38.0 cygwin-thread-multi

Status
Pass
From
Ken Cotterill
Dist
IO-Stringy v2.113
Platform
Perl 5 v5.38.0 cygwin-thread-multi
Date
2023-07-08 14:09:56
ID
958c62df-7270-1014-8853-1a4948e576eb
This distribution has been tested as part of the CPAN Testers
project, supporting the Perl programming language.  See
http://wiki.cpantesters.org/ for more information or email
questions to cpan-testers-discuss@perl.org


--
Dear Chase Whitener,

This is a computer-generated report for IO-Stringy-2.113
on perl 5.38.0, created by CPAN-Reporter-1.2019.

Thank you for uploading your work to CPAN.  Congratulations!
All tests were successful.

Sections of this report:

    * Tester comments
    * Program output
    * Prerequisites
    * Environment and other context

------------------------------
TESTER COMMENTS
------------------------------

Additional comments from tester:

none provided

------------------------------
PROGRAM OUTPUT
------------------------------

Output from '/usr/bin/make test':

PERL_DL_NONLAZY=1 "/home/ken/perl5/perlbrew/perls/perl-5.38.0/bin/perl.exe" "-MExtUtils::Command::MM" "-MTest::Harness" "-e" "undef *Test::Harness::Switches; test_harness(0, 'blib/lib', 'blib/arch')" t/*.t
# 
# Versions for all modules listed in MYMETA.json (including optional ones):
# 
# === Configure Requires ===
# 
#     Module              Want Have
#     ------------------- ---- ----
#     ExtUtils::MakeMaker  any 7.70
# 
# === Build Requires ===
# 
#     Module              Want Have
#     ------------------- ---- ----
#     ExtUtils::MakeMaker  any 7.70
# 
# === Test Requires ===
# 
#     Module              Want     Have
#     ------------------- ---- --------
#     ExtUtils::MakeMaker  any     7.70
#     File::Basename       any     2.86
#     File::Spec           any     3.88
#     File::Temp           any   0.2311
#     FileHandle           any     2.05
#     IO::File             any     1.52
#     IO::Handle           any     1.52
#     Symbol               any     1.09
#     Test::More          0.88 1.302194
#     Test::Tester         any 1.302194
#     strict               any     1.12
#     warnings             any     1.65
# 
# === Test Recommends ===
# 
#     Module         Want     Have
#     ---------- -------- --------
#     CPAN::Meta 2.120900 2.150010
# 
# === Runtime Requires ===
# 
#     Module     Want  Have
#     ---------- ---- -----
#     Carp        any  1.54
#     Exporter   5.57  5.77
#     File::Spec  any  3.88
#     FileHandle  any  2.05
#     IO::File    any  1.52
#     IO::Handle  any  1.52
#     Symbol      any  1.09
#     overload    any  1.37
#     parent      any 0.241
#     strict      any  1.12
#     warnings    any  1.65
# 
t/00-report-prereqs.t .. ok
t/IO_InnerFile.t ....... ok
t/IO_Lines.t ........... ok
t/IO_Scalar.t .......... ok
t/IO_ScalarArray.t ..... ok
t/IO_WrapTie.t ......... ok
t/simple.t ............. ok
t/two.t ................ ok
All tests successful.
Files=8, Tests=127,  1 wallclock secs ( 0.03 usr  0.05 sys +  0.56 cusr  0.92 csys =  1.55 CPU)
Result: PASS

------------------------------
PREREQUISITES
------------------------------

Prerequisite modules loaded:

requires:

    Module              Need     Have    
    ------------------- -------- --------
    Carp                0        1.54    
    Exporter            5.57     5.77    
    File::Spec          0        3.88    
    FileHandle          0        2.05    
    IO::File            0        1.52    
    IO::Handle          0        1.52    
    overload            0        1.37    
    parent              0        0.241   
    strict              0        1.12    
    Symbol              0        1.09    
    warnings            0        1.65    

build_requires:

    Module              Need     Have    
    ------------------- -------- --------
    ExtUtils::MakeMaker 0        7.70    
    File::Basename      0        2.86    
    File::Spec          0        3.88    
    File::Temp          0        0.2311  
    FileHandle          0        2.05    
    IO::File            0        1.52    
    IO::Handle          0        1.52    
    strict              0        1.12    
    Symbol              0        1.09    
    Test::More          0.88     1.302194
    Test::Tester        0        1.302194
    warnings            0        1.65    

configure_requires:

    Module              Need     Have    
    ------------------- -------- --------
    ExtUtils::MakeMaker 0        7.70    

opt_build_requires:

    Module              Need     Have    
    ------------------- -------- --------
    CPAN::Meta          2.120900 2.150010


------------------------------
ENVIRONMENT AND OTHER CONTEXT
------------------------------

Environment variables:

    ACTIVEPERL_CONFIG_SILENT = 1
    COMSPEC = C:\WINDOWS\system32\cmd.exe
    CPAN_AUTHOR_TEST = 1
    CPAN_AUTHOR_TESTS_FOR__IAD_TKX = 1
    LANG = en_AU.UTF-8
    LC_ALL = en_AU.UTF-8
    LC_COLLATE = en_AU.UTF-8
    LC_CTYPE = en_AU.UTF-8
    LC_MESSAGES = en_AU.UTF-8
    LC_MONETARY = en_AU.UTF-8
    LC_NUMERIC = en_AU.UTF-8
    LC_TIME = en_AU.UTF-8
    NUMBER_OF_PROCESSORS = 12
    PATH = /home/ken/local/bin:/home/ken/perl5/perlbrew/bin:/home/ken/perl5/perlbrew/perls/perl-5.38.0/bin:/usr/local/bin:/usr/bin:/cygdrive/c/Program Files/NVIDIA GPU Computing Toolkit/CUDA/v11.4/bin:/cygdrive/c/Program Files/NVIDIA GPU Computing Toolkit/CUDA/v11.4/libnvvp:/cygdrive/c/Users/ken/local/opt/strawberry_perl/5_026_003/install/perl/site/bin:/cygdrive/c/Users/ken/local/opt/strawberry_perl/5_026_003/install/perl/bin:/cygdrive/c/Users/ken/local/opt/strawberry_perl/5_026_003/install/c/bin:/cygdrive/c/Program Files (x86)/Common Files/Oracle/Java/javapath:/cygdrive/c/Program Files (x86)/Intel/Intel(R) Management Engine Components/iCLS:/cygdrive/c/Program Files/Intel/Intel(R) Management Engine Components/iCLS:/cygdrive/c/Windows/system32:/cygdrive/c/Windows:/cygdrive/c/Windows/System32/Wbem:/cygdrive/c/Windows/System32/WindowsPowerShell/v1.0:/cygdrive/c/Windows/System32/OpenSSH:/cygdrive/c/Program Files/NVIDIA Corporation/NVIDIA NGX:/cygdrive/c/Program Files (x86)/OpenVPN/bin:/cygdrive/c/Program Files (x86)/Intel/Intel(R) Management Engine Components/DAL:/cygdrive/c/Program Files/Intel/Intel(R) Management Engine Components/DAL:/cygdrive/c/Program Files (x86)/Intel/Intel(R) Management Engine Components/IPT:/cygdrive/c/Program Files/Intel/Intel(R) Management Engine Components/IPT:/cygdrive/c/WINDOWS/system32:/cygdrive/c/WINDOWS:/cygdrive/c/WINDOWS/System32/Wbem:/cygdrive/c/WINDOWS/System32/WindowsPowerShell/v1.0:/cygdrive/c/WINDOWS/System32/OpenSSH:/cygdrive/c/Program Files (x86)/Universal Extractor:/cygdrive/c/Program Files (x86)/Universal Extractor/bin:/cygdrive/c/Program Files/Git/cmd:/cygdrive/c/Program Files (x86)/DArTtoolbox/bin:/cygdrive/c/Program Files/NVIDIA Corporation/Nsight Compute 2021.2.0:/cygdrive/c/Program Files (x86)/NVIDIA Corporation/PhysX/Common:/cygdrive/c/Program Files/NVIDIA Corporation/NVIDIA NvDLISR:/cygdrive/c/Program Files (x86)/Calibre2:/cygdrive/c/Users/ken/AppData/Local/Microsoft/WindowsApps:/cygdrive/c/Users/ken/local/bin:/cygdrive/c/Program Files (x86)/Graphviz2.38/bin:/cygdrive/c/Users/ken/AppData/Local/Pandoc:/usr/lib/lapack:/home/ken/.rakubrew/bin
    PERL5LIB = 
    PERL5OPT = 
    PERL5_CPANPLUS_IS_RUNNING = 2868
    PERL5_CPAN_IS_RUNNING = 2868
    PERLBREW_HOME = /home/ken/.perlbrew
    PERLBREW_MANPATH = /home/ken/perl5/perlbrew/perls/perl-5.38.0/man
    PERLBREW_PATH = /home/ken/perl5/perlbrew/bin:/home/ken/perl5/perlbrew/perls/perl-5.38.0/bin
    PERLBREW_PERL = perl-5.38.0
    PERLBREW_ROOT = /home/ken/perl5/perlbrew
    PERLBREW_SHELLRC_VERSION = 0.86
    PERLBREW_VERSION = 0.86
    PERL_READLINE_NOWARN = 1
    PERL_USE_UNSAFE_INC = 1
    PROCESSOR_IDENTIFIER = Intel64 Family 6 Model 158 Stepping 10, GenuineIntel
    SHELL = /bin/bash
    TEMP = /tmp
    TERM = xterm

Perl special variables (and OS-specific diagnostics, for MSWin32):

    $^X = /home/ken/perl5/perlbrew/perls/perl-5.38.0/bin/perl
    $UID/$EUID = 197610 / 197610
    $GID = 197121 197121 559 545 4 66049 11 15 113 4095 66048 262154 401408
    $EGID = 197121 197121 559 545 4 66049 11 15 113 4095 66048 262154 401408

Perl module toolchain versions installed:

    Module              Have    
    ------------------- --------
    CPAN                2.36    
    CPAN::Meta          2.150010
    Cwd                 3.89    
    ExtUtils::CBuilder  0.280238
    ExtUtils::Command   7.70    
    ExtUtils::Install   2.22    
    ExtUtils::MakeMaker 7.70    
    ExtUtils::Manifest  1.73    
    ExtUtils::ParseXS   3.51    
    File::Spec          3.88    
    JSON                4.10    
    JSON::PP            4.16    
    Module::Build       0.4234  
    Module::Signature   n/a     
    Parse::CPAN::Meta   2.150010
    Test2               1.302194
    Test::Harness       3.44    
    Test::More          1.302194
    YAML                1.30    
    YAML::Syck          n/a     
    version             0.9929  


--

Summary of my perl5 (revision 5 version 38 subversion 0) configuration:
   
  Platform:
    osname=cygwin
    osvers=3.4.7-1.x86_64
    archname=cygwin-thread-multi
    uname='cygwin_nt-10.0-19045 titan 3.4.7-1.x86_64 2023-06-16 14:04 utc x86_64 cygwin '
    config_args='-de -Dprefix=/home/ken/perl5/perlbrew/perls/perl-5.38.0 -Aeval:scriptdir=/home/ken/perl5/perlbrew/perls/perl-5.38.0/bin'
    hint=recommended
    useposix=true
    d_sigaction=define
    useithreads=define
    usemultiplicity=define
    use64bitint=define
    use64bitall=define
    uselongdouble=undef
    usemymalloc=n
    default_inc_excludes_dot=define
  Compiler:
    cc='gcc'
    ccflags ='-U__STRICT_ANSI__ -D_GNU_SOURCE -fwrapv -fno-strict-aliasing -pipe -fstack-protector-strong -D_FORTIFY_SOURCE=2'
    optimize='-O3'
    cppflags='-U__STRICT_ANSI__ -D_GNU_SOURCE -fwrapv -fno-strict-aliasing -pipe -fstack-protector-strong'
    ccversion=''
    gccversion='11.4.0'
    gccosandvers=''
    intsize=4
    longsize=8
    ptrsize=8
    doublesize=8
    byteorder=12345678
    doublekind=3
    d_longlong=define
    longlongsize=8
    d_longdbl=define
    longdblsize=16
    longdblkind=3
    ivtype='long'
    ivsize=8
    nvtype='double'
    nvsize=8
    Off_t='off_t'
    lseeksize=8
    alignbytes=8
    prototype=define
  Linker and Libraries:
    ld='g++'
    ldflags =' -Wl,--enable-auto-import -Wl,--export-all-symbols -Wl,--enable-auto-image-base -fstack-protector-strong -L/usr/local/lib'
    libpth=/usr/lib /usr/lib/w32api /usr/local/lib /lib
    libs=-lpthread -lgdbm -ldb -ldl -lcrypt -lgdbm_compat
    perllibs=-lpthread -ldl -lcrypt
    libc=/usr/lib/libcygwin.a
    so=dll
    useshrplib=true
    libperl=cygperl5_38_0.dll
    gnulibc_version=''
  Dynamic Linking:
    dlsrc=dl_dlopen.xs
    dlext=dll
    d_dlsymun=undef
    ccdlflags=' '
    cccdlflags=' '
    lddlflags=' --shared  -Wl,--enable-auto-import -Wl,--export-all-symbols -Wl,--enable-auto-image-base -L/usr/local/lib -fstack-protector-strong'


Characteristics of this binary (from libperl): 
  Compile-time options:
    HAS_LONG_DOUBLE
    HAS_STRTOLD
    HAS_TIMES
    MULTIPLICITY
    PERLIO_LAYERS
    PERL_COPY_ON_WRITE
    PERL_DONT_CREATE_GVSV
    PERL_HASH_FUNC_SIPHASH13
    PERL_HASH_USE_SBOX32
    PERL_OP_PARENT
    PERL_PRESERVE_IVUV
    PERL_USE_SAFE_PUTENV
    USE_64_BIT_ALL
    USE_64_BIT_INT
    USE_ITHREADS
    USE_LARGE_FILES
    USE_LOCALE
    USE_LOCALE_COLLATE
    USE_LOCALE_CTYPE
    USE_LOCALE_NUMERIC
    USE_LOCALE_TIME
    USE_PERLIO
    USE_PERL_ATOF
    USE_REENTRANT_API
  Built under cygwin
  Compiled at Jul  8 2023 21:18:30
  %ENV:
    PERL5LIB=""
    PERL5OPT=""
    PERL5_CPANPLUS_IS_RUNNING="2868"
    PERL5_CPAN_IS_RUNNING="2868"
    PERLBREW_HOME="/home/ken/.perlbrew"
    PERLBREW_MANPATH="/home/ken/perl5/perlbrew/perls/perl-5.38.0/man"
    PERLBREW_PATH="/home/ken/perl5/perlbrew/bin:/home/ken/perl5/perlbrew/perls/perl-5.38.0/bin"
    PERLBREW_PERL="perl-5.38.0"
    PERLBREW_ROOT="/home/ken/perl5/perlbrew"
    PERLBREW_SHELLRC_VERSION="0.86"
    PERLBREW_VERSION="0.86"
    PERL_READLINE_NOWARN="1"
    PERL_USE_UNSAFE_INC="1"
  @INC:
    /home/ken/perl5/perlbrew/perls/perl-5.38.0/lib/site_perl/5.38.0/cygwin-thread-multi
    /home/ken/perl5/perlbrew/perls/perl-5.38.0/lib/site_perl/5.38.0
    /home/ken/perl5/perlbrew/perls/perl-5.38.0/lib/5.38.0/cygwin-thread-multi
    /home/ken/perl5/perlbrew/perls/perl-5.38.0/lib/5.38.0
    .