ETL-Yertl v0.041 Perl 5 v5.14.3 x86_64-linux-thread-multi

Status
Pass
From
Nigel Horne
Dist
ETL-Yertl v0.041
Platform
Perl 5 v5.14.3 x86_64-linux-thread-multi
Date
2018-09-06 09:16:49
ID
95926dfa-b1b5-11e8-8c4c-9fff2ef46f3b
This distribution has been tested as part of the CPAN Testers
project, supporting the Perl programming language.  See
http://wiki.cpantesters.org/ for more information or email
questions to cpan-testers-discuss@perl.org


--
Dear Doug Bell,

This is a computer-generated report for ETL-Yertl-0.041
on perl 5.14.3, created by CPAN-Reporter-1.2018.

Thank you for uploading your work to CPAN.  Congratulations!
All tests were successful.

Sections of this report:

    * Tester comments
    * Program output
    * Prerequisites
    * Environment and other context

------------------------------
TESTER COMMENTS
------------------------------

Additional comments from tester:

this report is from an automated smoke testing program
and was not reviewed by a human for accuracy

------------------------------
PROGRAM OUTPUT
------------------------------

Output from '/usr/bin/make test':

PERL_DL_NONLAZY=1 "/home/njh/perl5/perlbrew/perls/perl-5.14.3/bin/perl" "-MExtUtils::Command::MM" "-MTest::Harness" "-e" "undef *Test::Harness::Switches; test_harness(0, 'blib/lib', 'blib/arch')" t/*.t t/adapter/*.t t/bin/*.t t/command/ygrok/*.t t/command/ygrok/pattern/*.t t/command/yq/*.t t/format/*.t t/integration/*.t
t/00-compile.t ........................... ok
# 
# Versions for all modules listed in MYMETA.json (including optional ones):
# 
# === Configure Requires ===
# 
#     Module              Want Have
#     ------------------- ---- ----
#     ExtUtils::MakeMaker  any 7.34
# 
# === Build Requires ===
# 
#     Module              Want Have
#     ------------------- ---- ----
#     ExtUtils::MakeMaker  any 7.34
# 
# === Test Requires ===
# 
#     Module                  Want     Have
#     ------------------- -------- --------
#     Capture::Tiny            any     0.48
#     Dir::Self                any     0.11
#     ExtUtils::MakeMaker      any     7.34
#     File::Spec               any     3.74
#     Future                   any     0.38
#     IO::Handle               any     1.39
#     IPC::Open3               any   1.0901
#     JSON::PP                 any  2.27400
#     Mock::MonkeyPatch        any     0.04
#     Test::Deep               any    1.127
#     Test::Differences        any     0.64
#     Test::Exception          any     0.43
#     Test::Lib                any    0.002
#     Test::More          1.001005 1.302136
# 
# === Test Recommends ===
# 
#     Module         Want     Have
#     ---------- -------- --------
#     CPAN::Meta 2.120900 2.150010
# 
# === Runtime Requires ===
# 
#     Module                    Want       Have
#     ------------------- ---------- ----------
#     File::HomeDir              any      1.004
#     File::Spec                 any       3.74
#     Getopt::Long              2.36        2.5
#     Hash::Merge::Simple        any      0.051
#     IO::Async                 0.72       0.72
#     IO::Interactive            any      1.022
#     Import::Base             0.010      1.004
#     JSON::MaybeXS              any   1.003008
#     List::Util                 any       1.50
#     Module::Runtime            any      0.016
#     Net::Async::HTTP           any       0.42
#     Path::Tiny               0.072      0.098
#     Pod::Usage::Return         any      0.003
#     Regexp::Common      2013031301 2017060201
#     SQL::Abstract              any       1.86
#     Time::Local                any     1.2300
#     Time::Piece                any    1.20_01
#     URI                        any       1.60
#     YAML::Tiny                 any       1.51
#     boolean                    any       0.46
# 
# === Runtime Recommends ===
# 
#     Module       Want    Have
#     ------------ ---- -------
#     DBD::SQLite   any    1.58
#     DBI           any   1.641
#     JSON::PP      any 2.27400
#     JSON::XS      any    3.02
#     Text::CSV     any    1.32
#     Text::CSV_XS  any    1.11
#     YAML::Syck    any    1.30
#     YAML::XS      any    0.74
# 
t/00-report-prereqs.t .................... ok
Name "CORE::GLOBAL::time" used only once: possible typo at t/adapter/graphite.t line 142.
t/adapter/graphite.t ..................... ok
Name "CORE::GLOBAL::time" used only once: possible typo at t/adapter/influxdb.t line 151.
t/adapter/influxdb.t ..................... ok
t/bin/yfrom.t ............................ ok
t/bin/ygrok.t ............................ ok
Use of uninitialized value in string eq at /home/njh/.cpan/build/ETL-Yertl-0.041-45/blib/lib/ETL/Yertl.pm line 23.
t/bin/yq.t ............................... ok
t/bin/ysql.t ............................. ok
t/bin/yto.t .............................. ok
t/bin/yts.t .............................. ok
t/command/ygrok/edit_patterns.t .......... ok
t/command/ygrok/pattern/http_combined.t .. ok
t/command/ygrok/pattern/http_common.t .... ok
t/command/ygrok/pattern/linux_proc.t ..... ok
t/command/ygrok/pattern/ls-l.t ........... ok
t/command/ygrok/pattern/ps-u.t ........... ok
t/command/ygrok/pattern/ps-x.t ........... ok
t/command/ygrok/pattern/ps.t ............. ok
t/command/ygrok/pattern/syslog.t ......... ok
t/command/yq/combinator.t ................ ok
t/command/yq/comparison.t ................ ok
t/command/yq/conditional.t ............... ok
t/command/yq/filter.t .................... ok
empty does not take arguments
t/command/yq/functions.t ................. ok
t/command/yq/regression.t ................ ok
t/command/yq/values.t .................... ok
t/format.t ............................... ok
t/format/csv.t ........................... ok
Prototype mismatch: sub main::decode_json ($) vs none at /home/njh/perl5/perlbrew/perls/perl-5.14.3/lib/site_perl/5.14.3/Exporter.pm line 66.
 at (eval 42) line 1.
t/format/json.t .......................... ok
t/format/yaml.t .......................... ok
t/format_stream.t ........................ ok
Use of uninitialized value in string eq at /home/njh/.cpan/build/ETL-Yertl-0.041-45/blib/lib/ETL/Yertl.pm line 23.
t/helpers.t .............................. ok
t/input_series.t ......................... ok
Use of uninitialized value in string eq at /home/njh/.cpan/build/ETL-Yertl-0.041-45/blib/lib/ETL/Yertl.pm line 23.
t/integration/parse_apache_log.t ......... ok
t/transform.t ............................ ok
All tests successful.
Files=35, Tests=124, 13 wallclock secs ( 0.20 usr  0.05 sys +  6.74 cusr  1.28 csys =  8.27 CPU)
Result: PASS

------------------------------
PREREQUISITES
------------------------------

Prerequisite modules loaded:

requires:

    Module              Need       Have      
    ------------------- ---------- ----------
    boolean             0          0.46      
    File::HomeDir       0          1.004     
    File::Spec          0          3.74      
    Getopt::Long        2.36       2.5       
    Hash::Merge::Simple 0          0.051     
    Import::Base        0.010      1.004     
    IO::Async           0.72       0.72      
    IO::Interactive     0          1.022     
    JSON::MaybeXS       0          1.003008  
    List::Util          0          1.50      
    Module::Runtime     0          0.016     
    Net::Async::HTTP    0          0.42      
    Path::Tiny          0.072      0.098     
    perl                5.010      5.014003  
    Pod::Usage::Return  0          0.003     
    Regexp::Common      2013031301 2017060201
    SQL::Abstract       0          1.86      
    Time::Local         0          1.2300    
    Time::Piece         0          1.20_01   
    URI                 0          1.60      
    YAML::Tiny          0          1.51      

build_requires:

    Module              Need       Have      
    ------------------- ---------- ----------
    Capture::Tiny       0          0.48      
    Dir::Self           0          0.11      
    ExtUtils::MakeMaker 0          7.34      
    File::Spec          0          3.74      
    Future              0          0.38      
    IO::Handle          0          1.39      
    IPC::Open3          0          1.0901    
    JSON::PP            0          2.27400   
    Mock::MonkeyPatch   0          0.04      
    Test::Deep          0          1.127     
    Test::Differences   0          0.64      
    Test::Exception     0          0.43      
    Test::Lib           0          0.002     
    Test::More          1.001005   1.302136  

configure_requires:

    Module              Need       Have      
    ------------------- ---------- ----------
    ExtUtils::MakeMaker 0          7.34      


------------------------------
ENVIRONMENT AND OTHER CONTEXT
------------------------------

Environment variables:

    AUTOMATED_TESTING = 1
    LANG = en_GB.UTF-8
    LANGUAGE = en_GB:en
    PATH = /home/njh/perl5/perlbrew/bin:/home/njh/perl5/perlbrew/perls/perl-5.14.3/bin:/home/njh/perl5/perlbrew/bin:/usr/bin:/bin
    PERL5LIB = /home/njh/.cpan/build/boolean-0.46-4/blib/arch:/home/njh/.cpan/build/boolean-0.46-4/blib/lib:/home/njh/.cpan/build/Test-Lib-0.002-4/blib/arch:/home/njh/.cpan/build/Test-Lib-0.002-4/blib/lib:/home/njh/.cpan/build/SQL-Abstract-1.86-4/blib/arch:/home/njh/.cpan/build/SQL-Abstract-1.86-4/blib/lib:/home/njh/.cpan/build/Hash-Merge-0.300-7/blib/arch:/home/njh/.cpan/build/Hash-Merge-0.300-7/blib/lib:/home/njh/.cpan/build/Clone-Choose-0.010-7/blib/arch:/home/njh/.cpan/build/Clone-Choose-0.010-7/blib/lib:/home/njh/.cpan/build/Pod-Usage-Return-0.003-4/blib/arch:/home/njh/.cpan/build/Pod-Usage-Return-0.003-4/blib/lib:/home/njh/.cpan/build/Net-Async-HTTP-0.42-4/blib/arch:/home/njh/.cpan/build/Net-Async-HTTP-0.42-4/blib/lib:/home/njh/.cpan/build/Mock-MonkeyPatch-0.04-4/blib/arch:/home/njh/.cpan/build/Mock-MonkeyPatch-0.04-4/blib/lib:/home/njh/.cpan/build/Import-Base-1.004-4/blib/arch:/home/njh/.cpan/build/Import-Base-1.004-4/blib/lib:/home/njh/.cpan/build/IO-Interactive-1.022-4/blib/arch:/home/njh/.cpan/build/IO-Interactive-1.022-4/blib/lib:/home/njh/.cpan/build/IO-Async-0.72-4/blib/arch:/home/njh/.cpan/build/IO-Async-0.72-4/blib/lib:/home/njh/.cpan/build/Struct-Dumb-0.09-4/blib/arch:/home/njh/.cpan/build/Struct-Dumb-0.09-4/blib/lib:/home/njh/.cpan/build/Hash-Merge-Simple-0.051-4/blib/arch:/home/njh/.cpan/build/Hash-Merge-Simple-0.051-4/blib/lib:/home/njh/.cpan/build/Future-0.38-45/blib/arch:/home/njh/.cpan/build/Future-0.38-45/blib/lib:/home/njh/.cpan/build/Test-Refcount-0.08-45/blib/arch:/home/njh/.cpan/build/Test-Refcount-0.08-45/blib/lib:/home/njh/.cpan/build/Test-Identity-0.01-45/blib/arch:/home/njh/.cpan/build/Test-Identity-0.01-45/blib/lib:/home/njh/.cpan/build/Dir-Self-0.11-45/blib/arch:/home/njh/.cpan/build/Dir-Self-0.11-45/blib/lib
    PERL5OPT = 
    PERL5_CPANPLUS_IS_RUNNING = 29234
    PERL5_CPAN_IS_RUNNING = 29234
    PERL5_MINISMOKEBOX = 0.58
    PERLBREW_LIB = 
    PERLBREW_MANPATH = /home/njh/perl5/perlbrew/perls/perl-5.14.3/man
    PERLBREW_PATH = /home/njh/perl5/perlbrew/bin:/home/njh/perl5/perlbrew/perls/perl-5.14.3/bin
    PERLBREW_PERL = perl-5.14.3
    PERLBREW_ROOT = /home/njh/perl5/perlbrew
    PERLBREW_SHELLRC_VERSION = 0.82
    PERLBREW_VERSION = 0.82
    PERL_EXTUTILS_AUTOINSTALL = --defaultdeps
    PERL_LOCAL_LIB_ROOT = 
    PERL_MM_USE_DEFAULT = 1
    SHELL = /bin/sh
    TEMP = /tmp/user/1000
    TMPDIR = /tmp/user/1000

Perl special variables (and OS-specific diagnostics, for MSWin32):

    $^X = /home/njh/perl5/perlbrew/perls/perl-5.14.3/bin/perl
    $UID/$EUID = 1000 / 1000
    $GID = 1000 4 24 25 29 30 44 46 108 112 1000
    $EGID = 1000 4 24 25 29 30 44 46 108 112 1000

Perl module toolchain versions installed:

    Module              Have    
    ------------------- --------
    CPAN                2.16    
    CPAN::Meta          2.150010
    Cwd                 3.74    
    ExtUtils::CBuilder  0.280230
    ExtUtils::Command   7.34    
    ExtUtils::Install   2.14    
    ExtUtils::MakeMaker 7.34    
    ExtUtils::Manifest  1.71    
    ExtUtils::ParseXS   3.35    
    File::Spec          3.74    
    JSON                2.97001 
    JSON::PP            2.27400 
    Module::Build       0.4206  
    Module::Signature   0.73    
    Parse::CPAN::Meta   2.150010
    Test::Harness       3.36    
    Test::More          1.302136
    YAML                1.26    
    YAML::Syck          1.30    
    version             0.9902  


--

Summary of my perl5 (revision 5 version 14 subversion 3) configuration:
   
  Platform:
    osname=linux, osvers=3.2.0-4-amd64, archname=x86_64-linux-thread-multi
    uname='linux nigelhorne.force9.co.uk 3.2.0-4-amd64 #1 smp debian 3.2.32-1 x86_64 gnulinux '
    config_args='-de -Dprefix=/home/njh/perl5/perlbrew/perls/perl-5.14.3 -Duseithreads -Dusemultiplicity -Accflags=-O2 -W -Wformat=2 -Wswitch -Wshadow -Wwrite-strings -Wuninitialized -Wall -pipe -mtune=native -march=native -fomit-frame-pointer -mfpmath=sse -pedantic -D_FORTIFY_SOURCE=2 -Wpointer-arith -Wstrict-prototypes -fstack-protector -Wstack-protector -Wextra -Wbad-function-cast -Wcast-align -Wcast-qual -Wdisabled-optimization -Wendif-labels -Wfloat-equal -Wformat-nonliteral -Winline -Wmissing-declarations -Wmissing-prototypes -Wnested-externs -Wpointer-arith -Wundef -Wformat-security -Aeval:scriptdir=/home/njh/perl5/perlbrew/perls/perl-5.14.3/bin'
    hint=recommended, useposix=true, d_sigaction=define
    useithreads=define, usemultiplicity=define
    useperlio=define, d_sfio=undef, uselargefiles=define, usesocks=undef
    use64bitint=define, use64bitall=define, uselongdouble=undef
    usemymalloc=n, bincompat5005=undef
  Compiler:
    cc='cc', ccflags ='-D_REENTRANT -D_GNU_SOURCE -O2 -W -Wformat=2 -Wswitch -Wshadow -Wwrite-strings -Wuninitialized -Wall -pipe -mtune=native -march=native -fomit-frame-pointer -mfpmath=sse -pedantic -D_FORTIFY_SOURCE=2 -Wpointer-arith -Wstrict-prototypes -fstack-protector -Wstack-protector -Wextra -Wbad-function-cast -Wcast-align -Wcast-qual -Wdisabled-optimization -Wendif-labels -Wfloat-equal -Wformat-nonliteral -Winline -Wmissing-declarations -Wmissing-prototypes -Wnested-externs -Wpointer-arith -Wundef -Wformat-security -fno-strict-aliasing -I/usr/local/include -D_LARGEFILE_SOURCE -D_FILE_OFFSET_BITS=64',
    optimize='-O2',
    cppflags='-D_REENTRANT -D_GNU_SOURCE -O2 -W -Wformat=2 -Wswitch -Wshadow -Wwrite-strings -Wuninitialized -Wall -pipe -mtune=native -march=native -fomit-frame-pointer -mfpmath=sse -pedantic -D_FORTIFY_SOURCE=2 -Wpointer-arith -Wstrict-prototypes -fstack-protector -Wstack-protector -Wextra -Wbad-function-cast -Wcast-align -Wcast-qual -Wdisabled-optimization -Wendif-labels -Wfloat-equal -Wformat-nonliteral -Winline -Wmissing-declarations -Wmissing-prototypes -Wnested-externs -Wpointer-arith -Wundef -Wformat-security -fno-strict-aliasing -I/usr/local/include'
    ccversion='', gccversion='4.7.2', gccosandvers=''
    intsize=4, longsize=8, ptrsize=8, doublesize=8, byteorder=12345678
    d_longlong=define, longlongsize=8, d_longdbl=define, longdblsize=16
    ivtype='long', ivsize=8, nvtype='double', nvsize=8, Off_t='off_t', lseeksize=8
    alignbytes=8, prototype=define
  Linker and Libraries:
    ld='cc', ldflags =' -fstack-protector -L/usr/local/lib'
    libpth=/usr/local/lib /lib/x86_64-linux-gnu /lib/../lib /usr/lib/x86_64-linux-gnu /usr/lib/../lib /lib /usr/lib
    libs=-lnsl -lgdbm -ldb -ldl -lm -lcrypt -lutil -lpthread -lc -lgdbm_compat
    perllibs=-lnsl -ldl -lm -lcrypt -lutil -lpthread -lc
    libc=, so=so, useshrplib=false, libperl=libperl.a
    gnulibc_version='2.13'
  Dynamic Linking:
    dlsrc=dl_dlopen.xs, dlext=so, d_dlsymun=undef, ccdlflags='-Wl,-E'
    cccdlflags='-fPIC', lddlflags='-shared -O2 -L/usr/local/lib -fstack-protector'


Characteristics of this binary (from libperl): 
  Compile-time options: MULTIPLICITY PERL_DONT_CREATE_GVSV
                        PERL_IMPLICIT_CONTEXT PERL_MALLOC_WRAP
                        PERL_PRESERVE_IVUV USE_64_BIT_ALL USE_64_BIT_INT
                        USE_ITHREADS USE_LARGE_FILES USE_PERLIO USE_PERL_ATOF
                        USE_REENTRANT_API
  Built under linux
  Compiled at Mar  5 2013 02:01:19
  %ENV:
    PERL5LIB="/home/njh/.cpan/build/boolean-0.46-4/blib/arch:/home/njh/.cpan/build/boolean-0.46-4/blib/lib:/home/njh/.cpan/build/Test-Lib-0.002-4/blib/arch:/home/njh/.cpan/build/Test-Lib-0.002-4/blib/lib:/home/njh/.cpan/build/SQL-Abstract-1.86-4/blib/arch:/home/njh/.cpan/build/SQL-Abstract-1.86-4/blib/lib:/home/njh/.cpan/build/Hash-Merge-0.300-7/blib/arch:/home/njh/.cpan/build/Hash-Merge-0.300-7/blib/lib:/home/njh/.cpan/build/Clone-Choose-0.010-7/blib/arch:/home/njh/.cpan/build/Clone-Choose-0.010-7/blib/lib:/home/njh/.cpan/build/Pod-Usage-Return-0.003-4/blib/arch:/home/njh/.cpan/build/Pod-Usage-Return-0.003-4/blib/lib:/home/njh/.cpan/build/Net-Async-HTTP-0.42-4/blib/arch:/home/njh/.cpan/build/Net-Async-HTTP-0.42-4/blib/lib:/home/njh/.cpan/build/Mock-MonkeyPatch-0.04-4/blib/arch:/home/njh/.cpan/build/Mock-MonkeyPatch-0.04-4/blib/lib:/home/njh/.cpan/build/Import-Base-1.004-4/blib/arch:/home/njh/.cpan/build/Import-Base-1.004-4/blib/lib:/home/njh/.cpan/build/IO-Interactive-1.022-4/blib/arch:/home/njh/.cpan/build/IO-Interactive-1.022-4/blib/lib:/home/njh/.cpan/build/IO-Async-0.72-4/blib/arch:/home/njh/.cpan/build/IO-Async-0.72-4/blib/lib:/home/njh/.cpan/build/Struct-Dumb-0.09-4/blib/arch:/home/njh/.cpan/build/Struct-Dumb-0.09-4/blib/lib:/home/njh/.cpan/build/Hash-Merge-Simple-0.051-4/blib/arch:/home/njh/.cpan/build/Hash-Merge-Simple-0.051-4/blib/lib:/home/njh/.cpan/build/Future-0.38-45/blib/arch:/home/njh/.cpan/build/Future-0.38-45/blib/lib:/home/njh/.cpan/build/Test-Refcount-0.08-45/blib/arch:/home/njh/.cpan/build/Test-Refcount-0.08-45/blib/lib:/home/njh/.cpan/build/Test-Identity-0.01-45/blib/arch:/home/njh/.cpan/build/Test-Identity-0.01-45/blib/lib:/home/njh/.cpan/build/Dir-Self-0.11-45/blib/arch:/home/njh/.cpan/build/Dir-Self-0.11-45/blib/lib"
    PERL5OPT=""
    PERL5_CPANPLUS_IS_RUNNING="29234"
    PERL5_CPAN_IS_RUNNING="29234"
    PERL5_MINISMOKEBOX="0.58"
    PERLBREW_LIB=""
    PERLBREW_MANPATH="/home/njh/perl5/perlbrew/perls/perl-5.14.3/man"
    PERLBREW_PATH="/home/njh/perl5/perlbrew/bin:/home/njh/perl5/perlbrew/perls/perl-5.14.3/bin"
    PERLBREW_PERL="perl-5.14.3"
    PERLBREW_ROOT="/home/njh/perl5/perlbrew"
    PERLBREW_SHELLRC_VERSION="0.82"
    PERLBREW_VERSION="0.82"
    PERL_EXTUTILS_AUTOINSTALL="--defaultdeps"
    PERL_LOCAL_LIB_ROOT=""
    PERL_MM_USE_DEFAULT="1"
  @INC:
    /home/njh/.cpan/build/boolean-0.46-4/blib/arch
    /home/njh/.cpan/build/boolean-0.46-4/blib/lib
    /home/njh/.cpan/build/Test-Lib-0.002-4/blib/arch
    /home/njh/.cpan/build/Test-Lib-0.002-4/blib/lib
    /home/njh/.cpan/build/SQL-Abstract-1.86-4/blib/arch
    /home/njh/.cpan/build/SQL-Abstract-1.86-4/blib/lib
    /home/njh/.cpan/build/Hash-Merge-0.300-7/blib/arch
    /home/njh/.cpan/build/Hash-Merge-0.300-7/blib/lib
    /home/njh/.cpan/build/Clone-Choose-0.010-7/blib/arch
    /home/njh/.cpan/build/Clone-Choose-0.010-7/blib/lib
    /home/njh/.cpan/build/Pod-Usage-Return-0.003-4/blib/arch
    /home/njh/.cpan/build/Pod-Usage-Return-0.003-4/blib/lib
    /home/njh/.cpan/build/Net-Async-HTTP-0.42-4/blib/arch
    /home/njh/.cpan/build/Net-Async-HTTP-0.42-4/blib/lib
    /home/njh/.cpan/build/Mock-MonkeyPatch-0.04-4/blib/arch
    /home/njh/.cpan/build/Mock-MonkeyPatch-0.04-4/blib/lib
    /home/njh/.cpan/build/Import-Base-1.004-4/blib/arch
    /home/njh/.cpan/build/Import-Base-1.004-4/blib/lib
    /home/njh/.cpan/build/IO-Interactive-1.022-4/blib/arch
    /home/njh/.cpan/build/IO-Interactive-1.022-4/blib/lib
    /home/njh/.cpan/build/IO-Async-0.72-4/blib/arch
    /home/njh/.cpan/build/IO-Async-0.72-4/blib/lib
    /home/njh/.cpan/build/Struct-Dumb-0.09-4/blib/arch
    /home/njh/.cpan/build/Struct-Dumb-0.09-4/blib/lib
    /home/njh/.cpan/build/Hash-Merge-Simple-0.051-4/blib/arch
    /home/njh/.cpan/build/Hash-Merge-Simple-0.051-4/blib/lib
    /home/njh/.cpan/build/Future-0.38-45/blib/arch
    /home/njh/.cpan/build/Future-0.38-45/blib/lib
    /home/njh/.cpan/build/Test-Refcount-0.08-45/blib/arch
    /home/njh/.cpan/build/Test-Refcount-0.08-45/blib/lib
    /home/njh/.cpan/build/Test-Identity-0.01-45/blib/arch
    /home/njh/.cpan/build/Test-Identity-0.01-45/blib/lib
    /home/njh/.cpan/build/Dir-Self-0.11-45/blib/arch
    /home/njh/.cpan/build/Dir-Self-0.11-45/blib/lib
    /home/njh/perl5/perlbrew/perls/perl-5.14.3/lib/site_perl/5.14.3/x86_64-linux-thread-multi
    /home/njh/perl5/perlbrew/perls/perl-5.14.3/lib/site_perl/5.14.3
    /home/njh/perl5/perlbrew/perls/perl-5.14.3/lib/5.14.3/x86_64-linux-thread-multi
    /home/njh/perl5/perlbrew/perls/perl-5.14.3/lib/5.14.3
    .