MooseX-Getopt-Defanged vv1.18.0 Perl 5 v5.41.11 x86_64-linux

Status
Pass
From
Carlos Guevara
Dist
MooseX-Getopt-Defanged vv1.18.0
Platform
Perl 5 v5.41.11 x86_64-linux
Date
2025-04-06 09:29:05
ID
9596b4e2-12c9-11f0-a9ce-a3054e48ecee
This distribution has been tested as part of the CPAN Testers
project, supporting the Perl programming language.  See
http://wiki.cpantesters.org/ for more information or email
questions to cpan-testers-discuss@perl.org


--
Dear Elliot Shank,

This is a computer-generated report for MooseX-Getopt-Defanged-v1.18.0
on perl 5.41.11, created by CPAN-Reporter-1.2020.

Thank you for uploading your work to CPAN.  Congratulations!
All tests were successful.

Sections of this report:

    * Tester comments
    * Program output
    * Prerequisites
    * Environment and other context

------------------------------
TESTER COMMENTS
------------------------------

Additional comments from tester:

this report is from an automated smoke testing program
and was not reviewed by a human for accuracy

------------------------------
PROGRAM OUTPUT
------------------------------

Output from './Build test':

t/00-use-ok.t ..................... ok
Attempt to call undefined import method with arguments (":all") via package "MooseX::Getopt::Defanged" (Perhaps you forgot to load the package?) at t/getopt.t line 28.
Useless use of concatenation (.) or string in void context at /home/cpan/.cpan/build/MooseX-Getopt-Defanged-v1.18.0-0/blib/lib/MooseX/Getopt/Defanged/Meta/Attribute/Trait/_Getopt.pm line 223.
Passing a list of values to enum is deprecated. Enum values should be wrapped in an arrayref. at /home/cpan/bin/perl/lib/site_perl/5.41.11/Module/Runtime.pm line 314.
	Module::Runtime::require_module("MooseX::Getopt::Defanged::Meta::Attribute::Trait::_Getopt") called at /home/cpan/bin/perl/lib/site_perl/5.41.11/Module/Runtime.pm line 391
	eval {...} called at /home/cpan/bin/perl/lib/site_perl/5.41.11/Module/Runtime.pm line 391
	Module::Runtime::use_package_optimistically("MooseX::Getopt::Defanged::Meta::Attribute::Trait::_Getopt") called at /home/cpan/bin/perl/lib/site_perl/5.41.11/x86_64-linux/Moose/Util.pm line 238
	Moose::Util::resolve_metaclass_alias("Attribute", "MooseX::Getopt::Defanged::Meta::Attribute::Trait::_Getopt", "trait", 1) called at /home/cpan/bin/perl/lib/site_perl/5.41.11/x86_64-linux/Moose/Util.pm line 210
	Moose::Util::resolve_metatrait_alias("Attribute", "MooseX::Getopt::Defanged::Meta::Attribute::Trait::_Getopt") called at /home/cpan/bin/perl/lib/site_perl/5.41.11/x86_64-linux/Moose/Meta/Attribute.pm line 44
	Moose::Meta::Attribute::try {...} () called at /home/cpan/bin/perl/lib/site_perl/5.41.11/Try/Tiny.pm line 100
	eval {...} called at /home/cpan/bin/perl/lib/site_perl/5.41.11/Try/Tiny.pm line 93
	Try::Tiny::try(CODE(0x7fd3452ee4e0)) called at /home/cpan/bin/perl/lib/site_perl/5.41.11/x86_64-linux/Moose/Meta/Attribute.pm line 45
	Moose::Meta::Attribute::does(Moose::Meta::Attribute=HASH(0x7fd345ac2f58), "MooseX::Getopt::Defanged::Meta::Attribute::Trait::_Getopt") called at /home/cpan/.cpan/build/MooseX-Getopt-Defanged-v1.18.0-0/blib/lib/MooseX/Getopt/Defanged.pm line 63
	MooseX::Getopt::Defanged::_getopt_get_option_attributes(MooseX::Getopt::Defanged::MinimalConsumer=HASH(0x7fd345357818)) called at /home/cpan/.cpan/build/MooseX-Getopt-Defanged-v1.18.0-0/blib/lib/MooseX/Getopt/Defanged.pm line 95
	MooseX::Getopt::Defanged::_getopt_invoke_getopt_long(MooseX::Getopt::Defanged::MinimalConsumer=HASH(0x7fd345357818), ARRAY(0x7fd345357000)) called at /home/cpan/.cpan/build/MooseX-Getopt-Defanged-v1.18.0-0/blib/lib/MooseX/Getopt/Defanged.pm line 48
	MooseX::Getopt::Defanged::parse_command_line(MooseX::Getopt::Defanged::MinimalConsumer=HASH(0x7fd345357818), ARRAY(0x7fd345357000)) called at t/getopt.t line 149
	MooseX::Getopt::Defanged::Test::test_3_can_parse_command_line_for_minimal_consumer(MooseX::Getopt::Defanged::Test=HASH(0x7fd3471ebc68)) called at /home/cpan/bin/perl/lib/site_perl/5.41.11/Test/Class.pm line 293
	Test::Class::try {...} () called at /home/cpan/bin/perl/lib/site_perl/5.41.11/Try/Tiny.pm line 100
	eval {...} called at /home/cpan/bin/perl/lib/site_perl/5.41.11/Try/Tiny.pm line 93
	Try::Tiny::try(CODE(0x7fd345356b38), Try::Tiny::Catch=REF(0x7fd345360c60)) called at /home/cpan/bin/perl/lib/site_perl/5.41.11/Test/Class.pm line 293
	Test::Class::_run_method(MooseX::Getopt::Defanged::Test=HASH(0x7fd3471ebc68), "test_3_can_parse_command_line_for_minimal_consumer", ARRAY(0x7fd3469dbc40)) called at /home/cpan/bin/perl/lib/site_perl/5.41.11/Test/Class.pm line 402
	Test::Class::runtests("MooseX::Getopt::Defanged::Test") called at t/getopt.t line 113
t/getopt.t ........................ ok
Useless use of concatenation (.) or string in void context at /home/cpan/.cpan/build/MooseX-Getopt-Defanged-v1.18.0-0/blib/lib/MooseX/Getopt/Defanged/Meta/Attribute/Trait/_Getopt.pm line 223.
Passing a list of values to enum is deprecated. Enum values should be wrapped in an arrayref. at /home/cpan/bin/perl/lib/site_perl/5.41.11/Module/Runtime.pm line 314.
	Module::Runtime::require_module("MooseX::Getopt::Defanged::Meta::Attribute::Trait::_Getopt") called at /home/cpan/bin/perl/lib/site_perl/5.41.11/Module/Runtime.pm line 391
	eval {...} called at /home/cpan/bin/perl/lib/site_perl/5.41.11/Module/Runtime.pm line 391
	Module::Runtime::use_package_optimistically("MooseX::Getopt::Defanged::Meta::Attribute::Trait::_Getopt") called at /home/cpan/bin/perl/lib/site_perl/5.41.11/x86_64-linux/Moose/Util.pm line 238
	Moose::Util::resolve_metaclass_alias("Attribute", "MooseX::Getopt::Defanged::Meta::Attribute::Trait::_Getopt", "trait", 1) called at /home/cpan/bin/perl/lib/site_perl/5.41.11/x86_64-linux/Moose/Util.pm line 210
	Moose::Util::resolve_metatrait_alias("Attribute", "MooseX::Getopt::Defanged::Meta::Attribute::Trait::_Getopt") called at /home/cpan/bin/perl/lib/site_perl/5.41.11/x86_64-linux/Moose/Meta/Attribute.pm line 44
	Moose::Meta::Attribute::try {...} () called at /home/cpan/bin/perl/lib/site_perl/5.41.11/Try/Tiny.pm line 100
	eval {...} called at /home/cpan/bin/perl/lib/site_perl/5.41.11/Try/Tiny.pm line 93
	Try::Tiny::try(CODE(0x7f2fe2b84868)) called at /home/cpan/bin/perl/lib/site_perl/5.41.11/x86_64-linux/Moose/Meta/Attribute.pm line 45
	Moose::Meta::Attribute::does("Moose::Meta::Attribute", "MooseX::Getopt::Defanged::Meta::Attribute::Trait::_Getopt") called at /home/cpan/bin/perl/lib/site_perl/5.41.11/x86_64-linux/Moose/Meta/Attribute.pm line 138
	Moose::Meta::Attribute::interpolate_class("Moose::Meta::Attribute", HASH(0x7f2fe2faf968)) called at /home/cpan/bin/perl/lib/site_perl/5.41.11/x86_64-linux/Moose/Meta/Attribute.pm line 104
	Moose::Meta::Attribute::interpolate_class_and_new("Moose::Meta::Attribute", "test3", "definition_context", HASH(0x7f2fe2557900), "traits", ARRAY(0x7f2fe2bfa360), "is", "ro", ...) called at /home/cpan/bin/perl/lib/site_perl/5.41.11/x86_64-linux/Moose/Meta/Class.pm line 724
	Moose::Meta::Class::_process_new_attribute(Moose::Meta::Class=HASH(0x7f2fe2bf4de8), "test3", "definition_context", HASH(0x7f2fe2557900), "traits", ARRAY(0x7f2fe2bfa360), "is", "ro", ...) called at /home/cpan/bin/perl/lib/site_perl/5.41.11/x86_64-linux/Moose/Meta/Class.pm line 717
	Moose::Meta::Class::_process_attribute(Moose::Meta::Class=HASH(0x7f2fe2bf4de8), "test3", "definition_context", HASH(0x7f2fe2557900), "traits", ARRAY(0x7f2fe2bfa360), "is", "ro", ...) called at /home/cpan/bin/perl/lib/site_perl/5.41.11/x86_64-linux/Moose/Meta/Class.pm line 581
	Moose::Meta::Class::add_attribute(Moose::Meta::Class=HASH(0x7f2fe2bf4de8), "test3", "definition_context", HASH(0x7f2fe2557900), "traits", ARRAY(0x7f2fe2bfa360), "is", "ro", ...) called at /home/cpan/bin/perl/lib/site_perl/5.41.11/x86_64-linux/Moose.pm line 74
	Moose::has(Moose::Meta::Class=HASH(0x7f2fe2bf4de8), "test3", "traits", ARRAY(0x7f2fe2bfa360), "is", "ro", "isa", "Str") called at /home/cpan/bin/perl/lib/site_perl/5.41.11/x86_64-linux/Moose/Exporter.pm line 418
	Moose::has("test3", "traits", ARRAY(0x7f2fe2bfa360), "is", "ro", "isa", "Str") called at t/inheritance.d/lib/MooseX/Getopt/Defanged/BaseClass.pm line 13
	require MooseX/Getopt/Defanged/BaseClass.pm called at /home/cpan/bin/perl/lib/site_perl/5.41.11/Module/Runtime.pm line 314
	Module::Runtime::require_module("MooseX::Getopt::Defanged::BaseClass") called at /home/cpan/bin/perl/lib/site_perl/5.41.11/Module/Runtime.pm line 391
	eval {...} called at /home/cpan/bin/perl/lib/site_perl/5.41.11/Module/Runtime.pm line 391
	Module::Runtime::use_package_optimistically("MooseX::Getopt::Defanged::BaseClass") called at /home/cpan/bin/perl/lib/site_perl/5.41.11/x86_64-linux/Moose/Util.pm line 351
	Moose::Util::_load_user_class("MooseX::Getopt::Defanged::BaseClass", undef) called at /home/cpan/bin/perl/lib/site_perl/5.41.11/x86_64-linux/Moose/Meta/Class.pm line 569
	Moose::Meta::Class::superclasses(undef, "MooseX::Getopt::Defanged::BaseClass") called at /home/cpan/bin/perl/lib/site_perl/5.41.11/x86_64-linux/Moose.pm line 53
	Moose::extends(Moose::Meta::Class=HASH(0x7f2fe2cd7e18), "MooseX::Getopt::Defanged::BaseClass") called at /home/cpan/bin/perl/lib/site_perl/5.41.11/x86_64-linux/Moose/Exporter.pm line 418
	Moose::extends("MooseX::Getopt::Defanged::BaseClass") called at t/inheritance.d/lib/MooseX/Getopt/Defanged/SubClass.pm line 11
	require MooseX/Getopt/Defanged/SubClass.pm called at t/inheritance.t line 22
	main::BEGIN() called at t/inheritance.t line 22
	eval {...} called at t/inheritance.t line 22
t/inheritance.t ................... ok
Useless use of concatenation (.) or string in void context at /home/cpan/.cpan/build/MooseX-Getopt-Defanged-v1.18.0-0/blib/lib/MooseX/Getopt/Defanged/Meta/Attribute/Trait/_Getopt.pm line 223.
Passing a list of values to enum is deprecated. Enum values should be wrapped in an arrayref. at /home/cpan/bin/perl/lib/5.41.11/Carp.pm line 294.
	Carp::cluck("Passing a list of values to enum is deprecated. Enum values s"...) called at /home/cpan/bin/perl/lib/site_perl/5.41.11/Package/DeprecationManager.pm line 150
	Moose::Deprecated::deprecated("feature", "non-arrayref form of enum", "message", "Passing a list of values to enum is deprecated. Enum values s"...) called at /home/cpan/bin/perl/lib/site_perl/5.41.11/x86_64-linux/Moose/Util/TypeConstraints.pm line 437
	Moose::Util::TypeConstraints::enum("_MooseX_Getopt_Defanged_Regular_Expression_Modifier", "m", "s", "i", "x", "p") called at /home/cpan/.cpan/build/MooseX-Getopt-Defanged-v1.18.0-0/blib/lib/MooseX/Getopt/Defanged/Meta/Attribute/Trait/_Getopt.pm line 26
	require MooseX/Getopt/Defanged/Meta/Attribute/Trait/_Getopt.pm called at t/meta-attribute-trait-_getopt.t line 26
	MooseX::Getopt::Defanged::Meta::Attribute::Trait::_Getopt::Test::BEGIN() called at t/meta-attribute-trait-_getopt.t line 26
	eval {...} called at t/meta-attribute-trait-_getopt.t line 26
t/meta-attribute-trait-_getopt.t .. ok
All tests successful.
Files=4, Tests=380,  2 wallclock secs ( 0.03 usr  0.01 sys +  1.43 cusr  0.22 csys =  1.69 CPU)
Result: PASS

------------------------------
PREREQUISITES
------------------------------

Prerequisite modules loaded:

requires:

    Module                              Need Have    
    ----------------------------------- ---- --------
    autodie                             0    2.37    
    English                             0    1.11    
    Exception::Class                    0    1.45    
    Exporter                            0    5.79    
    Getopt::Long                        0    2.58    
    Moose                               0.92 2.2207  
    Moose::Role                         0.92 2.2207  
    Moose::Util::TypeConstraints        0.92 2.2207  
    MooseX::Accessors::ReadWritePrivate 0    v1.4.0  
    MooseX::AttributeHelpers            0.2  0.25    
    MooseX::StrictConstructor           0.08 0.21    
    Readonly                            0    2.05    
    Scalar::Util                        0    1.68_01 
    strict                              0    1.13    
    utf8                                0    1.27    
    version                             0    0.9933  
    warnings                            0    1.74    

build_requires:

    Module                              Need Have    
    ----------------------------------- ---- --------
    Carp                                0    1.54    
    File::Spec::Functions               0    3.94    
    lib                                 0    0.65    
    overload                            0    1.40    
    parent                              0    0.244   
    Test::Class                         0    0.52    
    Test::Compile                       0    v3.3.3  
    Test::Deep                          0    1.205   
    Test::Exception                     0    0.43    
    Test::Moose                         0    2.2207  
    Test::More                          0.88 1.302210

configure_requires:

    Module                              Need Have    
    ----------------------------------- ---- --------
    Module::Build                       0.33 0.4234  


------------------------------
ENVIRONMENT AND OTHER CONTEXT
------------------------------

Environment variables:

    AUTOMATED_TESTING = 1
    DATE_MANIP_TEST_DM5 = 1
    LANG = C.UTF-8
    LC_COLLATE = C
    NONINTERACTIVE_TESTING = 1
    NO_NETWORK_TESTING = 1
    PATH = /home/cpan/bin/perl/bin:/usr/local/sbin:/usr/local/bin:/usr/sbin:/usr/bin:/sbin:/bin
    PERL5LIB = 
    PERL5OPT = 
    PERL5_CPANPLUS_IS_RUNNING = 1773
    PERL5_CPAN_IS_RUNNING = 1773
    PERL_MM_USE_DEFAULT = 1
    PERL_USE_UNSAFE_INC = 1
    SHELL = /bin/bash
    TERM = screen

Perl special variables (and OS-specific diagnostics, for MSWin32):

    $^X = /home/cpan/bin/perl/bin/perl5.41.11
    $UID/$EUID = 1001 / 1001
    $GID = 1001 1001
    $EGID = 1001 1001

Perl module toolchain versions installed:

    Module              Have    
    ------------------- --------
    CPAN                2.38    
    CPAN::Meta          2.150010
    Cwd                 3.94    
    ExtUtils::CBuilder  0.280240
    ExtUtils::Command   7.72    
    ExtUtils::Install   2.22    
    ExtUtils::MakeMaker 7.72    
    ExtUtils::Manifest  1.75    
    ExtUtils::ParseXS   3.57    
    File::Spec          3.94    
    JSON                4.10    
    JSON::PP            4.16    
    Module::Build       0.4234  
    Module::Signature   n/a     
    Parse::CPAN::Meta   2.150010
    Test2               1.302210
    Test::Harness       3.50    
    Test::More          1.302210
    YAML                1.31    
    YAML::Syck          n/a     
    version             0.9933  


--

Summary of my perl5 (revision 5 version 41 subversion 11) configuration:
  Commit id: aed235e3259a92e37aea06ad8802a5f18abfc2f6
  Platform:
    osname=linux
    osvers=6.12.21-0-lts
    archname=x86_64-linux
    uname='linux cjg-alpine3 6.12.21-0-lts #1-alpine smp preempt_dynamic 2025-04-01 11:09:17 x86_64 linux '
    config_args='-des -Dprefix=/home/cpan/bin/perl -Dscriptdir=/home/cpan/bin/perl/bin -Dusedevel -Duse64bitall'
    hint=recommended
    useposix=true
    d_sigaction=define
    useithreads=undef
    usemultiplicity=undef
    use64bitint=define
    use64bitall=define
    uselongdouble=undef
    usemymalloc=n
    default_inc_excludes_dot=define
  Compiler:
    cc='cc'
    ccflags ='-D_GNU_SOURCE -fwrapv -fno-strict-aliasing -pipe -fstack-protector-strong -D_LARGEFILE_SOURCE -D_FILE_OFFSET_BITS=64'
    optimize='-O2'
    cppflags='-D_GNU_SOURCE -fwrapv -fno-strict-aliasing -pipe -fstack-protector-strong'
    ccversion=''
    gccversion='14.2.0'
    gccosandvers=''
    intsize=4
    longsize=8
    ptrsize=8
    doublesize=8
    byteorder=12345678
    doublekind=3
    d_longlong=define
    longlongsize=8
    d_longdbl=define
    longdblsize=16
    longdblkind=3
    ivtype='long'
    ivsize=8
    nvtype='double'
    nvsize=8
    Off_t='off_t'
    lseeksize=8
    alignbytes=8
    prototype=define
  Linker and Libraries:
    ld='cc'
    ldflags =' -fstack-protector-strong -L/usr/local/lib'
    libpth=/usr/lib /usr/local/lib /lib
    libs=-lpthread -ldb -ldl -lm -lcrypt -lutil -lc
    perllibs=-lpthread -ldl -lm -lcrypt -lutil -lc
    libc=/usr/lib/libc.a
    so=so
    useshrplib=false
    libperl=libperl.a
    gnulibc_version=''
  Dynamic Linking:
    dlsrc=dl_dlopen.xs
    dlext=so
    d_dlsymun=undef
    ccdlflags='-Wl,-E'
    cccdlflags='-fPIC'
    lddlflags='-shared -O2 -L/usr/local/lib -fstack-protector-strong'


Characteristics of this binary (from libperl): 
  Compile-time options:
    HAS_LONG_DOUBLE
    HAS_STRTOLD
    HAS_TIMES
    PERLIO_LAYERS
    PERL_COPY_ON_WRITE
    PERL_DONT_CREATE_GVSV
    PERL_HASH_FUNC_SIPHASH13
    PERL_HASH_USE_SBOX32
    PERL_MALLOC_WRAP
    PERL_OP_PARENT
    PERL_PRESERVE_IVUV
    PERL_USE_DEVEL
    PERL_USE_SAFE_PUTENV
    USE_64_BIT_ALL
    USE_64_BIT_INT
    USE_LARGE_FILES
    USE_LOCALE
    USE_LOCALE_COLLATE
    USE_LOCALE_CTYPE
    USE_LOCALE_NUMERIC
    USE_LOCALE_TIME
    USE_PERLIO
    USE_PERL_ATOF
  Built under linux
  Compiled at Apr  6 2025 01:43:09
  %ENV:
    PERL5LIB=""
    PERL5OPT=""
    PERL5_CPANPLUS_IS_RUNNING="1773"
    PERL5_CPAN_IS_RUNNING="1773"
    PERL_MM_USE_DEFAULT="1"
    PERL_USE_UNSAFE_INC="1"
  @INC:
    /home/cpan/bin/perl/lib/site_perl/5.41.11/x86_64-linux
    /home/cpan/bin/perl/lib/site_perl/5.41.11
    /home/cpan/bin/perl/lib/5.41.11/x86_64-linux
    /home/cpan/bin/perl/lib/5.41.11
    .