YAHC v0.035 Perl 5 v5.24.2 x86_64-linux
- Status
- Pass
- From
- Andreas J. König (ANDK)
- Dist
-
YAHC v0.035
- Platform
- Perl 5 v5.24.2 x86_64-linux
- Date
- 2019-12-08 18:36:01
- ID
- 959b97e8-19e9-11ea-a47a-0ee039136113
This distribution has been tested as part of the CPAN Testers
project, supporting the Perl programming language. See
http://wiki.cpantesters.org/ for more information or email
questions to cpan-testers-discuss@perl.org
--
Dear Ivan Kruglov,
This is a computer-generated report for YAHC-0.035
on perl 5.24.2, created by CPAN-Reporter-1.2018.
Thank you for uploading your work to CPAN. Congratulations!
All tests were successful.
Sections of this report:
* Tester comments
* Program output
* Prerequisites
* Environment and other context
------------------------------
TESTER COMMENTS
------------------------------
Additional comments from tester:
this report is from an automated smoke testing program
and was not reviewed by a human for accuracy
------------------------------
PROGRAM OUTPUT
------------------------------
Output from '/usr/bin/make test':
PERL_DL_NONLAZY=1 "/home/sand/src/perl/repoperls/installed-perls/host/k93msid/v5.24.2/da1c/bin/perl" "-MExtUtils::Command::MM" "-MTest::Harness" "-e" "undef *Test::Harness::Switches; test_harness(0, 'inc', 'blib/lib', 'blib/arch')" t/*.t
# Perl/v5.24.2
# YAHC/0.035
t/000_compile.t .................... ok
t/005_circular_references_check.t .. ok
t/010_build_http_message.t ......... ok
t/015_parse_http_headers.t ......... ok
t/016_chunked.t .................... ok
t/017_content_length.t ............. ok
t/023_state_connected.t ............ ok
t/024_state_write.t ................ ok
t/025_state_read.t ................. ok
t/100_account_for_signal.t ......... ok
t/110_attempt.t .................... ok
t/120_selected_target.t ............ ok
t/130_yahc_functions.t ............. ok
t/140_yahc_loop.t .................. ok
t/200_live_google.t ................ skipped: Enable live testing by setting env: TEST_LIVE=1
t/210_live_timeout_connected.t ..... skipped: Enable live testing by setting env: TEST_LIVE=1
t/220_live_unixis.t ................ skipped: Enable live testing by setting env: TEST_LIVE=1
t/230_live_requests.t .............. skipped: Enable live testing by setting env: TEST_LIVE=1
t/240_live_socket_cache.t .......... skipped: Enable live testing by setting env: TEST_LIVE=1
t/300_robust.t ..................... skipped: Enable robust testing by setting env: TEST_ROBUST=1
All tests successful.
Files=20, Tests=96, 6 wallclock secs ( 0.05 usr 0.05 sys + 1.75 cusr 0.54 csys = 2.39 CPU)
Result: PASS
------------------------------
PREREQUISITES
------------------------------
Prerequisite modules loaded:
requires:
Module Need Have
----------------------- ---- --------
EV 0 4.30
Fcntl 0 1.13
IO::Socket::SSL 0 2.066
POSIX 0 1.65
Scalar::Util 0 1.53
Socket 0 2.020_03
Time::HiRes 0 1.9733
build_requires:
Module Need Have
----------------------- ---- --------
Data::Dumper 0 2.173
ExtUtils::MakeMaker 6.36 7.38
FindBin 0 1.51
HTTP::Tiny 0 0.076
IO::Socket::INET 0 1.39
JSON 0 4.02
List::Util 0 1.53
Net::Ping 2.41 2.43_01
Plack 0 1.0047
! Plack::Handler::Starman 0 n/a
Test::Exception 0 0.43
Test::Memory::Cycle 0 1.06
Test::More 0.88 1.302169
Time::HiRes 0 1.9733
configure_requires:
Module Need Have
----------------------- ---- --------
ExtUtils::MakeMaker 6.36 7.38
------------------------------
ENVIRONMENT AND OTHER CONTEXT
------------------------------
Environment variables:
AUTOMATED_TESTING = 1
LANG = en_US.UTF-8
PATH = /home/sand/bin:/usr/local/bin:/usr/bin:/bin:/usr/games:/usr/local/perl/bin:/usr/X11/bin:/sbin:/usr/sbin
PERL5LIB =
PERL5OPT =
PERL5_CPANPLUS_IS_RUNNING = 1362946
PERL5_CPAN_IS_RUNNING = 1362946
PERL_CANARY_STABILITY_NOPROMPT = 1
PERL_MM_USE_DEFAULT = 1
PERL_USE_UNSAFE_INC = 1
SHELL = /usr/bin/zsh
TERM = screen
Perl special variables (and OS-specific diagnostics, for MSWin32):
$^X = /home/sand/src/perl/repoperls/installed-perls/host/k93msid/v5.24.2/da1c/bin/perl
$UID/$EUID = 1005 / 1005
$GID = 1005 1005
$EGID = 1005 1005
Perl module toolchain versions installed:
Module Have
------------------- --------
CPAN 2.27
CPAN::Meta 2.150010
Cwd 3.75
ExtUtils::CBuilder 0.280231
ExtUtils::Command 7.38
ExtUtils::Install 2.06
ExtUtils::MakeMaker 7.38
ExtUtils::Manifest 1.70
ExtUtils::ParseXS 3.31
File::Spec 3.75
JSON 4.02
JSON::PP 4.04
Module::Build 0.4229
Module::Signature 0.83
Parse::CPAN::Meta 2.150010
Test::Harness 3.42
Test::More 1.302169
YAML 1.29
YAML::Syck 1.31
version 0.9924
--
Summary of my perl5 (revision 5 version 24 subversion 2) configuration:
Derived from: eb3b805818a89c08b5564d383beddf70f69af1a3
Platform:
osname=linux, osvers=5.3.0-2-amd64, archname=x86_64-linux
uname='linux k93msid 5.3.0-2-amd64 #1 smp debian 5.3.9-3 (2019-11-19) x86_64 gnulinux '
config_args='-Dprefix=/home/sand/src/perl/repoperls/installed-perls/host/k93msid/v5.24.2/da1c -Dmyhostname=k93msid -Dinstallusrbinperl=n -Uversiononly -Dusedevel -des -Ui_db -Dlibswanted=cl pthread socket inet nsl gdbm dbm malloc dl ld sun m crypt sec util c cposix posix ucb BSD gdbm_compat -Uuseithreads -Uuselongdouble -DEBUGGING=-g'
hint=recommended, useposix=true, d_sigaction=define
useithreads=undef, usemultiplicity=undef
use64bitint=define, use64bitall=define, uselongdouble=undef
usemymalloc=n, bincompat5005=undef
Compiler:
cc='cc', ccflags ='-fwrapv -fno-strict-aliasing -pipe -fstack-protector-strong -I/usr/local/include -D_LARGEFILE_SOURCE -D_FILE_OFFSET_BITS=64',
optimize='-O2 -g',
cppflags='-fwrapv -fno-strict-aliasing -pipe -fstack-protector-strong -I/usr/local/include'
ccversion='', gccversion='9.2.1 20191109', gccosandvers=''
intsize=4, longsize=8, ptrsize=8, doublesize=8, byteorder=12345678, doublekind=3
d_longlong=define, longlongsize=8, d_longdbl=define, longdblsize=16, longdblkind=3
ivtype='long', ivsize=8, nvtype='double', nvsize=8, Off_t='off_t', lseeksize=8
alignbytes=8, prototype=define
Linker and Libraries:
ld='cc', ldflags =' -fstack-protector-strong -L/usr/local/lib'
libpth=/usr/local/lib /usr/lib/gcc/x86_64-linux-gnu/9/include-fixed /usr/include/x86_64-linux-gnu /usr/lib /lib/x86_64-linux-gnu /lib/../lib /usr/lib/x86_64-linux-gnu /usr/lib/../lib /lib
libs=-lpthread -lnsl -ldl -lm -lcrypt -lutil -lc
perllibs=-lpthread -lnsl -ldl -lm -lcrypt -lutil -lc
libc=libc-2.29.so, so=so, useshrplib=false, libperl=libperl.a
gnulibc_version='2.29'
Dynamic Linking:
dlsrc=dl_dlopen.xs, dlext=so, d_dlsymun=undef, ccdlflags='-Wl,-E'
cccdlflags='-fPIC', lddlflags='-shared -O2 -g -L/usr/local/lib -fstack-protector-strong'
Characteristics of this binary (from libperl):
Compile-time options: HAS_TIMES PERLIO_LAYERS PERL_COPY_ON_WRITE
PERL_DONT_CREATE_GVSV
PERL_HASH_FUNC_ONE_AT_A_TIME_HARD PERL_MALLOC_WRAP
PERL_PRESERVE_IVUV PERL_USE_DEVEL USE_64_BIT_ALL
USE_64_BIT_INT USE_LARGE_FILES USE_LOCALE
USE_LOCALE_COLLATE USE_LOCALE_CTYPE
USE_LOCALE_NUMERIC USE_LOCALE_TIME USE_PERLIO
USE_PERL_ATOF
Locally applied patches:
uncommitted-changes
Built under linux
Compiled at Nov 26 2019 03:23:58
%ENV:
PERL5LIB=""
PERL5OPT=""
PERL5_CPANPLUS_IS_RUNNING="1362946"
PERL5_CPAN_IS_RUNNING="1362946"
PERL_CANARY_STABILITY_NOPROMPT="1"
PERL_MM_USE_DEFAULT="1"
PERL_USE_UNSAFE_INC="1"
@INC:
/home/sand/src/perl/repoperls/installed-perls/host/k93msid/v5.24.2/da1c/lib/site_perl/5.24.2/x86_64-linux
/home/sand/src/perl/repoperls/installed-perls/host/k93msid/v5.24.2/da1c/lib/site_perl/5.24.2
/home/sand/src/perl/repoperls/installed-perls/host/k93msid/v5.24.2/da1c/lib/5.24.2/x86_64-linux
/home/sand/src/perl/repoperls/installed-perls/host/k93msid/v5.24.2/da1c/lib/5.24.2
.