Back
From: metabase:user:7298ebcc-b357-11e4-8d18-8eca7e4756b9
Subject: PASS Input-Validator-0.001005 v5.21.9 GNU/Linux
Date: 2015-03-04T00:22:47Z
This distribution has been tested as part of the CPAN Testers
project, supporting the Perl programming language. See
http://wiki.cpantesters.org/ for more information or email
questions to cpan-testers-discuss@perl.org
--
Dear VTI,
This is a computer-generated report for Input-Validator-0.001005
on perl 5.21.9, created by App::cpanminus::reporter 0.12 (1.7027).
Thank you for uploading your work to CPAN. Congratulations!
All tests were successful.
Sections of this report:
* Tester comments
* Program output
* Prerequisites
* Environment and other context
------------------------------
TESTER COMMENTS
------------------------------
Additional comments from tester:
none provided
------------------------------
PROGRAM OUTPUT
------------------------------
Output from '':
Building and testing Input-Validator-0.001005
cp lib/Input/Validator/Constraint/Regexp.pm blib/lib/Input/Validator/Constraint/Regexp.pm
cp lib/Input/Validator/ConstraintBuilder.pm blib/lib/Input/Validator/ConstraintBuilder.pm
cp lib/Input/Validator/Constraint.pm blib/lib/Input/Validator/Constraint.pm
cp lib/Input/Validator/Constraint/Length.pm blib/lib/Input/Validator/Constraint/Length.pm
cp lib/Input/Validator/Constraint/Email.pm blib/lib/Input/Validator/Constraint/Email.pm
cp lib/Input/Validator/Base.pm blib/lib/Input/Validator/Base.pm
cp lib/Input/Validator/Constraint/Date.pm blib/lib/Input/Validator/Constraint/Date.pm
cp lib/Input/Validator/Condition.pm blib/lib/Input/Validator/Condition.pm
cp lib/Input/Validator.pm blib/lib/Input/Validator.pm
cp lib/Input/Validator/Constraint/Callback.pm blib/lib/Input/Validator/Constraint/Callback.pm
cp lib/Input/Validator/Bulk.pm blib/lib/Input/Validator/Bulk.pm
cp lib/Input/Validator/Constraint/Time.pm blib/lib/Input/Validator/Constraint/Time.pm
cp lib/Input/Validator/Constraint/Unique.pm blib/lib/Input/Validator/Constraint/Unique.pm
cp lib/Input/Validator/Constraint/Subset.pm blib/lib/Input/Validator/Constraint/Subset.pm
cp lib/Input/Validator/Field.pm blib/lib/Input/Validator/Field.pm
cp lib/Input/Validator/Constraint/Ip.pm blib/lib/Input/Validator/Constraint/Ip.pm
cp lib/Input/Validator/Constraint/In.pm blib/lib/Input/Validator/Constraint/In.pm
cp lib/Input/Validator/Group.pm blib/lib/Input/Validator/Group.pm
cp lib/Input/Validator/Constraint/Equal.pm blib/lib/Input/Validator/Constraint/Equal.pm
Manifying 18 pod documents
PERL_DL_NONLAZY=1 "/home/mojolicious/perl5/perlbrew/perls/perl-5.21.9/bin/perl5.21.9" "-MExtUtils::Command::MM" "-MTest::Harness" "-e" "undef *Test::Harness::Switches; test_harness(0, 'blib/lib', 'blib/arch')" t/*.t t/*/*.t
t/condition.t ............ ok
t/constraint-builder.t ... ok
t/constraint.t ........... ok
t/constraint/callback.t .. ok
t/constraint/date.t ...... ok
t/constraint/email.t ..... ok
t/constraint/equal.t ..... ok
t/constraint/in.t ........ ok
t/constraint/ip.t ........ ok
t/constraint/length.t .... ok
t/constraint/regexp.t .... ok
t/constraint/subset.t .... ok
t/constraint/time.t ...... ok
t/constraint/unique.t .... ok
Redundant argument in sprintf at /home/mojolicious/.cpanm/work/1425428486.32717/Input-Validator-0.001005/blib/lib/Input/Validator/Field.pm line 118.
Redundant argument in sprintf at /home/mojolicious/.cpanm/work/1425428486.32717/Input-Validator-0.001005/blib/lib/Input/Validator/Field.pm line 118.
Redundant argument in sprintf at /home/mojolicious/.cpanm/work/1425428486.32717/Input-Validator-0.001005/blib/lib/Input/Validator/Field.pm line 118.
Redundant argument in sprintf at /home/mojolicious/.cpanm/work/1425428486.32717/Input-Validator-0.001005/blib/lib/Input/Validator/Field.pm line 118.
t/field.t ................ ok
t/group.t ................ ok
t/inflate.t .............. ok
t/validator-bulk.t ....... ok
Redundant argument in sprintf at /home/mojolicious/.cpanm/work/1425428486.32717/Input-Validator-0.001005/blib/lib/Input/Validator/Field.pm line 118.
t/validator-condition.t .. ok
t/validator-explicit.t ... ok
t/validator-group.t ...... ok
Redundant argument in sprintf at /home/mojolicious/.cpanm/work/1425428486.32717/Input-Validator-0.001005/blib/lib/Input/Validator/Field.pm line 118.
t/validator.t ............ ok
All tests successful.
Files=22, Tests=247, 2 wallclock secs ( 0.10 usr 0.02 sys + 1.37 cusr 0.21 csys = 1.70 CPU)
Result: PASS
------------------------------
PREREQUISITES
------------------------------
Prerequisite modules loaded:
No requirements found
------------------------------
ENVIRONMENT AND OTHER CONTEXT
------------------------------
Environment variables:
PATH = /usr/bin:/bin
SHELL = /bin/sh
Perl special variables (and OS-specific diagnostics, for MSWin32):
EGID = 1003 1003
EUID = 1003
EXECUTABLE_NAME = /home/mojolicious/perl5/perlbrew/perls/perl-5.21.9/bin/perl5.21.9
GID = 1003 1003
UID = 1003
Perl module toolchain versions installed:
Module Have
------------------- ------------
CPAN 2.05
CPAN::Meta 2.143240
Cwd 3.54
ExtUtils::CBuilder 0.280221
ExtUtils::Command 1.20
ExtUtils::Install 2.04
ExtUtils::MakeMaker 7.04
ExtUtils::Manifest 1.70
ExtUtils::ParseXS 3.27
File::Spec 3.53
JSON 2.90
JSON::PP 2.27300
Module::Build 0.4211
Module::Signature n/a
Parse::CPAN::Meta 1.4414
Test::Harness 3.35
Test::More 1.301001_098
YAML n/a
YAML::Syck n/a
version 0.9909
--
Summary of my perl5 (revision 5 version 21 subversion 9) configuration:
Platform:
osname=linux, osvers=3.13.0-042stab094.8, archname=x86_64-linux
uname='linux lvps92-51-161-142.dedicated.hosteurope.de 3.13.0-042stab094.8 #1 smp tue dec 16 20:36:56 msk 2014 x86_64 x86_64 x86_64 gnulinux '
config_args='-de -Dprefix=/home/mojolicious/perl5/perlbrew/perls/perl-5.21.9 -Dusedevel -Aeval:scriptdir=/home/mojolicious/perl5/perlbrew/perls/perl-5.21.9/bin'
hint=recommended, useposix=true, d_sigaction=define
useithreads=undef, usemultiplicity=undef
use64bitint=define, use64bitall=define, uselongdouble=undef
usemymalloc=n, bincompat5005=undef
Compiler:
cc='cc', ccflags ='-fwrapv -fno-strict-aliasing -pipe -fstack-protector -I/usr/local/include -D_LARGEFILE_SOURCE -D_FILE_OFFSET_BITS=64',
optimize='-O2',
cppflags='-fwrapv -fno-strict-aliasing -pipe -fstack-protector -I/usr/local/include'
ccversion='', gccversion='4.8.2', gccosandvers=''
intsize=4, longsize=8, ptrsize=8, doublesize=8, byteorder=12345678, doublekind=3
d_longlong=define, longlongsize=8, d_longdbl=define, longdblsize=16, longdblkind=3
ivtype='long', ivsize=8, nvtype='double', nvsize=8, Off_t='off_t', lseeksize=8
alignbytes=8, prototype=define
Linker and Libraries:
ld='cc', ldflags =' -fstack-protector -L/usr/local/lib'
libpth=/usr/local/lib /usr/lib/gcc/x86_64-linux-gnu/4.8/include-fixed /usr/include/x86_64-linux-gnu /usr/lib /lib/x86_64-linux-gnu /lib/../lib /usr/lib/x86_64-linux-gnu /usr/lib/../lib /lib
libs=-lpthread -lnsl -ldl -lm -lcrypt -lutil -lc
perllibs=-lpthread -lnsl -ldl -lm -lcrypt -lutil -lc
libc=libc-2.19.so, so=so, useshrplib=false, libperl=libperl.a
gnulibc_version='2.19'
Dynamic Linking:
dlsrc=dl_dlopen.xs, dlext=so, d_dlsymun=undef, ccdlflags='-Wl,-E'
cccdlflags='-fPIC', lddlflags='-shared -O2 -L/usr/local/lib -fstack-protector'
Characteristics of this binary (from libperl):
Compile-time options: HAS_TIMES PERLIO_LAYERS PERL_DONT_CREATE_GVSV
PERL_HASH_FUNC_ONE_AT_A_TIME_HARD PERL_MALLOC_WRAP
PERL_NEW_COPY_ON_WRITE PERL_PRESERVE_IVUV
PERL_USE_DEVEL USE_64_BIT_ALL USE_64_BIT_INT
USE_LARGE_FILES USE_LOCALE USE_LOCALE_COLLATE
USE_LOCALE_CTYPE USE_LOCALE_NUMERIC USE_LOCALE_TIME
USE_PERLIO USE_PERL_ATOF
Locally applied patches:
Devel::PatchPerl 1.30
Built under linux
Compiled at Feb 21 2015 17:39:22
@INC:
/home/mojolicious/perl5/perlbrew/perls/perl-5.21.9/lib/site_perl/5.21.9/x86_64-linux
/home/mojolicious/perl5/perlbrew/perls/perl-5.21.9/lib/site_perl/5.21.9
/home/mojolicious/perl5/perlbrew/perls/perl-5.21.9/lib/5.21.9/x86_64-linux
/home/mojolicious/perl5/perlbrew/perls/perl-5.21.9/lib/5.21.9
.