Search-Elasticsearch-Cxn-NetCurl v7.715 Perl 5 v5.8.9 amd64-freebsd
- Status
- Pass
- From
- Slaven Rezić
- Dist
-
Search-Elasticsearch-Cxn-NetCurl v7.715
- Platform
- Perl 5 v5.8.9 amd64-freebsd
- Date
- 2021-10-20 09:53:32
- ID
- 95b5e0f6-318b-11ec-963c-d97f1f24ea8f
This distribution has been tested as part of the CPAN Testers
project, supporting the Perl programming language. See
http://wiki.cpantesters.org/ for more information or email
questions to cpan-testers-discuss@perl.org
--
Dear Enrico Zimuel,
This is a computer-generated report for Search-Elasticsearch-Cxn-NetCurl-7.715
on perl 5.8.9, created by CPAN-Reporter-1.2018.
Thank you for uploading your work to CPAN. Congratulations!
All tests were successful.
Sections of this report:
* Tester comments
* Program output
* Prerequisites
* Environment and other context
------------------------------
TESTER COMMENTS
------------------------------
Additional comments from tester:
none provided
------------------------------
PROGRAM OUTPUT
------------------------------
Output from '/usr/bin/make test':
PERL_DL_NONLAZY=1 "/usr/perl5.8.9/bin/perl" "-MExtUtils::Command::MM" "-MTest::Harness" "-e" "undef *Test::Harness::Switches; test_harness(0, 'blib/lib', 'blib/arch')" t/*.t t/10_Basic/*.t t/20_Serializer/*.t t/30_Logger/*.t t/40_Transport/*.t t/50_Cxn_Pool/*.t t/60_Cxn/*.t t/95_TestServer/*.t t/Client_6_0/*.t t/Client_7_0/*.t
t/10_Basic/10_load.t .......................... ok
t/20_Serializer/10_load_cpanel.t .............. ok
t/20_Serializer/11_load_xs.t .................. ok
t/20_Serializer/12_load_pp.t .................. ok
t/20_Serializer/13_preload_cpanel.t ........... ok
t/20_Serializer/14_preload_xs.t ............... ok
t/20_Serializer/20_xs_encode_decode.t ......... ok
t/20_Serializer/21_xs_encode_bulk.t ........... ok
t/20_Serializer/22_xs_encode_pretty.t ......... ok
t/20_Serializer/30_cpanel_encode_decode.t ..... ok
t/20_Serializer/31_cpanel_encode_bulk.t ....... ok
t/20_Serializer/32_cpanel_encode_pretty.t ..... ok
t/20_Serializer/40_pp_encode_decode.t ......... ok
t/20_Serializer/41_pp_encode_bulk.t ........... ok
t/20_Serializer/42_pp_encode_pretty.t ......... ok
Current cxns: ["http://localhost:9200"]
Forcing ping before next use on all live cxns
Ping [http://localhost:9200] before next request
t/30_Logger/10_explicit.t ..................... ok
Current cxns: ["http://localhost:9200"]
Forcing ping before next use on all live cxns
Ping [http://localhost:9200] before next request
t/30_Logger/20_implicit.t ..................... ok
t/30_Logger/30_log_methods.t .................. ok
t/30_Logger/40_trace_request.t ................ ok
t/30_Logger/50_trace_response.t ............... ok
t/30_Logger/60_trace_error.t .................. ok
t/30_Logger/70_trace_comment.t ................ ok
t/30_Logger/80_deprecation_methods.t .......... ok
t/30_Logger/90_error_json.t ................... ok
t/40_Transport/10_tidy_request.t .............. ok
t/40_Transport/20_send_body_as.t .............. ok
t/40_Transport/30_perform_request.t ........... ok
t/50_Cxn_Pool/10_static_normal.t .............. ok
t/50_Cxn_Pool/11_static_node_missing.t ........ ok
t/50_Cxn_Pool/12_static_node_fails.t .......... ok
t/50_Cxn_Pool/13_static_node_timesout.t ....... ok
t/50_Cxn_Pool/14_static_both_nodes_timeout.t .. ok
t/50_Cxn_Pool/15_static_both_nodes_fail.t ..... ok
t/50_Cxn_Pool/16_static_nodes_starting.t ...... ok
t/50_Cxn_Pool/17_static_runaway_nodes.t ....... ok
t/50_Cxn_Pool/30_sniff_normal.t ............... ok
t/50_Cxn_Pool/31_sniff_new_nodes.t ............ ok
t/50_Cxn_Pool/32_sniff_node_fails.t ........... ok
t/50_Cxn_Pool/33_sniff_both_nodes_fail.t ...... ok
t/50_Cxn_Pool/34_sniff_node_timeout.t ......... ok
t/50_Cxn_Pool/35_sniff_both_nodes_timeout.t ... ok
t/50_Cxn_Pool/36_sniff_nodes_starting.t ....... ok
t/50_Cxn_Pool/37_sniff_runaway_nodes.t ........ ok
t/50_Cxn_Pool/38_bad_sniff.t .................. ok
t/50_Cxn_Pool/39_sniff_max_content.t .......... ok
t/50_Cxn_Pool/40_sniff_extract_host.t ......... ok
t/50_Cxn_Pool/50_noping_normal.t .............. ok
t/50_Cxn_Pool/51_noping_node_fails.t .......... ok
t/50_Cxn_Pool/52_noping_node_timesout.t ....... ok
t/50_Cxn_Pool/53_noping_all_nodes_fail.t ...... ok
t/50_Cxn_Pool/54_noping_nodes_starting.t ...... ok
t/50_Cxn_Pool/55_noping_runaway_nodes.t ....... ok
t/50_Cxn_Pool/56_max_retries.t ................ ok
t/60_Cxn/10_basic.t ........................... ok
t/60_Cxn/20_process_response.t ................ ok
t/60_Cxn/30_http.t ............................ ok
t/95_TestServer/00_test_server.t .............. ok
t/95_TestServer/10_test_server_fork.t ......... ok
t/author-eol.t ................................ skipped: these tests are for testing by the author
t/author-no-tabs.t ............................ skipped: these tests are for testing by the author
t/author-pod-syntax.t ......................... skipped: these tests are for testing by the author
t/Client_6_0/00_print_version.t ............... skipped: No $ENV{CLIENT_VER} specified
t/Client_6_0/10_live.t ........................ skipped: No $ENV{CLIENT_VER} specified
t/Client_6_0/15_conflict.t .................... skipped: No $ENV{CLIENT_VER} specified
t/Client_6_0/23_fork_netcurl.t ................ skipped: No $ENV{CLIENT_VER} specified
t/Client_6_0/30_bulk_add_action.t ............. skipped: No $ENV{CLIENT_VER} specified
t/Client_6_0/31_bulk_helpers.t ................ skipped: No $ENV{CLIENT_VER} specified
t/Client_6_0/32_bulk_flush.t .................. skipped: No $ENV{CLIENT_VER} specified
t/Client_6_0/33_bulk_errors.t ................. skipped: No $ENV{CLIENT_VER} specified
t/Client_6_0/34_bulk_cxn_errors.t ............. skipped: No $ENV{CLIENT_VER} specified
t/Client_6_0/40_scroll.t ...................... skipped: No $ENV{CLIENT_VER} specified
t/Client_6_0/62_auth_netcurl.t ................ skipped: NetCurl - No https server specified in ES_SSL
t/Client_7_0/00_print_version.t ............... skipped: No $ENV{CLIENT_VER} specified
t/Client_7_0/10_live.t ........................ skipped: No $ENV{CLIENT_VER} specified
t/Client_7_0/23_fork_netcurl.t ................ skipped: No $ENV{CLIENT_VER} specified
t/Client_7_0/30_bulk_add_action.t ............. skipped: No $ENV{CLIENT_VER} specified
t/Client_7_0/31_bulk_helpers.t ................ skipped: No $ENV{CLIENT_VER} specified
t/Client_7_0/32_bulk_flush.t .................. skipped: No $ENV{CLIENT_VER} specified
t/Client_7_0/33_bulk_errors.t ................. skipped: No $ENV{CLIENT_VER} specified
t/Client_7_0/34_bulk_cxn_errors.t ............. skipped: No $ENV{CLIENT_VER} specified
t/Client_7_0/40_scroll.t ...................... skipped: No $ENV{CLIENT_VER} specified
t/Client_7_0/62_auth_netcurl.t ................ skipped: NetCurl - No https server specified in ES_SSL
All tests successful.
Files=82, Tests=573, 13 wallclock secs ( 0.03 usr 0.32 sys + 10.46 cusr 1.54 csys = 12.35 CPU)
Result: PASS
------------------------------
PREREQUISITES
------------------------------
Prerequisite modules loaded:
requires:
Module Need Have
--------------------------- ---- --------
HTTP::Parser::XS 0 0.17
Moo 0 2.004004
namespace::clean 0 0.27
Net::Curl::Easy 0 0.49
Search::Elasticsearch 7.00 7.713
Try::Tiny 0 0.30
build_requires:
Module Need Have
--------------------------- ---- --------
Cpanel::JSON::XS 0 4.26
Data::Dumper 0 2.181
File::Temp 0 0.2311
JSON::PP 0 4.05
JSON::XS 0 4.02
lib 0 0.61
Log::Any::Adapter 0 1.710
Log::Any::Adapter::Callback 0.09 0.100
MIME::Base64 0 3.15
POSIX 0 1.15
strict 0 1.03
Sub::Exporter 0 0.988
Test::Deep 0 1.130
Test::Exception 0 0.43
Test::More 0.98 1.302186
Test::SharedFork 0 0.34
warnings 0 1.05_01
opt_requires:
Module Need Have
--------------------------- ---- --------
JSON::XS 0 4.02
URI::Escape::XS 0 0.12
opt_build_requires:
Module Need Have
--------------------------- ---- --------
ExtUtils::PkgConfig 0 1.16
------------------------------
ENVIRONMENT AND OTHER CONTEXT
------------------------------
Environment variables:
LC_ALL = de_DE.ISO8859-1
PATH = /usr/local/bin:/usr/bin:/bin:/usr/local/sbin:/usr/sbin:/sbin:/home/cpansand/bin/freebsd9.3:/home/cpansand/bin/sh:/home/cpansand/bin:/usr/games:/home/cpansand/devel:/usr/home/eserte/src/srezic-misc/scripts
PERL5LIB =
PERL5OPT =
PERL5_CPANPLUS_IS_RUNNING = 77936
PERL5_CPAN_IS_RUNNING = 77936
PERL5_CPAN_IS_RUNNING_IN_RECURSION = 71463,77936
PERLDOC = -MPod::Perldoc::ToTextOverstrike
PERL_BATCH = yes
PERL_CANARY_STABILITY_NOPROMPT = 1
PERL_CPAN_REPORTER_CONFIG = /var/tmp/cpansmoker-1023/2021102011/cpanreporter_000_config.ini
PERL_EXTUTILS_AUTOINSTALL = --defaultdeps
PERL_USE_UNSAFE_INC = 1
SHELL = /usr/local/bin/zsh
TERM = screen
TMPDIR = /var/tmp/cpansmoker-1023/2021102011
Perl special variables (and OS-specific diagnostics, for MSWin32):
$^X = /usr/perl5.8.9/bin/perl
$UID/$EUID = 1023 / 1023
$GID = 1023 1023
$EGID = 1023 1023
Perl module toolchain versions installed:
Module Have
------------------- --------
CPAN 2.27
CPAN::Meta 2.150010
Cwd 3.75
ExtUtils::CBuilder 0.280231
ExtUtils::Command 7.62
ExtUtils::Install 2.20
ExtUtils::MakeMaker 7.62
ExtUtils::Manifest 1.73
ExtUtils::ParseXS 3.35
File::Spec 3.75
JSON 4.03
JSON::PP 4.05
Module::Build 0.4231
Module::Signature 0.86
Parse::CPAN::Meta 2.150010
Test::Harness 3.42
Test::More 1.302186
YAML 1.30
YAML::Syck 1.33
version 0.9929
--
Summary of my perl5 (revision 5 version 8 subversion 9) configuration:
Platform:
osname=freebsd, osvers=9.2-release-p4, archname=amd64-freebsd
uname='freebsd cvrsnica-freebsd-92 9.2-release-p4 freebsd 9.2-release-p4 #0: tue apr 8 18:08:22 utc 2014 root@amd64-builder.daemonology.net:usrobjusrsrcsysgeneric amd64 '
config_args='-ds -e -Dprefix=/usr/perl5.8.9'
hint=recommended, useposix=true, d_sigaction=define
usethreads=undef use5005threads=undef useithreads=undef usemultiplicity=undef
useperlio=define d_sfio=undef uselargefiles=define usesocks=undef
use64bitint=define use64bitall=define uselongdouble=undef
usemymalloc=n, bincompat5005=undef
Compiler:
cc='cc', ccflags ='-DHAS_FPSETMASK -DHAS_FLOATINGPOINT_H -fno-strict-aliasing -pipe -I/usr/local/include',
optimize='-O',
cppflags='-DHAS_FPSETMASK -DHAS_FLOATINGPOINT_H -fno-strict-aliasing -pipe -I/usr/local/include'
ccversion='', gccversion='4.2.1 20070831 patched [FreeBSD]', gccosandvers=''
intsize=4, longsize=8, ptrsize=8, doublesize=8, byteorder=12345678
d_longlong=define, longlongsize=8, d_longdbl=define, longdblsize=16
ivtype='long', ivsize=8, nvtype='double', nvsize=8, Off_t='off_t', lseeksize=8
alignbytes=8, prototype=define
Linker and Libraries:
ld='cc', ldflags ='-Wl,-E -L/usr/local/lib'
libpth=/usr/lib /usr/local/lib
libs=-lgdbm -lm -lcrypt -lutil -lc
perllibs=-lm -lcrypt -lutil -lc
libc=, so=so, useshrplib=false, libperl=libperl.a
gnulibc_version=''
Dynamic Linking:
dlsrc=dl_dlopen.xs, dlext=so, d_dlsymun=undef, ccdlflags=' '
cccdlflags='-DPIC -fPIC', lddlflags='-shared -L/usr/local/lib'
Characteristics of this binary (from libperl):
Compile-time options: PERL_MALLOC_WRAP USE_64_BIT_ALL USE_64_BIT_INT
USE_FAST_STDIO USE_LARGE_FILES USE_PERLIO
Built under freebsd
Compiled at May 15 2014 22:27:57
%ENV:
PERL5LIB=""
PERL5OPT=""
PERL5_CPANPLUS_IS_RUNNING="77936"
PERL5_CPAN_IS_RUNNING="77936"
PERL5_CPAN_IS_RUNNING_IN_RECURSION="71463,77936"
PERLDOC="-MPod::Perldoc::ToTextOverstrike"
PERL_BATCH="yes"
PERL_CANARY_STABILITY_NOPROMPT="1"
PERL_CPAN_REPORTER_CONFIG="/var/tmp/cpansmoker-1023/2021102011/cpanreporter_000_config.ini"
PERL_EXTUTILS_AUTOINSTALL="--defaultdeps"
PERL_USE_UNSAFE_INC="1"
@INC:
/usr/perl5.8.9/lib/5.8.9/amd64-freebsd
/usr/perl5.8.9/lib/5.8.9
/usr/perl5.8.9/lib/site_perl/5.8.9/amd64-freebsd
/usr/perl5.8.9/lib/site_perl/5.8.9
.