Report for MouseX-SimpleConfig-0.11

Back
From: metabase:user:31d414ea-2aae-11df-837a-5e0a49663a4f
Subject: PASS MouseX-SimpleConfig-0.11 v5.8.8 IRIX
Date: 2011-03-08T15:27:31Z

This distribution has been tested as part of the CPAN Testers
project, supporting the Perl programming language.  See
http://wiki.cpantesters.org/ for more information or email
questions to cpan-testers-discuss@perl.org


--
Dear Mark Gardner,

This is a computer-generated report for MouseX-SimpleConfig-0.11
on perl 5.8.8, created by CPAN-Reporter-1.1711.

Thank you for uploading your work to CPAN.  Congratulations!
All tests were successful.

Sections of this report:

    * Tester comments
    * Program output
    * Prerequisites
    * Environment and other context

------------------------------
TESTER COMMENTS
------------------------------

Additional comments from tester:

this report is from an automated smoke testing program
and was not reviewed by a human for accuracy

------------------------------
PROGRAM OUTPUT
------------------------------

Output from '/sbin/make test':

	PERL_DL_NONLAZY=1 /usr/people/drc/cpantesting/perl-5.8.8/bin/perl "-MExtUtils::Command::MM" "-e" "test_harness(0, 'blib/lib', 'blib/arch')" t/*.t
t/00-compile.t .................. skipped: no tests to run
t/01use.t ....................... ok
Use of YAML::Syck or YAML to parse config files is DEPRECATED. Please install YAML::XS for proper YAML support at /usr/people/drc/cpantesting/perl-5.8.8/lib/site_perl/5.8.8/Config/Any.pm line 198
t/10simple.t .................... ok
Use of YAML::Syck or YAML to parse config files is DEPRECATED. Please install YAML::XS for proper YAML support at /usr/people/drc/cpantesting/perl-5.8.8/lib/site_perl/5.8.8/Config/Any.pm line 198
Use of YAML::Syck or YAML to parse config files is DEPRECATED. Please install YAML::XS for proper YAML support at /usr/people/drc/cpantesting/perl-5.8.8/lib/site_perl/5.8.8/Config/Any.pm line 198
t/11default.t ................... ok
t/12config_any_args.t ........... skipped: Config::General required for this test
t/author-critic.t ............... skipped: these tests are for testing by the author
Use of YAML::Syck or YAML to parse config files is DEPRECATED. Please install YAML::XS for proper YAML support at /usr/people/drc/cpantesting/perl-5.8.8/lib/site_perl/5.8.8/Config/Any.pm line 198
Use of YAML::Syck or YAML to parse config files is DEPRECATED. Please install YAML::XS for proper YAML support at /usr/people/drc/cpantesting/perl-5.8.8/lib/site_perl/5.8.8/Config/Any.pm line 198
t/multiple.t .................... ok
t/release-check-changes.t ....... skipped: these tests are for release candidate testing
t/release-consistent-version.t .. skipped: these tests are for release candidate testing
t/release-dist-manifest.t ....... skipped: these tests are for release candidate testing
t/release-distmeta.t ............ skipped: these tests are for release candidate testing
t/release-eol.t ................. skipped: these tests are for release candidate testing
t/release-has-version.t ......... skipped: these tests are for release candidate testing
t/release-kwalitee.t ............ skipped: these tests are for release candidate testing
t/release-minimum-version.t ..... skipped: these tests are for release candidate testing
t/release-no-tabs.t ............. skipped: these tests are for release candidate testing
t/release-pod-coverage.t ........ skipped: these tests are for release candidate testing
t/release-pod-syntax.t .......... skipped: these tests are for release candidate testing
t/release-portability.t ......... skipped: these tests are for release candidate testing
t/release-unused-vars.t ......... skipped: these tests are for release candidate testing
All tests successful.
Files=20, Tests=22,  5 wallclock secs ( 0.32 usr  0.12 sys +  4.04 cusr  0.80 csys =  5.28 CPU)
Result: PASS

------------------------------
PREREQUISITES
------------------------------

Prerequisite modules loaded:

requires:

    Module                 Need  Have    
    ---------------------- ----- --------
    Carp                   0     1.04    
    Config::Any            0.13  0.20    
    English                0     1.02    
    Mouse                  0.35  0.90    
    Mouse::Role            0     0.90    
    MouseX::ConfigFromFile 0.02  0.05    
    perl                   5.006 5.008008

build_requires:

    Module                 Need  Have    
    ---------------------- ----- --------
    File::Find             0     1.10    
    File::Temp             0     0.22    
    Mouse                  0     0.90    
    Path::Class::File      0     0.23    
    Test::More             0.88  0.98    

configure_requires:

    Module                 Need  Have    
    ---------------------- ----- --------
    ExtUtils::MakeMaker    6.31  6.56    


------------------------------
ENVIRONMENT AND OTHER CONTEXT
------------------------------

Environment variables:

    AUTOMATED_TESTING = 1
    LC_ALL = en
    PATH = /usr/people/drc/bin:/usr/people/drc/cpantesting/bin:/sbin:/usr/sbin:/usr/nekoware/sbin:/usr/nekoware/bin:/usr/bsd:/usr/bin:/etc:/usr/sysadm/privbin:/usr/etc:/usr/bin/X11:/usr/gfx:/usr/nekoware/mysql4/bin:/usr/nekoware/qt4/bin:/usr/nekoware/kde/bin:/usr/nekoware/php5/bin
    PERL5LIB = 
    PERL5OPT = 
    PERL5_CPANPLUS_IS_RUNNING = 44115788
    PERL5_CPAN_IS_RUNNING = 44115788
    PERLVER = 5.8.8
    SHELL = /usr/nekoware/bin/bash
    TERM = vt100

Perl special variables (and OS-specific diagnostics, for MSWin32):

    $^X = /usr/people/drc/cpantesting/perl-5.8.8/bin/perl
    $UID/$EUID = 25020 / 25020
    $GID = 20 20
    $EGID = 20 20

Perl module toolchain versions installed:

    Module              Have  
    ------------------- ------
    CPAN                1.9402
    Cwd                 3.31  
    ExtUtils::CBuilder  0.2703
    ExtUtils::Command   1.16  
    ExtUtils::Install   1.52  
    ExtUtils::MakeMaker 6.56  
    ExtUtils::Manifest  1.56  
    ExtUtils::ParseXS   2.2206
    File::Spec          3.31  
    Module::Build       0.3800
    Module::Signature   0.66  
    Test::Harness       3.21  
    Test::More          0.98  
    YAML                0.70  
    YAML::Syck          n/a   
    version             0.88  


--

Summary of my perl5 (revision 5 version 8 subversion 8) configuration:
  Platform:
    osname=irix, osvers=6.5, archname=IP35-irix-64int
    uname='irix64 o3k 6.5 07202013 ip35 '
    config_args='-de -Dprefix=/usr/people/drc/cpantesting/perl-5.8.8 -Duse64bitint'
    hint=recommended, useposix=true, d_sigaction=define
    usethreads=undef use5005threads=undef useithreads=undef usemultiplicity=undef
    useperlio=define d_sfio=undef uselargefiles=define usesocks=undef
    use64bitint=define use64bitall=undef uselongdouble=undef
    usemymalloc=n, bincompat5005=undef
  Compiler:
    cc='cc -n32', ccflags ='-D_BSD_TYPES -D_BSD_TIME -woff 1184,1552 -I/usr/local/include -DLANGUAGE_C',
    optimize='-O3 -OPT:Olimit=0:space=ON',
    cppflags='-D_BSD_TYPES -D_BSD_TIME -woff 1184,1552 -I/usr/local/include -DLANGUAGE_C'
    ccversion='MIPSpro Compilers: Version 7.4.4m', gccversion='', gccosandvers=''
    intsize=4, longsize=4, ptrsize=4, doublesize=8, byteorder=87654321
    d_longlong=define, longlongsize=8, d_longdbl=define, longdblsize=16
    ivtype='long long', ivsize=8, nvtype='double', nvsize=8, Off_t='off_t', lseeksize=8
    alignbytes=8, prototype=define
  Linker and Libraries:
    ld='cc -n32', ldflags =' -Wl,-woff,84 -L/usr/local/lib'
    libpth=/usr/local/lib /usr/lib32 /lib32 /lib /usr/lib
    libs=-ldb -lm -lc
    perllibs=-lm -lc
    libc=/usr/lib32/libc.so, so=so, useshrplib=false, libperl=libperl.a
    gnulibc_version=''
  Dynamic Linking:
    dlsrc=dl_dlopen.xs, dlext=so, d_dlsymun=undef, ccdlflags=' '
    cccdlflags=' ', lddlflags='-n32 -shared -L/usr/local/lib'


Characteristics of this binary (from libperl): 
  Compile-time options: USE_64_BIT_INT USE_LARGE_FILES USE_PERLIO
  Built under irix
  Compiled at Jun  5 2008 18:52:27
  %ENV:
    PERL5LIB=""
    PERL5OPT=""
    PERL5_CPANPLUS_IS_RUNNING="44115788"
    PERL5_CPAN_IS_RUNNING="44115788"
    PERLVER="5.8.8"
  @INC:
    /usr/people/drc/cpantesting/perl-5.8.8/lib/5.8.8/IP35-irix-64int
    /usr/people/drc/cpantesting/perl-5.8.8/lib/5.8.8
    /usr/people/drc/cpantesting/perl-5.8.8/lib/site_perl/5.8.8/IP35-irix-64int
    /usr/people/drc/cpantesting/perl-5.8.8/lib/site_perl/5.8.8
    /usr/people/drc/cpantesting/perl-5.8.8/lib/site_perl
    .