Back
From: metabase:user:31d414ea-2aae-11df-837a-5e0a49663a4f
Subject: PASS DateTime-Format-DBI-0.039_20101018 v5.10.1 SunOS/Solaris
Date: 2010-10-19T01:45:43Z
This distribution has been tested as part of the CPAN Testers
project, supporting the Perl programming language. See
http://wiki.cpantesters.org/ for more information or email
questions to cpan-testers-discuss@perl.org
--
Dear Claus Faerber,
This is a computer-generated report for DateTime-Format-DBI-0.039_20101018
on perl 5.10.1, created by CPAN-Reporter-1.1711.
Thank you for uploading your work to CPAN. Congratulations!
All tests were successful.
Sections of this report:
* Tester comments
* Program output
* Prerequisites
* Environment and other context
------------------------------
TESTER COMMENTS
------------------------------
Additional comments from tester:
this report is from an automated smoke testing program
and was not reviewed by a human for accuracy
------------------------------
PROGRAM OUTPUT
------------------------------
Output from './Build test':
t/00basic.t ...... ok
t/10pod.t ........ ok
t/11pod_cover.t .. ok
t/withsqlite.t ... skipped: DateTime::Format::SQLite required for real SQLite test
t/withtestdb.t ... skipped: Test::Database required for real database test
All tests successful.
Files=5, Tests=4, 3 wallclock secs ( 0.19 usr 0.09 sys + 1.97 cusr 0.41 csys = 2.66 CPU)
Result: PASS
------------------------------
PREREQUISITES
------------------------------
Prerequisite modules loaded:
requires:
Module Need Have
---------------- ---- ------
DateTime 0.1 0.63
DBI 1.21 1.615
build_requires:
Module Need Have
---------------- ---- ------
Test::More 0 0.96
Test::NoWarnings 0 1.01
configure_requires:
Module Need Have
---------------- ---- ------
Module::Build 0.36 0.3607
------------------------------
ENVIRONMENT AND OTHER CONTEXT
------------------------------
Environment variables:
AUTOMATED_TESTING = 1
LD_LIBRARY_PATH = /usr/local/lib:/usr/lib:/usr/openwin/lib:/usr/ucblib:.
PATH = /rpool/home/david/cpantesting/bin:/usr/local/bin:/usr/bin:/sbin:/usr/sbin:/usr/openwin/bin:/usr/ccs/bin:/usr/ucb:/etc:.
PERL5LIB =
PERL5OPT =
PERL5_CPANPLUS_IS_RUNNING = 1198
PERL5_CPAN_IS_RUNNING = 1198
PERLVER = 5.10.1
SHELL = /bin/bash
TERM = screen
Perl special variables (and OS-specific diagnostics, for MSWin32):
$^X = /rpool/home/david/cpantesting/perl-5.10.1/bin/perl
$UID/$EUID = 10217 / 10217
$GID = 1 1
$EGID = 1 1
Perl module toolchain versions installed:
Module Have
------------------- -------
CPAN 1.9402
Cwd 3.31
ExtUtils::CBuilder 0.2703
ExtUtils::Command 1.16
ExtUtils::Install 1.54
ExtUtils::MakeMaker 6.55_02
ExtUtils::Manifest 1.56
ExtUtils::ParseXS 2.2206
File::Spec 3.31
Module::Build 0.3607
Module::Signature n/a
Test::Harness 3.17
Test::More 0.96
YAML 0.72
YAML::Syck 1.15
version 0.77
--
Summary of my perl5 (revision 5 version 10 subversion 1) configuration:
Platform:
osname=solaris, osvers=2.10, archname=sun4-solaris-thread-multi
uname='sunos t1k.mrbill.net 5.10 generic_142900-06 sun4v sparc sunw,sun-fire-t1000 solaris '
config_args='-de -Dprefix=/usr/local/home/david/cpantesting/perl-5.10.1 -Dusethreads'
hint=recommended, useposix=true, d_sigaction=define
useithreads=define, usemultiplicity=define
useperlio=define, d_sfio=undef, uselargefiles=define, usesocks=undef
use64bitint=undef, use64bitall=undef, uselongdouble=undef
usemymalloc=n, bincompat5005=undef
Compiler:
cc='cc', ccflags ='-D_REENTRANT -fno-strict-aliasing -pipe -I/usr/local/include -D_LARGEFILE_SOURCE -D_FILE_OFFSET_BITS=64 -DPERL_USE_SAFE_PUTENV',
optimize='-O',
cppflags='-D_REENTRANT -fno-strict-aliasing -pipe -I/usr/local/include'
ccversion='', gccversion='3.4.3 (csl-sol210-3_4-branch+sol_rpath)', gccosandvers='solaris2.10'
intsize=4, longsize=4, ptrsize=4, doublesize=8, byteorder=4321
d_longlong=define, longlongsize=8, d_longdbl=define, longdblsize=16
ivtype='long', ivsize=4, nvtype='double', nvsize=8, Off_t='off_t', lseeksize=8
alignbytes=8, prototype=define
Linker and Libraries:
ld='cc', ldflags =' -L/usr/local/lib '
libpth=/usr/local/lib /usr/lib /usr/ccs/lib
libs=-lsocket -lnsl -ldl -lm -lpthread -lc
perllibs=-lsocket -lnsl -ldl -lm -lpthread -lc
libc=/lib/libc.so, so=so, useshrplib=false, libperl=libperl.a
gnulibc_version=''
Dynamic Linking:
dlsrc=dl_dlopen.xs, dlext=so, d_dlsymun=undef, ccdlflags=' '
cccdlflags='-fPIC', lddlflags='-G -L/usr/local/lib'
Characteristics of this binary (from libperl):
Compile-time options: MULTIPLICITY PERL_DONT_CREATE_GVSV
PERL_IMPLICIT_CONTEXT PERL_MALLOC_WRAP
PERL_USE_SAFE_PUTENV USE_ITHREADS USE_LARGE_FILES
USE_PERLIO USE_REENTRANT_API
Built under solaris
Compiled at Mar 25 2010 15:59:57
%ENV:
PERL5LIB=""
PERL5OPT=""
PERL5_CPANPLUS_IS_RUNNING="1198"
PERL5_CPAN_IS_RUNNING="1198"
PERLVER="5.10.1"
@INC:
/usr/local/home/david/cpantesting/perl-5.10.1/lib/5.10.1/sun4-solaris-thread-multi
/usr/local/home/david/cpantesting/perl-5.10.1/lib/5.10.1
/usr/local/home/david/cpantesting/perl-5.10.1/lib/site_perl/5.10.1/sun4-solaris-thread-multi
/usr/local/home/david/cpantesting/perl-5.10.1/lib/site_perl/5.10.1
.