Report for Statistics-MaxEntropy-0.9

Back
From: metabase:user:d2c9f356-b46f-11df-9a90-20a83c0b7757
Subject: PASS Statistics-MaxEntropy-0.9 v5.14.2 SunOS/Solaris
Date: 2011-11-14T14:47:33Z

This distribution has been tested as part of the CPAN Testers
project, supporting the Perl programming language.  See
http://wiki.cpantesters.org/ for more information or email
questions to cpan-testers-discuss@perl.org


--
Dear Hugo WL ter Doest,

This is a computer-generated report for Statistics-MaxEntropy-0.9
on perl 5.14.2, created by CPAN-Reporter-1.2002.

Thank you for uploading your work to CPAN.  Congratulations!
All tests were successful.

Sections of this report:

    * Tester comments
    * Program output
    * Prerequisites
    * Environment and other context

------------------------------
TESTER COMMENTS
------------------------------

Additional comments from tester:

this report is from an automated smoke testing program
and was not reviewed by a human for accuracy

------------------------------
PROGRAM OUTPUT
------------------------------

Output from '/usr/local/bin/make test':

PERL_DL_NONLAZY=1 /export/home/cpant2/perl5/bin/perl5.14.2 "-MExtUtils::Command::MM" "-e" "test_harness(0, 'blib/lib', 'blib/arch')" t/*.t
DESCRIPTION OF DIAGNOSTICS
    These messages are classified as follows (listed in increasing order of
    desperation):
    
        (W) A warning (optional).
        (D) A deprecation (enabled by default).
        (S) A severe warning (enabled by default).
        (F) A fatal error (trappable).
        (P) An internal error you should never see (trappable).
        (X) A very fatal error (nontrappable).
        (A) An alien error message (not generated by Perl).
    
    The majority of messages from the first three classifications above
    (W, D & S) can be controlled using the warnings pragma.
    
    If a message can be controlled by the warnings pragma, its warning
    category is included with the classification letter in the description
    below.
    
    Severe warnings are always enabled, unless they are explicitly disabled
    with the warnings pragma or the -X switch.
    
    Trappable errors may be trapped using the eval operator.  See
    "eval" in perlfunc.  In almost all cases, warnings may be selectively
    disabled or promoted to fatal errors using the warnings pragma.
    See warnings.
    

Ambiguous call resolved as CORE::log(), qualify as such or use & at
	/export/home/cpant2/.cpan/build/Statistics-MaxEntropy-0.9-3c7ysr/blib/lib/Statistics/MaxEntropy.pm line 754 (#1)
    (W ambiguous) A subroutine you have declared has the same name as a Perl
    keyword, and you have used the name without qualification for calling
    one or the other.  Perl decided to call the builtin because the
    subroutine is not imported.
    
    To force interpretation as a subroutine call, either put an ampersand
    before the subroutine name, or qualify the name with its package.
    Alternatively, you can import the subroutine (or pretend that it's
    imported with the use subs pragma).
    
    To silently interpret it as the Perl operator, use the CORE:: prefix
    on the operator (e.g. CORE::log($x)) or declare the subroutine
    to be an object method (see "Subroutine Attributes" in perlsub or
    attributes).
    
Ambiguous call resolved as CORE::log(), qualify as such or use & at
	/export/home/cpant2/.cpan/build/Statistics-MaxEntropy-0.9-3c7ysr/blib/lib/Statistics/MaxEntropy.pm line 765 (#1)
Ambiguous call resolved as CORE::log(), qualify as such or use & at
	/export/home/cpant2/.cpan/build/Statistics-MaxEntropy-0.9-3c7ysr/blib/lib/Statistics/MaxEntropy.pm line 766 (#1)
Ambiguous call resolved as CORE::log(), qualify as such or use & at
	/export/home/cpant2/.cpan/build/Statistics-MaxEntropy-0.9-3c7ysr/blib/lib/Statistics/MaxEntropy.pm line 767 (#1)
Ambiguous call resolved as CORE::log(), qualify as such or use & at
	/export/home/cpant2/.cpan/build/Statistics-MaxEntropy-0.9-3c7ysr/blib/lib/Statistics/MaxEntropy.pm line 768 (#1)
Ambiguous call resolved as CORE::log(), qualify as such or use & at
	/export/home/cpant2/.cpan/build/Statistics-MaxEntropy-0.9-3c7ysr/blib/lib/Statistics/MaxEntropy.pm line 769 (#1)
Ambiguous call resolved as CORE::log(), qualify as such or use & at
	/export/home/cpant2/.cpan/build/Statistics-MaxEntropy-0.9-3c7ysr/blib/lib/Statistics/MaxEntropy.pm line 1017 (#1)
Ambiguous call resolved as CORE::log(), qualify as such or use & at
	/export/home/cpant2/.cpan/build/Statistics-MaxEntropy-0.9-3c7ysr/blib/lib/Statistics/MaxEntropy.pm line 1028 (#1)
Ambiguous call resolved as CORE::log(), qualify as such or use & at
	/export/home/cpant2/.cpan/build/Statistics-MaxEntropy-0.9-3c7ysr/blib/lib/Statistics/MaxEntropy.pm line 1197 (#1)
t/00____scaling.t .. ok
DESCRIPTION OF DIAGNOSTICS
    These messages are classified as follows (listed in increasing order of
    desperation):
    
        (W) A warning (optional).
        (D) A deprecation (enabled by default).
        (S) A severe warning (enabled by default).
        (F) A fatal error (trappable).
        (P) An internal error you should never see (trappable).
        (X) A very fatal error (nontrappable).
        (A) An alien error message (not generated by Perl).
    
    The majority of messages from the first three classifications above
    (W, D & S) can be controlled using the warnings pragma.
    
    If a message can be controlled by the warnings pragma, its warning
    category is included with the classification letter in the description
    below.
    
    Severe warnings are always enabled, unless they are explicitly disabled
    with the warnings pragma or the -X switch.
    
    Trappable errors may be trapped using the eval operator.  See
    "eval" in perlfunc.  In almost all cases, warnings may be selectively
    disabled or promoted to fatal errors using the warnings pragma.
    See warnings.
    

Ambiguous call resolved as CORE::log(), qualify as such or use & at
	/export/home/cpant2/.cpan/build/Statistics-MaxEntropy-0.9-3c7ysr/blib/lib/Statistics/MaxEntropy.pm line 754 (#1)
    (W ambiguous) A subroutine you have declared has the same name as a Perl
    keyword, and you have used the name without qualification for calling
    one or the other.  Perl decided to call the builtin because the
    subroutine is not imported.
    
    To force interpretation as a subroutine call, either put an ampersand
    before the subroutine name, or qualify the name with its package.
    Alternatively, you can import the subroutine (or pretend that it's
    imported with the use subs pragma).
    
    To silently interpret it as the Perl operator, use the CORE:: prefix
    on the operator (e.g. CORE::log($x)) or declare the subroutine
    to be an object method (see "Subroutine Attributes" in perlsub or
    attributes).
    
Ambiguous call resolved as CORE::log(), qualify as such or use & at
	/export/home/cpant2/.cpan/build/Statistics-MaxEntropy-0.9-3c7ysr/blib/lib/Statistics/MaxEntropy.pm line 765 (#1)
Ambiguous call resolved as CORE::log(), qualify as such or use & at
	/export/home/cpant2/.cpan/build/Statistics-MaxEntropy-0.9-3c7ysr/blib/lib/Statistics/MaxEntropy.pm line 766 (#1)
Ambiguous call resolved as CORE::log(), qualify as such or use & at
	/export/home/cpant2/.cpan/build/Statistics-MaxEntropy-0.9-3c7ysr/blib/lib/Statistics/MaxEntropy.pm line 767 (#1)
Ambiguous call resolved as CORE::log(), qualify as such or use & at
	/export/home/cpant2/.cpan/build/Statistics-MaxEntropy-0.9-3c7ysr/blib/lib/Statistics/MaxEntropy.pm line 768 (#1)
Ambiguous call resolved as CORE::log(), qualify as such or use & at
	/export/home/cpant2/.cpan/build/Statistics-MaxEntropy-0.9-3c7ysr/blib/lib/Statistics/MaxEntropy.pm line 769 (#1)
Ambiguous call resolved as CORE::log(), qualify as such or use & at
	/export/home/cpant2/.cpan/build/Statistics-MaxEntropy-0.9-3c7ysr/blib/lib/Statistics/MaxEntropy.pm line 1017 (#1)
Ambiguous call resolved as CORE::log(), qualify as such or use & at
	/export/home/cpant2/.cpan/build/Statistics-MaxEntropy-0.9-3c7ysr/blib/lib/Statistics/MaxEntropy.pm line 1028 (#1)
Ambiguous call resolved as CORE::log(), qualify as such or use & at
	/export/home/cpant2/.cpan/build/Statistics-MaxEntropy-0.9-3c7ysr/blib/lib/Statistics/MaxEntropy.pm line 1197 (#1)

Use of uninitialized value in addition (+) at
	/export/home/cpant2/.cpan/build/Statistics-MaxEntropy-0.9-3c7ysr/blib/lib/Statistics/MaxEntropy.pm line 628 (#2)
    (W uninitialized) An undefined value was used as if it were already
    defined.  It was interpreted as a "" or a 0, but maybe it was a mistake.
    To suppress this warning assign a defined value to your variables.
    
    To help you figure out what was undefined, perl will try to tell you the
    name of the variable (if any) that was undefined. In some cases it cannot
    do this, so it also tells you what operation you used the undefined value
    in.  Note, however, that perl optimizes your program and the operation
    displayed in the warning may not necessarily appear literally in your
    program.  For example, "that $foo" is usually optimized into "that "
    . $foo, and the warning will refer to the concatenation (.) operator,
    even though there is no . in your program.
    
t/01__induction.t .. ok
t/02_____sparse.t .. ok
All tests successful.
Files=3, Tests=19, 240 wallclock secs ( 0.04 usr  0.01 sys + 240.29 cusr  0.04 csys = 240.38 CPU)
Result: PASS

------------------------------
PREREQUISITES
------------------------------

Prerequisite modules loaded:

requires:

    Module              Need Have 
    ------------------- ---- -----
    Data::Dumper        2.09 2.131

build_requires:

    Module              Need Have 
    ------------------- ---- -----
    ExtUtils::MakeMaker 0    6.62 


------------------------------
ENVIRONMENT AND OTHER CONTEXT
------------------------------

Environment variables:

    AUTOMATED_TESTING = 1
    LANG = C
    LD_LIBRARY_PATH = /usr/local/lib:
    PATH = /export/home/cpant2/perl5/bin:/usr/local/bin:/usr/bin
    PERL5LIB = 
    PERL5OPT = 
    PERL5_CPANPLUS_IS_RUNNING = 18352
    PERL5_CPAN_IS_RUNNING = 18352
    PERL5_CPAN_IS_RUNNING_IN_RECURSION = 8387,18352
    PERL_CR_SMOKER_CURRENT = Statistics-MaxEntropy-0.9
    PERL_EXTUTILS_AUTOINSTALL = --defaultdeps
    PERL_MM_USE_DEFAULT = 1
    SHELL = /usr/bin/bash
    TERM = xterm

Perl special variables (and OS-specific diagnostics, for MSWin32):

    $^X = /export/home/cpant2/perl5/bin/perl5.14.2
    $UID/$EUID = 101 / 101
    $GID = 1 1
    $EGID = 1 1

Perl module toolchain versions installed:

    Module              Have    
    ------------------- --------
    CPAN                1.9800  
    CPAN::Meta          2.112621
    Cwd                 3.36    
    ExtUtils::CBuilder  0.280203
    ExtUtils::Command   1.17    
    ExtUtils::Install   1.56    
    ExtUtils::MakeMaker 6.62    
    ExtUtils::Manifest  1.60    
    ExtUtils::ParseXS   3.05    
    File::Spec          3.33    
    JSON                2.53    
    JSON::PP            2.27200 
    Module::Build       0.3800  
    Module::Signature   n/a     
    Parse::CPAN::Meta   1.4401  
    Test::Harness       3.23    
    Test::More          0.98    
    YAML                0.77    
    YAML::Syck          1.17    
    version             0.94    


--

Summary of my perl5 (revision 5 version 14 subversion 2) configuration:
   
  Platform:
    osname=solaris, osvers=2.10, archname=i86pc-solaris-64int
    uname='sunos vmrz0046 5.10 generic_141445-09 i86pc i386 i86pc solaris '
    config_args='-Dcc=gcc -Dprefix=~/perl5 -Duse64bitint -Dusedevel -d'
    hint=recommended, useposix=true, d_sigaction=define
    useithreads=undef, usemultiplicity=undef
    useperlio=define, d_sfio=undef, uselargefiles=define, usesocks=undef
    use64bitint=define, use64bitall=undef, uselongdouble=undef
    usemymalloc=n, bincompat5005=undef
  Compiler:
    cc='gcc', ccflags ='-DPTR_IS_LONG -fno-strict-aliasing -pipe -I/usr/local/include -D_LARGEFILE_SOURCE -D_FILE_OFFSET_BITS=64 -DPERL_USE_SAFE_PUTENV',
    optimize='-O',
    cppflags='-DPTR_IS_LONG -fno-strict-aliasing -pipe -I/usr/local/include'
    ccversion='', gccversion='3.4.6', gccosandvers='solaris2.10'
    intsize=4, longsize=4, ptrsize=4, doublesize=8, byteorder=12345678
    d_longlong=define, longlongsize=8, d_longdbl=define, longdblsize=12
    ivtype='long long', ivsize=8, nvtype='double', nvsize=8, Off_t='off_t', lseeksize=8
    alignbytes=4, prototype=define
  Linker and Libraries:
    ld='gcc', ldflags =' -L/usr/local/lib '
    libpth=/usr/local/lib /usr/lib /usr/ccs/lib
    libs=-lsocket -lnsl -lgdbm -ldl -lm -lc
    perllibs=-lsocket -lnsl -ldl -lm -lc
    libc=/lib/libc.so, so=so, useshrplib=false, libperl=libperl.a
    gnulibc_version=''
  Dynamic Linking:
    dlsrc=dl_dlopen.xs, dlext=so, d_dlsymun=undef, ccdlflags=' '
    cccdlflags='-fPIC', lddlflags='-G -L/usr/local/lib'


Characteristics of this binary (from libperl): 
  Compile-time options: PERL_DONT_CREATE_GVSV PERL_MALLOC_WRAP
                        PERL_PRESERVE_IVUV PERL_USE_DEVEL
                        PERL_USE_SAFE_PUTENV USE_64_BIT_INT USE_LARGE_FILES
                        USE_PERLIO USE_PERL_ATOF
  Built under solaris
  Compiled at Sep 30 2011 11:41:59
  %ENV:
    PERL5LIB=""
    PERL5OPT=""
    PERL5_CPANPLUS_IS_RUNNING="18352"
    PERL5_CPAN_IS_RUNNING="18352"
    PERL5_CPAN_IS_RUNNING_IN_RECURSION="8387,18352"
    PERL_CR_SMOKER_CURRENT="Statistics-MaxEntropy-0.9"
    PERL_EXTUTILS_AUTOINSTALL="--defaultdeps"
    PERL_MM_USE_DEFAULT="1"
  @INC:
    /export/home/cpant2/perl5/lib/site_perl/5.14.2/i86pc-solaris-64int
    /export/home/cpant2/perl5/lib/site_perl/5.14.2
    /export/home/cpant2/perl5/lib/5.14.2/i86pc-solaris-64int
    /export/home/cpant2/perl5/lib/5.14.2
    /export/home/cpant2/perl5/lib/site_perl
    .