Report for HTTP-Body-1.15

Back
From: metabase:user:30f4dfbe-2aae-11df-837a-5e0a49663a4f
Subject: PASS HTTP-Body-1.15 v5.12.2 GNU/Linux
Date: 2012-09-20T03:45:14Z

This distribution has been tested as part of the CPAN Testers
project, supporting the Perl programming language.  See
http://wiki.cpantesters.org/ for more information or email
questions to cpan-testers-discuss@perl.org


--
Dear Torsten Raudssus,

This is a computer-generated report for HTTP-Body-1.15
on perl 5.12.2 patch v5.12.2-4-g6b6803c, created by CPAN-Reporter-1.1803.

Thank you for uploading your work to CPAN.  Congratulations!
All tests were successful.

Sections of this report:

    * Tester comments
    * Program output
    * Prerequisites
    * Environment and other context

------------------------------
TESTER COMMENTS
------------------------------

Additional comments from tester:

this report is from an automated smoke testing program
and was not reviewed by a human for accuracy

------------------------------
PROGRAM OUTPUT
------------------------------

Output from '/usr/bin/make test':

PERL_DL_NONLAZY=1 /usr/local/bin/perl5.12.2 "-MExtUtils::Command::MM" "-e" "test_harness(0, 'blib/lib', 'blib/arch')" t/*.t
t/01use.t ............... ok
t/02pod.t ............... skipped: set TEST_POD to enable this test
t/03podcoverage.t ....... skipped: set TEST_POD to enable this test
t/04critic.t ............ skipped: Critic test only for developers.
t/04multipart.t ......... ok
t/05urlencoded.t ........ ok
t/06octetstream.t ....... ok
t/07xforms.t ............ ok
t/08multipart-suffix.t .. ok
All tests successful.
Files=9, Tests=223,  1 wallclock secs ( 0.05 usr  0.02 sys +  0.72 cusr  0.11 csys =  0.90 CPU)
Result: PASS

------------------------------
PREREQUISITES
------------------------------

Prerequisite modules loaded:

requires:

    Module              Need Have 
    ------------------- ---- -----
    Carp                0    1.17 
    Digest::MD5         0    2.39 
    File::Temp          0.14 0.22 
    HTTP::Headers       0    5.835
    IO::File            1.14 1.14 

build_requires:

    Module              Need Have 
    ------------------- ---- -----
    Test::Deep          0    0.108
    Test::More          0.86 0.96 

configure_requires:

    Module              Need Have 
    ------------------- ---- -----
    ExtUtils::MakeMaker 6.30 6.62 


------------------------------
ENVIRONMENT AND OTHER CONTEXT
------------------------------

Environment variables:

    AUTOMATED_TESTING = 1
    LANG = en_GB.UTF-8
    PATH = /usr/bin:/bin
    PERL5LIB = /home/njh/.cpan/build/URI-1.60-JWRXWd/blib/arch:/home/njh/.cpan/build/URI-1.60-JWRXWd/blib/lib:/home/njh/.cpan/build/HTTP-Server-Simple-PSGI-0.14-IagRcb/blib/arch:/home/njh/.cpan/build/HTTP-Server-Simple-PSGI-0.14-IagRcb/blib/lib
    PERL5OPT = 
    PERL5_CPANPLUS_IS_RUNNING = 17650
    PERL5_CPAN_IS_RUNNING = 17650
    PERL5_MINISMOKEBOX = 0.54
    PERL_EXTUTILS_AUTOINSTALL = --defaultdeps
    PERL_MM_USE_DEFAULT = 1
    SHELL = /bin/sh

Perl special variables (and OS-specific diagnostics, for MSWin32):

    $^X = /usr/local/bin/perl5.12.2
    $UID/$EUID = 1000 / 1000
    $GID = 1000 20 24 25 29 44 46 109 112 1000
    $EGID = 1000 20 24 25 29 44 46 109 112 1000

Perl module toolchain versions installed:

    Module              Have   
    ------------------- -------
    CPAN                1.94_56
    Cwd                 3.31   
    ExtUtils::CBuilder  0.27   
    ExtUtils::Command   1.16   
    ExtUtils::Install   1.55   
    ExtUtils::MakeMaker 6.62   
    ExtUtils::Manifest  1.58   
    ExtUtils::ParseXS   2.21   
    File::Spec          3.31_01
    Module::Build       0.3603 
    Module::Signature   n/a    
    Test::Harness       3.17   
    Test::More          0.96   
    YAML                0.72   
    YAML::Syck          1.20   
    version             0.88   


--

Summary of my perl5 (revision 5 version 12 subversion 2 patch v5.12.2-4-g6b6803c) configuration:
  Snapshot of: 6b6803ca5cc042a20bd63333defdcf9b4b5a045c
  Platform:
    osname=linux, osvers=2.6.32-5-amd64, archname=x86_64-linux-thread-multi
    uname='linux packard 2.6.32-5-amd64 #1 smp fri sep 17 21:50:19 utc 2010 x86_64 gnulinux '
    config_args='-des -Dusedevel -Accflags=-O2 -W -Wformat=2 -Wall -Wextra -pipe -mtune=native -march=native -fomit-frame-pointer -ffast-math -msse2 -msse -mmmx -mfpmath=sse -D_FORTIFY_SOURCE=2 -fstack-protector -Wstack-protector -Wfloat-equal -Duseithreads'
    hint=recommended, useposix=true, d_sigaction=define
    useithreads=define, usemultiplicity=define
    useperlio=define, d_sfio=undef, uselargefiles=define, usesocks=undef
    use64bitint=define, use64bitall=define, uselongdouble=undef
    usemymalloc=n, bincompat5005=undef
  Compiler:
    cc='cc', ccflags ='-D_REENTRANT -D_GNU_SOURCE -DDEBUGGING -O2 -W -Wformat=2 -Wall -Wextra -pipe -mtune=native -march=native -fomit-frame-pointer -ffast-math -msse2 -msse -mmmx -mfpmath=sse -D_FORTIFY_SOURCE=2 -fstack-protector -Wstack-protector -Wfloat-equal -fno-strict-aliasing -I/usr/local/include -D_LARGEFILE_SOURCE -D_FILE_OFFSET_BITS=64',
    optimize='-O2',
    cppflags='-D_REENTRANT -D_GNU_SOURCE -DDEBUGGING -O2 -W -Wformat=2 -Wall -Wextra -pipe -mtune=native -march=native -fomit-frame-pointer -ffast-math -msse2 -msse -mmmx -mfpmath=sse -D_FORTIFY_SOURCE=2 -fstack-protector -Wstack-protector -Wfloat-equal -fno-strict-aliasing -I/usr/local/include'
    ccversion='', gccversion='4.4.5', gccosandvers=''
    intsize=4, longsize=8, ptrsize=8, doublesize=8, byteorder=12345678
    d_longlong=define, longlongsize=8, d_longdbl=define, longdblsize=16
    ivtype='long', ivsize=8, nvtype='double', nvsize=8, Off_t='off_t', lseeksize=8
    alignbytes=8, prototype=define
  Linker and Libraries:
    ld='cc', ldflags =' -fstack-protector -L/usr/local/lib'
    libpth=/usr/local/lib /lib /usr/lib /lib64 /usr/lib64
    libs=-lnsl -lgdbm -ldb -ldl -lm -lcrypt -lutil -lpthread -lc -lgdbm_compat
    perllibs=-lnsl -ldl -lm -lcrypt -lutil -lpthread -lc
    libc=/lib/libc-2.11.2.so, so=so, useshrplib=false, libperl=libperl.a
    gnulibc_version='2.11.2'
  Dynamic Linking:
    dlsrc=dl_dlopen.xs, dlext=so, d_dlsymun=undef, ccdlflags='-Wl,-E'
    cccdlflags='-fPIC', lddlflags='-shared -O2 -L/usr/local/lib -fstack-protector'


Characteristics of this binary (from libperl): 
  Compile-time options: DEBUGGING MULTIPLICITY PERL_DONT_CREATE_GVSV
                        PERL_IMPLICIT_CONTEXT PERL_MALLOC_WRAP
                        PERL_TRACK_MEMPOOL PERL_USE_DEVEL USE_64_BIT_ALL
                        USE_64_BIT_INT USE_ITHREADS USE_LARGE_FILES
                        USE_PERLIO USE_PERL_ATOF USE_REENTRANT_API
  Locally applied patches:
	SMOKE6b6803ca5cc042a20bd63333defdcf9b4b5a045c
  Built under linux
  Compiled at Dec 18 2010 10:25:05
  %ENV:
    PERL5LIB="/home/njh/.cpan/build/URI-1.60-JWRXWd/blib/arch:/home/njh/.cpan/build/URI-1.60-JWRXWd/blib/lib:/home/njh/.cpan/build/HTTP-Server-Simple-PSGI-0.14-IagRcb/blib/arch:/home/njh/.cpan/build/HTTP-Server-Simple-PSGI-0.14-IagRcb/blib/lib"
    PERL5OPT=""
    PERL5_CPANPLUS_IS_RUNNING="17650"
    PERL5_CPAN_IS_RUNNING="17650"
    PERL5_MINISMOKEBOX="0.54"
    PERL_EXTUTILS_AUTOINSTALL="--defaultdeps"
    PERL_MM_USE_DEFAULT="1"
  @INC:
    /home/njh/.cpan/build/URI-1.60-JWRXWd/blib/arch
    /home/njh/.cpan/build/URI-1.60-JWRXWd/blib/lib
    /home/njh/.cpan/build/HTTP-Server-Simple-PSGI-0.14-IagRcb/blib/arch
    /home/njh/.cpan/build/HTTP-Server-Simple-PSGI-0.14-IagRcb/blib/lib
    /usr/local/lib/perl5/site_perl/5.12.2/x86_64-linux-thread-multi
    /usr/local/lib/perl5/site_perl/5.12.2
    /usr/local/lib/perl5/5.12.2/x86_64-linux-thread-multi
    /usr/local/lib/perl5/5.12.2
    /usr/local/lib/perl5/site_perl
    .