Report for Dist-Zilla-Plugin-CheckIssues-0.003

Back
From: metabase:user:31d414ea-2aae-11df-837a-5e0a49663a4f
Subject: PASS Dist-Zilla-Plugin-CheckIssues-0.003 v5.20.1 GNU/Linux
Date: 2014-10-27T19:36:46Z

This distribution has been tested as part of the CPAN Testers
project, supporting the Perl programming language.  See
http://wiki.cpantesters.org/ for more information or email
questions to cpan-testers-discuss@perl.org


--
Dear Karen Etheridge,

This is a computer-generated report for Dist-Zilla-Plugin-CheckIssues-0.003
on perl 5.20.1, created by CPAN-Reporter-1.2011.

Thank you for uploading your work to CPAN.  Congratulations!
All tests were successful.

Sections of this report:

    * Tester comments
    * Program output
    * Prerequisites
    * Environment and other context

------------------------------
TESTER COMMENTS
------------------------------

Additional comments from tester:

this report is from an automated smoke testing program
and was not reviewed by a human for accuracy

------------------------------
PROGRAM OUTPUT
------------------------------

Output from './Build test':

# 
# Versions for all modules listed in MYMETA.json (including optional ones):
# 
# === Configure Requires ===
# 
#     Module               Want    Have
#     ------------------- ----- -------
#     ExtUtils::MakeMaker   any 7.01_02
#     Module::Build::Tiny 0.039   0.039
# 
# === Test Requires ===
# 
#     Module                          Want     Have
#     ------------------------------- ---- --------
#     Dist::Zilla::App::Tester         any    5.021
#     Dist::Zilla::Role::MetaProvider  any    5.021
#     ExtUtils::MakeMaker              any  7.01_02
#     File::Spec                       any     3.48
#     File::pushd                      any    1.009
#     Moose::Util                      any   2.1213
#     Path::Tiny                       any    0.059
#     Test::DZil                       any    5.021
#     Test::Deep                       any    0.113
#     Test::Fatal                      any    0.013
#     Test::More                       any 1.001008
#     if                               any   0.0603
#     lib                              any     0.63
# 
# === Test Recommends ===
# 
#     Module         Want     Have
#     ---------- -------- --------
#     CPAN::Meta 2.120900 2.142690
# 
# === Runtime Requires ===
# 
#     Module                           Want     Have
#     -------------------------------- ---- --------
#     Dist::Zilla::App                  any    5.021
#     Dist::Zilla::Role::BeforeRelease  any    5.021
#     Encode                            any     2.60
#     HTTP::Headers                     any     6.05
#     HTTP::Tiny                        any    0.043
#     JSON::MaybeXS                     any 1.002006
#     List::Util                       1.33     1.38
#     Moose                             any   2.1213
#     Term::ANSIColor                   any     4.02
#     namespace::autoclean              any     0.20
#     strict                            any     1.08
#     warnings                          any     1.23
# 
t/00-report-prereqs.t .. ok
t/01-basic.t ........... ok
t/02-no-rt.t ........... ok
t/03-no-repo.t ......... ok
t/04-command.t ......... ok
All tests successful.
Files=5, Tests=17,  9 wallclock secs ( 0.03 usr  0.03 sys +  3.63 cusr  0.26 csys =  3.95 CPU)
Result: PASS

------------------------------
PREREQUISITES
------------------------------

Prerequisite modules loaded:

requires:

    Module                           Need  Have    
    -------------------------------- ----- --------
    Dist::Zilla::App                 0     5.021   
    Dist::Zilla::Role::BeforeRelease 0     5.021   
    Encode                           0     2.60    
    HTTP::Headers                    0     6.05    
    HTTP::Tiny                       0     0.043   
    JSON::MaybeXS                    0     1.002006
    List::Util                       1.33  1.38    
    Moose                            0     2.1213  
    namespace::autoclean             0     0.20    
    perl                             5.006 5.020001
    strict                           0     1.08    
    Term::ANSIColor                  0     4.02    
    warnings                         0     1.23    

build_requires:

    Module                           Need  Have    
    -------------------------------- ----- --------
    Dist::Zilla::App::Tester         0     5.021   
    Dist::Zilla::Role::MetaProvider  0     5.021   
    ExtUtils::MakeMaker              0     7.01_02 
    File::pushd                      0     1.009   
    File::Spec                       0     3.48    
    if                               0     0.0603  
    lib                              0     0.63    
    Moose::Util                      0     2.1213  
    Path::Tiny                       0     0.059   
    Test::Deep                       0     0.113   
    Test::DZil                       0     5.021   
    Test::Fatal                      0     0.013   
    Test::More                       0     1.001008

configure_requires:

    Module                           Need  Have    
    -------------------------------- ----- --------
    ExtUtils::MakeMaker              0     7.01_02 
    Module::Build::Tiny              0.039 0.039   


------------------------------
ENVIRONMENT AND OTHER CONTEXT
------------------------------

Environment variables:

    AUTOMATED_TESTING = 1
    NONINTERACTIVE_TESTING = 1
    PATH = /usr/local/bin:/usr/bin:/bin:/usr/games
    PERL = 5.20.1
    PERL5LIB = 
    PERL5OPT = 
    PERL5_CPANPLUS_IS_RUNNING = 1695
    PERL5_CPAN_IS_RUNNING = 1695
    PERLVER = 5.20.1
    PERL_INLINE_DIRECTORY = /home/david/.Inline-5.20.1
    PERL_MM_USE_DEFAULT = 1
    SHELL = /bin/bash
    TERM = screen

Perl special variables (and OS-specific diagnostics, for MSWin32):

    $^X = /home/david/cpantesting/perl-5.20.1/bin/perl
    $UID/$EUID = 1000 / 1000
    $GID = 1000 1000
    $EGID = 1000 1000

Perl module toolchain versions installed:

    Module              Have    
    ------------------- --------
    CPAN                2.05    
    CPAN::Meta          2.142690
    Cwd                 3.48    
    ExtUtils::CBuilder  0.280217
    ExtUtils::Command   1.18    
    ExtUtils::Install   1.67    
    ExtUtils::MakeMaker 7.01_02 
    ExtUtils::Manifest  1.68    
    ExtUtils::ParseXS   3.24    
    File::Spec          3.48    
    JSON                2.90    
    JSON::PP            2.27203 
    Module::Build       0.4210  
    Module::Signature   n/a     
    Parse::CPAN::Meta   1.4414  
    Test::Harness       3.30    
    Test::More          1.001008
    YAML                1.13    
    YAML::Syck          1.27    
    version             0.9909  


--

Summary of my perl5 (revision 5 version 20 subversion 1) configuration:
   
  Platform:
    osname=linux, osvers=3.2.0-4-amd64, archname=x86_64-linux-thread-multi
    uname='linux pigsty.barnyard.co.uk 3.2.0-4-amd64 #1 smp debian 3.2.35-2 x86_64 gnulinux '
    config_args='-de -Dprefix=/home/david/cpantesting/perl-5.20.1 -Dusethreads -Duse64bitall'
    hint=recommended, useposix=true, d_sigaction=define
    useithreads=define, usemultiplicity=define
    use64bitint=define, use64bitall=define, uselongdouble=undef
    usemymalloc=n, bincompat5005=undef
  Compiler:
    cc='cc', ccflags ='-D_REENTRANT -D_GNU_SOURCE -fno-strict-aliasing -pipe -fstack-protector -I/usr/local/include -D_LARGEFILE_SOURCE -D_FILE_OFFSET_BITS=64',
    optimize='-O2',
    cppflags='-D_REENTRANT -D_GNU_SOURCE -fno-strict-aliasing -pipe -fstack-protector -I/usr/local/include'
    ccversion='', gccversion='4.1.2 20061115 (prerelease) (Debian 4.1.1-21)', gccosandvers=''
    intsize=4, longsize=8, ptrsize=8, doublesize=8, byteorder=12345678
    d_longlong=define, longlongsize=8, d_longdbl=define, longdblsize=16
    ivtype='long', ivsize=8, nvtype='double', nvsize=8, Off_t='off_t', lseeksize=8
    alignbytes=8, prototype=define
  Linker and Libraries:
    ld='cc', ldflags =' -fstack-protector -L/usr/local/lib'
    libpth=/usr/local/lib /usr/lib /lib /lib64 /usr/lib64
    libs=-lnsl -lgdbm -ldb -ldl -lm -lcrypt -lutil -lpthread -lc -lgdbm_compat
    perllibs=-lnsl -ldl -lm -lcrypt -lutil -lpthread -lc
    libc=libc-2.3.6.so, so=so, useshrplib=false, libperl=libperl.a
    gnulibc_version='2.3.6'
  Dynamic Linking:
    dlsrc=dl_dlopen.xs, dlext=so, d_dlsymun=undef, ccdlflags='-Wl,-E'
    cccdlflags='-fPIC', lddlflags='-shared -O2 -L/usr/local/lib -fstack-protector'


Characteristics of this binary (from libperl): 
  Compile-time options: HAS_TIMES MULTIPLICITY PERLIO_LAYERS
                        PERL_DONT_CREATE_GVSV
                        PERL_HASH_FUNC_ONE_AT_A_TIME_HARD
                        PERL_IMPLICIT_CONTEXT PERL_MALLOC_WRAP
                        PERL_NEW_COPY_ON_WRITE PERL_PRESERVE_IVUV
                        USE_64_BIT_ALL USE_64_BIT_INT USE_ITHREADS
                        USE_LARGE_FILES USE_LOCALE USE_LOCALE_COLLATE
                        USE_LOCALE_CTYPE USE_LOCALE_NUMERIC USE_PERLIO
                        USE_PERL_ATOF USE_REENTRANT_API
  Built under linux
  Compiled at Oct  2 2014 15:24:41
  %ENV:
    PERL="5.20.1"
    PERL5LIB=""
    PERL5OPT=""
    PERL5_CPANPLUS_IS_RUNNING="1695"
    PERL5_CPAN_IS_RUNNING="1695"
    PERLVER="5.20.1"
    PERL_INLINE_DIRECTORY="/home/david/.Inline-5.20.1"
    PERL_MM_USE_DEFAULT="1"
  @INC:
    /home/david/cpantesting/perl-5.20.1/lib/site_perl/5.20.1/x86_64-linux-thread-multi
    /home/david/cpantesting/perl-5.20.1/lib/site_perl/5.20.1
    /home/david/cpantesting/perl-5.20.1/lib/5.20.1/x86_64-linux-thread-multi
    /home/david/cpantesting/perl-5.20.1/lib/5.20.1
    .