Device-Firewall-PaloAlto v0.1.9 Perl 5 v5.22.3 x86_64-linux-ld

Status
Pass
From
Slaven Rezić (SREZIC)
Dist
Device-Firewall-PaloAlto v0.1.9
Platform
Perl 5 v5.22.3 x86_64-linux-ld
Date
2019-07-31 04:49:32
ID
96a6e784-b34e-11e9-bc91-32411f24ea8f
This distribution has been tested as part of the CPAN Testers
project, supporting the Perl programming language.  See
http://wiki.cpantesters.org/ for more information or email
questions to cpan-testers-discuss@perl.org


--
Dear Greg Foletta,

This is a computer-generated report for Device-Firewall-PaloAlto-0.1.9
on perl 5.22.3, created by CPAN-Reporter-1.2018.

Thank you for uploading your work to CPAN.  Congratulations!
All tests were successful.

Sections of this report:

    * Tester comments
    * Program output
    * Prerequisites
    * Environment and other context

------------------------------
TESTER COMMENTS
------------------------------

Additional comments from tester:

none provided

------------------------------
PROGRAM OUTPUT
------------------------------

Output from '/usr/bin/make test':

PERL_DL_NONLAZY=1 "/opt/perl-5.22.3D/bin/perl" "-MExtUtils::Command::MM" "-MTest::Harness" "-e" "undef *Test::Harness::Switches; test_harness(0, 'blib/lib', 'blib/arch')" t/*.t
t/00-load.t ..................... ok
t/00-new.t ...................... ok
t/01-op_cmd.t ................... ok
t/02-interfaces.t ............... ok
t/03-arp.t ...................... ok
t/04-virtual_router.t ........... ok
t/05-system_info.t .............. ok
t/06-tunnels.t .................. ok
t/08-user_id.t .................. ok
t/09-ha.t ....................... ok
t/10-ntp.t ...................... ok
t/11-rulebase.t ................. ok
t/12-natpolicy.t ................ ok
t/13-logging_status.t ........... ok
t/14-interface_stats.t .......... ok
t/release-00-integration.t ...... skipped: these tests are for release candidate testing
t/release-01-interfaces.t ....... skipped: these tests are for release candidate testing
t/release-02-arp.t .............. skipped: these tests are for release candidate testing
t/release-03-virtual_router.t ... skipped: these tests are for release candidate testing
t/release-04-system_info.t ...... skipped: these tests are for release candidate testing
t/release-05-tunnels.t .......... skipped: these tests are for release candidate testing
t/release-06-global_counters.t .. skipped: these tests are for release candidate testing
t/release-07-user_id.t .......... skipped: these tests are for release candidate testing
t/release-08-ha.t ............... skipped: these tests are for release candidate testing
t/release-09-sec_rulebase.t ..... skipped: these tests are for release candidate testing
t/release-10-nat_rulebase.t ..... skipped: these tests are for release candidate testing
t/release-11-logging_status.t ... skipped: these tests are for release candidate testing
t/release-12-fib_lookup.t ....... skipped: these tests are for release candidate testing
All tests successful.
Files=28, Tests=165,  5 wallclock secs ( 0.10 usr  0.13 sys +  3.84 cusr  0.74 csys =  4.81 CPU)
Result: PASS

------------------------------
PREREQUISITES
------------------------------

Prerequisite modules loaded:

requires:

    Module                     Need  Have      
    -------------------------- ----- ----------
    Carp                       0     1.36      
    Class::Error               0     2.41      
    Data::Dumper               0     2.158     
    Data::Structure::Util      0     0.16      
    DateTime                   0     1.43      
    DateTime::Format::Strptime 0     1.73      
    Exporter                   0     5.72      
    Hook::LexWrap              0     0.26      
    HTTP::Request::Common      0     6.13      
    JSON                       0     2.94      
    List::Util                 0     1.48      
    LWP::UserAgent             0     6.26      
    overload                   0     1.26      
    parent                     0     0.232     
    perl                       5.010 5.022003  
    Regexp::Common             0     2017060201
    strict                     0     1.09      
    URI                        0     1.71      
    URI::Encode                0     1.1.1     
    warnings                   0     1.34      
    XML::LibXML                0     2.0129    
    XML::Twig                  0     3.52      

build_requires:

    Module                     Need  Have      
    -------------------------- ----- ----------
    ExtUtils::MakeMaker        0     7.04_02   
    lib                        0     0.63      
    Test::More                 0     1.302086  
    Test::UseAllModules        0     0.17      
    Test::Warn                 0     0.32      

configure_requires:

    Module                     Need  Have      
    -------------------------- ----- ----------
    ExtUtils::MakeMaker        0     7.04_02   


------------------------------
ENVIRONMENT AND OTHER CONTEXT
------------------------------

Environment variables:

    LANG = C
    PATH = /usr/local/bin:/usr/bin:/bin:/usr/local/sbin:/usr/sbin:/sbin:/home/cpansand/bin/linux-gnu:/home/cpansand/bin/sh:/home/cpansand/bin:/usr/games:/home/cpansand/devel:/home/eserte/src/srezic-misc/scripts
    PERL5LIB = /home/cpansand/.cpan/build/2019073104/URI-Encode-v1.1.1-0/blib/arch:/home/cpansand/.cpan/build/2019073104/URI-Encode-v1.1.1-0/blib/lib:/home/cpansand/.cpan/build/2019073104/Data-Structure-Util-0.16-0/blib/arch:/home/cpansand/.cpan/build/2019073104/Data-Structure-Util-0.16-0/blib/lib:/home/cpansand/.cpan/build/2019073104/OOTools-2.41-0/blib/arch:/home/cpansand/.cpan/build/2019073104/OOTools-2.41-0/blib/lib:/home/cpansand/.cpan/build/2019073104/Regexp-Common-time-0.16-1/blib/arch:/home/cpansand/.cpan/build/2019073104/Regexp-Common-time-0.16-1/blib/lib:/home/cpansand/.cpan/build/2019073104/Test-Regexp-2017040101-0/blib/arch:/home/cpansand/.cpan/build/2019073104/Test-Regexp-2017040101-0/blib/lib:/home/cpansand/.cpan/build/2019073104/Regexp-Common-2017060201-0/blib/arch:/home/cpansand/.cpan/build/2019073104/Regexp-Common-2017060201-0/blib/lib:/home/cpansand/.cpan/build/2019073104/Modern-Perl-1.20190727-0/blib/arch:/home/cpansand/.cpan/build/2019073104/Modern-Perl-1.20190727-0/blib/lib
    PERL5OPT = 
    PERL5_CPANPLUS_IS_RUNNING = 15761
    PERL5_CPAN_IS_RUNNING = 15761
    PERL5_CPAN_IS_RUNNING_IN_RECURSION = 15201,15761
    PERLDOC = -MPod::Perldoc::ToTextOverstrike
    PERL_BATCH = yes
    PERL_CANARY_STABILITY_NOPROMPT = 1
    PERL_CPAN_REPORTER_CONFIG = /var/tmp/cpansmoker-1023/2019073104/cpanreporter_000_config.ini
    PERL_EXTUTILS_AUTOINSTALL = --defaultdeps
    PERL_USE_UNSAFE_INC = 1
    SHELL = /usr/bin/zsh
    TERM = screen
    TMPDIR = /var/tmp/cpansmoker-1023/2019073104

Perl special variables (and OS-specific diagnostics, for MSWin32):

    $^X = /opt/perl-5.22.3D/bin/perl
    $UID/$EUID = 1023 / 1023
    $GID = 1023 1023
    $EGID = 1023 1023

Perl module toolchain versions installed:

    Module              Have      
    ------------------- ----------
    CPAN                2.16      
    CPAN::Meta          2.150001  
    Cwd                 3.56_02   
    ExtUtils::CBuilder  0.280221  
    ExtUtils::Command   1.20_01   
    ExtUtils::Install   2.04      
    ExtUtils::MakeMaker 7.04_02   
    ExtUtils::Manifest  1.70      
    ExtUtils::ParseXS   3.28      
    File::Spec          3.56_02   
    JSON                2.94      
    JSON::PP            2.27300_01
    Module::Build       0.4224    
    Module::Signature   0.81      
    Parse::CPAN::Meta   1.4414_001
    Test::Harness       3.35_01   
    Test::More          1.302086  
    YAML                1.23      
    YAML::Syck          1.30      
    version             0.9909    


--

Summary of my perl5 (revision 5 version 22 subversion 3) configuration:
   
  Platform:
    osname=linux, osvers=3.16.0-4-amd64, archname=x86_64-linux-ld
    uname='linux debian8 3.16.0-4-amd64 #1 smp debian 3.16.43-2+deb8u1 (2017-06-18) x86_64 gnulinux '
    config_args='-ds -e -Dprefix=/opt/perl-5.22.3D -Duselongdouble -Dcf_email=srezic@cpan.org'
    hint=recommended, useposix=true, d_sigaction=define
    useithreads=undef, usemultiplicity=undef
    use64bitint=define, use64bitall=define, uselongdouble=define
    usemymalloc=n, bincompat5005=undef
  Compiler:
    cc='cc', ccflags ='-fwrapv -fno-strict-aliasing -pipe -fstack-protector-strong -I/usr/local/include -D_LARGEFILE_SOURCE -D_FILE_OFFSET_BITS=64 -D_FORTIFY_SOURCE=2',
    optimize='-O2',
    cppflags='-fwrapv -fno-strict-aliasing -pipe -fstack-protector-strong -I/usr/local/include'
    ccversion='', gccversion='4.9.2', gccosandvers=''
    intsize=4, longsize=8, ptrsize=8, doublesize=8, byteorder=12345678, doublekind=3
    d_longlong=define, longlongsize=8, d_longdbl=define, longdblsize=16, longdblkind=3
    ivtype='long', ivsize=8, nvtype='long double', nvsize=16, Off_t='off_t', lseeksize=8
    alignbytes=16, prototype=define
  Linker and Libraries:
    ld='cc', ldflags =' -fstack-protector-strong -L/usr/local/lib'
    libpth=/usr/local/lib /usr/lib/gcc/x86_64-linux-gnu/4.9/include-fixed /usr/include/x86_64-linux-gnu /usr/lib /lib/x86_64-linux-gnu /lib/../lib /usr/lib/x86_64-linux-gnu /usr/lib/../lib /lib
    libs=-lpthread -lnsl -lgdbm -ldb -ldl -lm -lcrypt -lutil -lc -lgdbm_compat
    perllibs=-lpthread -lnsl -ldl -lm -lcrypt -lutil -lc
    libc=libc-2.19.so, so=so, useshrplib=false, libperl=libperl.a
    gnulibc_version='2.19'
  Dynamic Linking:
    dlsrc=dl_dlopen.xs, dlext=so, d_dlsymun=undef, ccdlflags='-Wl,-E'
    cccdlflags='-fPIC', lddlflags='-shared -O2 -L/usr/local/lib -fstack-protector-strong'


Characteristics of this binary (from libperl): 
  Compile-time options: HAS_TIMES PERLIO_LAYERS PERL_DONT_CREATE_GVSV
                        PERL_HASH_FUNC_ONE_AT_A_TIME_HARD PERL_MALLOC_WRAP
                        PERL_NEW_COPY_ON_WRITE PERL_PRESERVE_IVUV
                        USE_64_BIT_ALL USE_64_BIT_INT USE_LARGE_FILES
                        USE_LOCALE USE_LOCALE_COLLATE USE_LOCALE_CTYPE
                        USE_LOCALE_NUMERIC USE_LOCALE_TIME USE_LONG_DOUBLE
                        USE_PERLIO USE_PERL_ATOF
  Built under linux
  Compiled at Jun 27 2017 20:04:01
  %ENV:
    PERL5LIB="/home/cpansand/.cpan/build/2019073104/URI-Encode-v1.1.1-0/blib/arch:/home/cpansand/.cpan/build/2019073104/URI-Encode-v1.1.1-0/blib/lib:/home/cpansand/.cpan/build/2019073104/Data-Structure-Util-0.16-0/blib/arch:/home/cpansand/.cpan/build/2019073104/Data-Structure-Util-0.16-0/blib/lib:/home/cpansand/.cpan/build/2019073104/OOTools-2.41-0/blib/arch:/home/cpansand/.cpan/build/2019073104/OOTools-2.41-0/blib/lib:/home/cpansand/.cpan/build/2019073104/Regexp-Common-time-0.16-1/blib/arch:/home/cpansand/.cpan/build/2019073104/Regexp-Common-time-0.16-1/blib/lib:/home/cpansand/.cpan/build/2019073104/Test-Regexp-2017040101-0/blib/arch:/home/cpansand/.cpan/build/2019073104/Test-Regexp-2017040101-0/blib/lib:/home/cpansand/.cpan/build/2019073104/Regexp-Common-2017060201-0/blib/arch:/home/cpansand/.cpan/build/2019073104/Regexp-Common-2017060201-0/blib/lib:/home/cpansand/.cpan/build/2019073104/Modern-Perl-1.20190727-0/blib/arch:/home/cpansand/.cpan/build/2019073104/Modern-Perl-1.20190727-0/blib/lib"
    PERL5OPT=""
    PERL5_CPANPLUS_IS_RUNNING="15761"
    PERL5_CPAN_IS_RUNNING="15761"
    PERL5_CPAN_IS_RUNNING_IN_RECURSION="15201,15761"
    PERLDOC="-MPod::Perldoc::ToTextOverstrike"
    PERL_BATCH="yes"
    PERL_CANARY_STABILITY_NOPROMPT="1"
    PERL_CPAN_REPORTER_CONFIG="/var/tmp/cpansmoker-1023/2019073104/cpanreporter_000_config.ini"
    PERL_EXTUTILS_AUTOINSTALL="--defaultdeps"
    PERL_USE_UNSAFE_INC="1"
  @INC:
    /home/cpansand/.cpan/build/2019073104/URI-Encode-v1.1.1-0/blib/arch
    /home/cpansand/.cpan/build/2019073104/URI-Encode-v1.1.1-0/blib/lib
    /home/cpansand/.cpan/build/2019073104/Data-Structure-Util-0.16-0/blib/arch
    /home/cpansand/.cpan/build/2019073104/Data-Structure-Util-0.16-0/blib/lib
    /home/cpansand/.cpan/build/2019073104/OOTools-2.41-0/blib/arch
    /home/cpansand/.cpan/build/2019073104/OOTools-2.41-0/blib/lib
    /home/cpansand/.cpan/build/2019073104/Regexp-Common-time-0.16-1/blib/arch
    /home/cpansand/.cpan/build/2019073104/Regexp-Common-time-0.16-1/blib/lib
    /home/cpansand/.cpan/build/2019073104/Test-Regexp-2017040101-0/blib/arch
    /home/cpansand/.cpan/build/2019073104/Test-Regexp-2017040101-0/blib/lib
    /home/cpansand/.cpan/build/2019073104/Regexp-Common-2017060201-0/blib/arch
    /home/cpansand/.cpan/build/2019073104/Regexp-Common-2017060201-0/blib/lib
    /home/cpansand/.cpan/build/2019073104/Modern-Perl-1.20190727-0/blib/arch
    /home/cpansand/.cpan/build/2019073104/Modern-Perl-1.20190727-0/blib/lib
    /opt/perl-5.22.3D/lib/site_perl/5.22.3/x86_64-linux-ld
    /opt/perl-5.22.3D/lib/site_perl/5.22.3
    /opt/perl-5.22.3D/lib/5.22.3/x86_64-linux-ld
    /opt/perl-5.22.3D/lib/5.22.3
    .