Back
From: metabase:user:320bfe00-2aae-11df-837a-5e0a49663a4f
Subject: PASS MRS-Client-0.600100 v5.17.0 GNU/Linux
Date: 2012-07-03T20:56:40Z
This distribution has been tested as part of the CPAN Testers
project, supporting the Perl programming language. See
http://wiki.cpantesters.org/ for more information or email
questions to cpan-testers-discuss@perl.org
--
Dear Martin Senger,
This is a computer-generated report for MRS-Client-0.600100
on perl 5.17.0, created by CPAN-Reporter-1.2006.
Thank you for uploading your work to CPAN. Congratulations!
All tests were successful.
Sections of this report:
* Tester comments
* Program output
* Prerequisites
* Environment and other context
------------------------------
TESTER COMMENTS
------------------------------
Additional comments from tester:
this report is from an automated smoke testing program
and was not reviewed by a human for accuracy
------------------------------
PROGRAM OUTPUT
------------------------------
Output from '/usr/bin/make test':
PERL_DL_NONLAZY=1 /mnt/k75/homesand/src/perl/repoperls/installed-perls/perl/v5.17.0-328-g1b60576/a2da/bin/perl "-MExtUtils::Command::MM" "-e" "test_harness(0, 'blib/lib', 'blib/arch')" t/*.t
Unescaped left brace in regex is deprecated, passed through in regex; marked by <-- HERE in m/\${ <-- HERE JOBID}/ at lib/MRS/Client/Blast.pm line 405.
Unescaped left brace in regex is deprecated, passed through in regex; marked by <-- HERE in m/\${ <-- HERE SEQDESC}/ at lib/MRS/Client/Blast.pm line 407.
Unescaped left brace in regex is deprecated, passed through in regex; marked by <-- HERE in m/\${ <-- HERE SEQDESC}/ at lib/MRS/Client/Blast.pm line 409.
Unescaped left brace in regex is deprecated, passed through in regex; marked by <-- HERE in m/\${ <-- HERE SEQDESC}/ at lib/MRS/Client/Blast.pm line 411.
Unescaped left brace in regex is deprecated, passed through in regex; marked by <-- HERE in m/\${ <-- HERE DB}/ at lib/MRS/Client/Blast.pm line 413.
Unescaped left brace in regex is deprecated, passed through in regex; marked by <-- HERE in m/\${ <-- HERE SEQLEN}/ at lib/MRS/Client/Blast.pm line 414.
Unescaped left brace in regex is deprecated, passed through in regex; marked by <-- HERE in m/\${ <-- HERE PARMATRIX}/ at lib/MRS/Client/Blast.pm line 415.
Unescaped left brace in regex is deprecated, passed through in regex; marked by <-- HERE in m/\${ <-- HERE PAREXPECT}/ at lib/MRS/Client/Blast.pm line 416.
Unescaped left brace in regex is deprecated, passed through in regex; marked by <-- HERE in m/\${ <-- HERE PARGAPOPEN}/ at lib/MRS/Client/Blast.pm line 417.
Unescaped left brace in regex is deprecated, passed through in regex; marked by <-- HERE in m/\${ <-- HERE PARGAPEXTEND}/ at lib/MRS/Client/Blast.pm line 418.
Unescaped left brace in regex is deprecated, passed through in regex; marked by <-- HERE in m/\${ <-- HERE PARFILTER}/ at lib/MRS/Client/Blast.pm line 419.
Unescaped left brace in regex is deprecated, passed through in regex; marked by <-- HERE in m/\${ <-- HERE DBCOUNT}/ at lib/MRS/Client/Blast.pm line 421.
Unescaped left brace in regex is deprecated, passed through in regex; marked by <-- HERE in m/\${ <-- HERE DBLENGTH}/ at lib/MRS/Client/Blast.pm line 422.
Unescaped left brace in regex is deprecated, passed through in regex; marked by <-- HERE in m/\${ <-- HERE DBSPACE}/ at lib/MRS/Client/Blast.pm line 423.
Unescaped left brace in regex is deprecated, passed through in regex; marked by <-- HERE in m/\${ <-- HERE KAPPA}/ at lib/MRS/Client/Blast.pm line 424.
Unescaped left brace in regex is deprecated, passed through in regex; marked by <-- HERE in m/\${ <-- HERE LAMBDA}/ at lib/MRS/Client/Blast.pm line 425.
Unescaped left brace in regex is deprecated, passed through in regex; marked by <-- HERE in m/\${ <-- HERE ENTROPY}/ at lib/MRS/Client/Blast.pm line 426.
Unescaped left brace in regex is deprecated, passed through in regex; marked by <-- HERE in m/\${ <-- HERE HITNR}/ at lib/MRS/Client/Blast.pm line 435.
Unescaped left brace in regex is deprecated, passed through in regex; marked by <-- HERE in m/\${ <-- HERE HITID}/ at lib/MRS/Client/Blast.pm line 436.
Unescaped left brace in regex is deprecated, passed through in regex; marked by <-- HERE in m/\${ <-- HERE HITSEQID}/ at lib/MRS/Client/Blast.pm line 438.
Unescaped left brace in regex is deprecated, passed through in regex; marked by <-- HERE in m/\${ <-- HERE HITSEQID}/ at lib/MRS/Client/Blast.pm line 440.
Unescaped left brace in regex is deprecated, passed through in regex; marked by <-- HERE in m/\${ <-- HERE HITSUBLEN}/ at lib/MRS/Client/Blast.pm line 443.
Unescaped left brace in regex is deprecated, passed through in regex; marked by <-- HERE in m/\${ <-- HERE HSPNR}/ at lib/MRS/Client/Blast.pm line 452.
Unescaped left brace in regex is deprecated, passed through in regex; marked by <-- HERE in m/\${ <-- HERE HSPBITSCORE}/ at lib/MRS/Client/Blast.pm line 453.
Unescaped left brace in regex is deprecated, passed through in regex; marked by <-- HERE in m/\${ <-- HERE HSPSCORE}/ at lib/MRS/Client/Blast.pm line 454.
Unescaped left brace in regex is deprecated, passed through in regex; marked by <-- HERE in m/\${ <-- HERE HSPEXPECT}/ at lib/MRS/Client/Blast.pm line 455.
Unescaped left brace in regex is deprecated, passed through in regex; marked by <-- HERE in m/\${ <-- HERE HSPIDENTITY}/ at lib/MRS/Client/Blast.pm line 456.
Unescaped left brace in regex is deprecated, passed through in regex; marked by <-- HERE in m/\${ <-- HERE HSPPOSITIVE}/ at lib/MRS/Client/Blast.pm line 457.
Unescaped left brace in regex is deprecated, passed through in regex; marked by <-- HERE in m/\${ <-- HERE HSPMIDLINE}/ at lib/MRS/Client/Blast.pm line 458.
Unescaped left brace in regex is deprecated, passed through in regex; marked by <-- HERE in m/\${ <-- HERE HSPQFROM}/ at lib/MRS/Client/Blast.pm line 480.
Unescaped left brace in regex is deprecated, passed through in regex; marked by <-- HERE in m/\${ <-- HERE HSPQTO}/ at lib/MRS/Client/Blast.pm line 481.
Unescaped left brace in regex is deprecated, passed through in regex; marked by <-- HERE in m/\${ <-- HERE HSPHFROM}/ at lib/MRS/Client/Blast.pm line 482.
Unescaped left brace in regex is deprecated, passed through in regex; marked by <-- HERE in m/\${ <-- HERE HSPHTO}/ at lib/MRS/Client/Blast.pm line 483.
Unescaped left brace in regex is deprecated, passed through in regex; marked by <-- HERE in m/\${ <-- HERE HSPALIGNLEN}/ at lib/MRS/Client/Blast.pm line 484.
Unescaped left brace in regex is deprecated, passed through in regex; marked by <-- HERE in m/\${ <-- HERE HSPQALIGN}/ at lib/MRS/Client/Blast.pm line 485.
Unescaped left brace in regex is deprecated, passed through in regex; marked by <-- HERE in m/\${ <-- HERE HSPSUBALIGN}/ at lib/MRS/Client/Blast.pm line 486.
Unescaped left brace in regex is deprecated, passed through in regex; marked by <-- HERE in m/\${ <-- HERE LOCATION}/ at lib/MRS/Client.pm line 202.
Unescaped left brace in regex is deprecated, passed through in regex; marked by <-- HERE in m/\${ <-- HERE SERVICE}/ at lib/MRS/Client.pm line 203.
Unescaped left brace in regex is deprecated, passed through in regex; marked by <-- HERE in m/\${ <-- HERE JOBID}/ at lib/MRS/Client/Blast.pm line 405.
Unescaped left brace in regex is deprecated, passed through in regex; marked by <-- HERE in m/\${ <-- HERE SEQDESC}/ at lib/MRS/Client/Blast.pm line 407.
Unescaped left brace in regex is deprecated, passed through in regex; marked by <-- HERE in m/\${ <-- HERE SEQDESC}/ at lib/MRS/Client/Blast.pm line 409.
Unescaped left brace in regex is deprecated, passed through in regex; marked by <-- HERE in m/\${ <-- HERE SEQDESC}/ at lib/MRS/Client/Blast.pm line 411.
Unescaped left brace in regex is deprecated, passed through in regex; marked by <-- HERE in m/\${ <-- HERE DB}/ at lib/MRS/Client/Blast.pm line 413.
Unescaped left brace in regex is deprecated, passed through in regex; marked by <-- HERE in m/\${ <-- HERE SEQLEN}/ at lib/MRS/Client/Blast.pm line 414.
Unescaped left brace in regex is deprecated, passed through in regex; marked by <-- HERE in m/\${ <-- HERE PARMATRIX}/ at lib/MRS/Client/Blast.pm line 415.
Unescaped left brace in regex is deprecated, passed through in regex; marked by <-- HERE in m/\${ <-- HERE PAREXPECT}/ at lib/MRS/Client/Blast.pm line 416.
Unescaped left brace in regex is deprecated, passed through in regex; marked by <-- HERE in m/\${ <-- HERE PARGAPOPEN}/ at lib/MRS/Client/Blast.pm line 417.
Unescaped left brace in regex is deprecated, passed through in regex; marked by <-- HERE in m/\${ <-- HERE PARGAPEXTEND}/ at lib/MRS/Client/Blast.pm line 418.
Unescaped left brace in regex is deprecated, passed through in regex; marked by <-- HERE in m/\${ <-- HERE PARFILTER}/ at lib/MRS/Client/Blast.pm line 419.
Unescaped left brace in regex is deprecated, passed through in regex; marked by <-- HERE in m/\${ <-- HERE DBCOUNT}/ at lib/MRS/Client/Blast.pm line 421.
Unescaped left brace in regex is deprecated, passed through in regex; marked by <-- HERE in m/\${ <-- HERE DBLENGTH}/ at lib/MRS/Client/Blast.pm line 422.
Unescaped left brace in regex is deprecated, passed through in regex; marked by <-- HERE in m/\${ <-- HERE DBSPACE}/ at lib/MRS/Client/Blast.pm line 423.
Unescaped left brace in regex is deprecated, passed through in regex; marked by <-- HERE in m/\${ <-- HERE KAPPA}/ at lib/MRS/Client/Blast.pm line 424.
Unescaped left brace in regex is deprecated, passed through in regex; marked by <-- HERE in m/\${ <-- HERE LAMBDA}/ at lib/MRS/Client/Blast.pm line 425.
Unescaped left brace in regex is deprecated, passed through in regex; marked by <-- HERE in m/\${ <-- HERE ENTROPY}/ at lib/MRS/Client/Blast.pm line 426.
Unescaped left brace in regex is deprecated, passed through in regex; marked by <-- HERE in m/\${ <-- HERE HITNR}/ at lib/MRS/Client/Blast.pm line 435.
Unescaped left brace in regex is deprecated, passed through in regex; marked by <-- HERE in m/\${ <-- HERE HITID}/ at lib/MRS/Client/Blast.pm line 436.
Unescaped left brace in regex is deprecated, passed through in regex; marked by <-- HERE in m/\${ <-- HERE HITSEQID}/ at lib/MRS/Client/Blast.pm line 438.
Unescaped left brace in regex is deprecated, passed through in regex; marked by <-- HERE in m/\${ <-- HERE HITSEQID}/ at lib/MRS/Client/Blast.pm line 440.
Unescaped left brace in regex is deprecated, passed through in regex; marked by <-- HERE in m/\${ <-- HERE HITSUBLEN}/ at lib/MRS/Client/Blast.pm line 443.
Unescaped left brace in regex is deprecated, passed through in regex; marked by <-- HERE in m/\${ <-- HERE HSPNR}/ at lib/MRS/Client/Blast.pm line 452.
Unescaped left brace in regex is deprecated, passed through in regex; marked by <-- HERE in m/\${ <-- HERE HSPBITSCORE}/ at lib/MRS/Client/Blast.pm line 453.
Unescaped left brace in regex is deprecated, passed through in regex; marked by <-- HERE in m/\${ <-- HERE HSPSCORE}/ at lib/MRS/Client/Blast.pm line 454.
Unescaped left brace in regex is deprecated, passed through in regex; marked by <-- HERE in m/\${ <-- HERE HSPEXPECT}/ at lib/MRS/Client/Blast.pm line 455.
Unescaped left brace in regex is deprecated, passed through in regex; marked by <-- HERE in m/\${ <-- HERE HSPIDENTITY}/ at lib/MRS/Client/Blast.pm line 456.
Unescaped left brace in regex is deprecated, passed through in regex; marked by <-- HERE in m/\${ <-- HERE HSPPOSITIVE}/ at lib/MRS/Client/Blast.pm line 457.
Unescaped left brace in regex is deprecated, passed through in regex; marked by <-- HERE in m/\${ <-- HERE HSPMIDLINE}/ at lib/MRS/Client/Blast.pm line 458.
Unescaped left brace in regex is deprecated, passed through in regex; marked by <-- HERE in m/\${ <-- HERE HSPQFROM}/ at lib/MRS/Client/Blast.pm line 480.
Unescaped left brace in regex is deprecated, passed through in regex; marked by <-- HERE in m/\${ <-- HERE HSPQTO}/ at lib/MRS/Client/Blast.pm line 481.
Unescaped left brace in regex is deprecated, passed through in regex; marked by <-- HERE in m/\${ <-- HERE HSPHFROM}/ at lib/MRS/Client/Blast.pm line 482.
Unescaped left brace in regex is deprecated, passed through in regex; marked by <-- HERE in m/\${ <-- HERE HSPHTO}/ at lib/MRS/Client/Blast.pm line 483.
Unescaped left brace in regex is deprecated, passed through in regex; marked by <-- HERE in m/\${ <-- HERE HSPALIGNLEN}/ at lib/MRS/Client/Blast.pm line 484.
Unescaped left brace in regex is deprecated, passed through in regex; marked by <-- HERE in m/\${ <-- HERE HSPQALIGN}/ at lib/MRS/Client/Blast.pm line 485.
Unescaped left brace in regex is deprecated, passed through in regex; marked by <-- HERE in m/\${ <-- HERE HSPSUBALIGN}/ at lib/MRS/Client/Blast.pm line 486.
t/00-compile.t .......... ok
Unescaped left brace in regex is deprecated, passed through in regex; marked by <-- HERE in m/\${ <-- HERE JOBID}/ at /tmp/loop_over_bdir-oCOW1Z/MRS-Client-0.600100-B5MtkQ/blib/lib/MRS/Client/Blast.pm line 405.
Unescaped left brace in regex is deprecated, passed through in regex; marked by <-- HERE in m/\${ <-- HERE SEQDESC}/ at /tmp/loop_over_bdir-oCOW1Z/MRS-Client-0.600100-B5MtkQ/blib/lib/MRS/Client/Blast.pm line 407.
Unescaped left brace in regex is deprecated, passed through in regex; marked by <-- HERE in m/\${ <-- HERE SEQDESC}/ at /tmp/loop_over_bdir-oCOW1Z/MRS-Client-0.600100-B5MtkQ/blib/lib/MRS/Client/Blast.pm line 409.
Unescaped left brace in regex is deprecated, passed through in regex; marked by <-- HERE in m/\${ <-- HERE SEQDESC}/ at /tmp/loop_over_bdir-oCOW1Z/MRS-Client-0.600100-B5MtkQ/blib/lib/MRS/Client/Blast.pm line 411.
Unescaped left brace in regex is deprecated, passed through in regex; marked by <-- HERE in m/\${ <-- HERE DB}/ at /tmp/loop_over_bdir-oCOW1Z/MRS-Client-0.600100-B5MtkQ/blib/lib/MRS/Client/Blast.pm line 413.
Unescaped left brace in regex is deprecated, passed through in regex; marked by <-- HERE in m/\${ <-- HERE SEQLEN}/ at /tmp/loop_over_bdir-oCOW1Z/MRS-Client-0.600100-B5MtkQ/blib/lib/MRS/Client/Blast.pm line 414.
Unescaped left brace in regex is deprecated, passed through in regex; marked by <-- HERE in m/\${ <-- HERE PARMATRIX}/ at /tmp/loop_over_bdir-oCOW1Z/MRS-Client-0.600100-B5MtkQ/blib/lib/MRS/Client/Blast.pm line 415.
Unescaped left brace in regex is deprecated, passed through in regex; marked by <-- HERE in m/\${ <-- HERE PAREXPECT}/ at /tmp/loop_over_bdir-oCOW1Z/MRS-Client-0.600100-B5MtkQ/blib/lib/MRS/Client/Blast.pm line 416.
Unescaped left brace in regex is deprecated, passed through in regex; marked by <-- HERE in m/\${ <-- HERE PARGAPOPEN}/ at /tmp/loop_over_bdir-oCOW1Z/MRS-Client-0.600100-B5MtkQ/blib/lib/MRS/Client/Blast.pm line 417.
Unescaped left brace in regex is deprecated, passed through in regex; marked by <-- HERE in m/\${ <-- HERE PARGAPEXTEND}/ at /tmp/loop_over_bdir-oCOW1Z/MRS-Client-0.600100-B5MtkQ/blib/lib/MRS/Client/Blast.pm line 418.
Unescaped left brace in regex is deprecated, passed through in regex; marked by <-- HERE in m/\${ <-- HERE PARFILTER}/ at /tmp/loop_over_bdir-oCOW1Z/MRS-Client-0.600100-B5MtkQ/blib/lib/MRS/Client/Blast.pm line 419.
Unescaped left brace in regex is deprecated, passed through in regex; marked by <-- HERE in m/\${ <-- HERE DBCOUNT}/ at /tmp/loop_over_bdir-oCOW1Z/MRS-Client-0.600100-B5MtkQ/blib/lib/MRS/Client/Blast.pm line 421.
Unescaped left brace in regex is deprecated, passed through in regex; marked by <-- HERE in m/\${ <-- HERE DBLENGTH}/ at /tmp/loop_over_bdir-oCOW1Z/MRS-Client-0.600100-B5MtkQ/blib/lib/MRS/Client/Blast.pm line 422.
Unescaped left brace in regex is deprecated, passed through in regex; marked by <-- HERE in m/\${ <-- HERE DBSPACE}/ at /tmp/loop_over_bdir-oCOW1Z/MRS-Client-0.600100-B5MtkQ/blib/lib/MRS/Client/Blast.pm line 423.
Unescaped left brace in regex is deprecated, passed through in regex; marked by <-- HERE in m/\${ <-- HERE KAPPA}/ at /tmp/loop_over_bdir-oCOW1Z/MRS-Client-0.600100-B5MtkQ/blib/lib/MRS/Client/Blast.pm line 424.
Unescaped left brace in regex is deprecated, passed through in regex; marked by <-- HERE in m/\${ <-- HERE LAMBDA}/ at /tmp/loop_over_bdir-oCOW1Z/MRS-Client-0.600100-B5MtkQ/blib/lib/MRS/Client/Blast.pm line 425.
Unescaped left brace in regex is deprecated, passed through in regex; marked by <-- HERE in m/\${ <-- HERE ENTROPY}/ at /tmp/loop_over_bdir-oCOW1Z/MRS-Client-0.600100-B5MtkQ/blib/lib/MRS/Client/Blast.pm line 426.
Unescaped left brace in regex is deprecated, passed through in regex; marked by <-- HERE in m/\${ <-- HERE HITNR}/ at /tmp/loop_over_bdir-oCOW1Z/MRS-Client-0.600100-B5MtkQ/blib/lib/MRS/Client/Blast.pm line 435.
Unescaped left brace in regex is deprecated, passed through in regex; marked by <-- HERE in m/\${ <-- HERE HITID}/ at /tmp/loop_over_bdir-oCOW1Z/MRS-Client-0.600100-B5MtkQ/blib/lib/MRS/Client/Blast.pm line 436.
Unescaped left brace in regex is deprecated, passed through in regex; marked by <-- HERE in m/\${ <-- HERE HITSEQID}/ at /tmp/loop_over_bdir-oCOW1Z/MRS-Client-0.600100-B5MtkQ/blib/lib/MRS/Client/Blast.pm line 438.
Unescaped left brace in regex is deprecated, passed through in regex; marked by <-- HERE in m/\${ <-- HERE HITSEQID}/ at /tmp/loop_over_bdir-oCOW1Z/MRS-Client-0.600100-B5MtkQ/blib/lib/MRS/Client/Blast.pm line 440.
Unescaped left brace in regex is deprecated, passed through in regex; marked by <-- HERE in m/\${ <-- HERE HITSUBLEN}/ at /tmp/loop_over_bdir-oCOW1Z/MRS-Client-0.600100-B5MtkQ/blib/lib/MRS/Client/Blast.pm line 443.
Unescaped left brace in regex is deprecated, passed through in regex; marked by <-- HERE in m/\${ <-- HERE HSPNR}/ at /tmp/loop_over_bdir-oCOW1Z/MRS-Client-0.600100-B5MtkQ/blib/lib/MRS/Client/Blast.pm line 452.
Unescaped left brace in regex is deprecated, passed through in regex; marked by <-- HERE in m/\${ <-- HERE HSPBITSCORE}/ at /tmp/loop_over_bdir-oCOW1Z/MRS-Client-0.600100-B5MtkQ/blib/lib/MRS/Client/Blast.pm line 453.
Unescaped left brace in regex is deprecated, passed through in regex; marked by <-- HERE in m/\${ <-- HERE HSPSCORE}/ at /tmp/loop_over_bdir-oCOW1Z/MRS-Client-0.600100-B5MtkQ/blib/lib/MRS/Client/Blast.pm line 454.
Unescaped left brace in regex is deprecated, passed through in regex; marked by <-- HERE in m/\${ <-- HERE HSPEXPECT}/ at /tmp/loop_over_bdir-oCOW1Z/MRS-Client-0.600100-B5MtkQ/blib/lib/MRS/Client/Blast.pm line 455.
Unescaped left brace in regex is deprecated, passed through in regex; marked by <-- HERE in m/\${ <-- HERE HSPIDENTITY}/ at /tmp/loop_over_bdir-oCOW1Z/MRS-Client-0.600100-B5MtkQ/blib/lib/MRS/Client/Blast.pm line 456.
Unescaped left brace in regex is deprecated, passed through in regex; marked by <-- HERE in m/\${ <-- HERE HSPPOSITIVE}/ at /tmp/loop_over_bdir-oCOW1Z/MRS-Client-0.600100-B5MtkQ/blib/lib/MRS/Client/Blast.pm line 457.
Unescaped left brace in regex is deprecated, passed through in regex; marked by <-- HERE in m/\${ <-- HERE HSPMIDLINE}/ at /tmp/loop_over_bdir-oCOW1Z/MRS-Client-0.600100-B5MtkQ/blib/lib/MRS/Client/Blast.pm line 458.
Unescaped left brace in regex is deprecated, passed through in regex; marked by <-- HERE in m/\${ <-- HERE HSPQFROM}/ at /tmp/loop_over_bdir-oCOW1Z/MRS-Client-0.600100-B5MtkQ/blib/lib/MRS/Client/Blast.pm line 480.
Unescaped left brace in regex is deprecated, passed through in regex; marked by <-- HERE in m/\${ <-- HERE HSPQTO}/ at /tmp/loop_over_bdir-oCOW1Z/MRS-Client-0.600100-B5MtkQ/blib/lib/MRS/Client/Blast.pm line 481.
Unescaped left brace in regex is deprecated, passed through in regex; marked by <-- HERE in m/\${ <-- HERE HSPHFROM}/ at /tmp/loop_over_bdir-oCOW1Z/MRS-Client-0.600100-B5MtkQ/blib/lib/MRS/Client/Blast.pm line 482.
Unescaped left brace in regex is deprecated, passed through in regex; marked by <-- HERE in m/\${ <-- HERE HSPHTO}/ at /tmp/loop_over_bdir-oCOW1Z/MRS-Client-0.600100-B5MtkQ/blib/lib/MRS/Client/Blast.pm line 483.
Unescaped left brace in regex is deprecated, passed through in regex; marked by <-- HERE in m/\${ <-- HERE HSPALIGNLEN}/ at /tmp/loop_over_bdir-oCOW1Z/MRS-Client-0.600100-B5MtkQ/blib/lib/MRS/Client/Blast.pm line 484.
Unescaped left brace in regex is deprecated, passed through in regex; marked by <-- HERE in m/\${ <-- HERE HSPQALIGN}/ at /tmp/loop_over_bdir-oCOW1Z/MRS-Client-0.600100-B5MtkQ/blib/lib/MRS/Client/Blast.pm line 485.
Unescaped left brace in regex is deprecated, passed through in regex; marked by <-- HERE in m/\${ <-- HERE HSPSUBALIGN}/ at /tmp/loop_over_bdir-oCOW1Z/MRS-Client-0.600100-B5MtkQ/blib/lib/MRS/Client/Blast.pm line 486.
Unescaped left brace in regex is deprecated, passed through in regex; marked by <-- HERE in m/\${ <-- HERE LOCATION}/ at /tmp/loop_over_bdir-oCOW1Z/MRS-Client-0.600100-B5MtkQ/blib/lib/MRS/Client.pm line 202.
Unescaped left brace in regex is deprecated, passed through in regex; marked by <-- HERE in m/\${ <-- HERE SERVICE}/ at /tmp/loop_over_bdir-oCOW1Z/MRS-Client-0.600100-B5MtkQ/blib/lib/MRS/Client.pm line 203.
# Testing MRS::Client 0.600100, Perl v5.17.0, /mnt/k75/homesand/src/perl/repoperls/installed-perls/perl/v5.17.0-328-g1b60576/a2da/bin/perl
t/00-load.t ............. ok
Unescaped left brace in regex is deprecated, passed through in regex; marked by <-- HERE in m/\${ <-- HERE JOBID}/ at /tmp/loop_over_bdir-oCOW1Z/MRS-Client-0.600100-B5MtkQ/blib/lib/MRS/Client/Blast.pm line 405.
Unescaped left brace in regex is deprecated, passed through in regex; marked by <-- HERE in m/\${ <-- HERE SEQDESC}/ at /tmp/loop_over_bdir-oCOW1Z/MRS-Client-0.600100-B5MtkQ/blib/lib/MRS/Client/Blast.pm line 407.
Unescaped left brace in regex is deprecated, passed through in regex; marked by <-- HERE in m/\${ <-- HERE SEQDESC}/ at /tmp/loop_over_bdir-oCOW1Z/MRS-Client-0.600100-B5MtkQ/blib/lib/MRS/Client/Blast.pm line 409.
Unescaped left brace in regex is deprecated, passed through in regex; marked by <-- HERE in m/\${ <-- HERE SEQDESC}/ at /tmp/loop_over_bdir-oCOW1Z/MRS-Client-0.600100-B5MtkQ/blib/lib/MRS/Client/Blast.pm line 411.
Unescaped left brace in regex is deprecated, passed through in regex; marked by <-- HERE in m/\${ <-- HERE DB}/ at /tmp/loop_over_bdir-oCOW1Z/MRS-Client-0.600100-B5MtkQ/blib/lib/MRS/Client/Blast.pm line 413.
Unescaped left brace in regex is deprecated, passed through in regex; marked by <-- HERE in m/\${ <-- HERE SEQLEN}/ at /tmp/loop_over_bdir-oCOW1Z/MRS-Client-0.600100-B5MtkQ/blib/lib/MRS/Client/Blast.pm line 414.
Unescaped left brace in regex is deprecated, passed through in regex; marked by <-- HERE in m/\${ <-- HERE PARMATRIX}/ at /tmp/loop_over_bdir-oCOW1Z/MRS-Client-0.600100-B5MtkQ/blib/lib/MRS/Client/Blast.pm line 415.
Unescaped left brace in regex is deprecated, passed through in regex; marked by <-- HERE in m/\${ <-- HERE PAREXPECT}/ at /tmp/loop_over_bdir-oCOW1Z/MRS-Client-0.600100-B5MtkQ/blib/lib/MRS/Client/Blast.pm line 416.
Unescaped left brace in regex is deprecated, passed through in regex; marked by <-- HERE in m/\${ <-- HERE PARGAPOPEN}/ at /tmp/loop_over_bdir-oCOW1Z/MRS-Client-0.600100-B5MtkQ/blib/lib/MRS/Client/Blast.pm line 417.
Unescaped left brace in regex is deprecated, passed through in regex; marked by <-- HERE in m/\${ <-- HERE PARGAPEXTEND}/ at /tmp/loop_over_bdir-oCOW1Z/MRS-Client-0.600100-B5MtkQ/blib/lib/MRS/Client/Blast.pm line 418.
Unescaped left brace in regex is deprecated, passed through in regex; marked by <-- HERE in m/\${ <-- HERE PARFILTER}/ at /tmp/loop_over_bdir-oCOW1Z/MRS-Client-0.600100-B5MtkQ/blib/lib/MRS/Client/Blast.pm line 419.
Unescaped left brace in regex is deprecated, passed through in regex; marked by <-- HERE in m/\${ <-- HERE DBCOUNT}/ at /tmp/loop_over_bdir-oCOW1Z/MRS-Client-0.600100-B5MtkQ/blib/lib/MRS/Client/Blast.pm line 421.
Unescaped left brace in regex is deprecated, passed through in regex; marked by <-- HERE in m/\${ <-- HERE DBLENGTH}/ at /tmp/loop_over_bdir-oCOW1Z/MRS-Client-0.600100-B5MtkQ/blib/lib/MRS/Client/Blast.pm line 422.
Unescaped left brace in regex is deprecated, passed through in regex; marked by <-- HERE in m/\${ <-- HERE DBSPACE}/ at /tmp/loop_over_bdir-oCOW1Z/MRS-Client-0.600100-B5MtkQ/blib/lib/MRS/Client/Blast.pm line 423.
Unescaped left brace in regex is deprecated, passed through in regex; marked by <-- HERE in m/\${ <-- HERE KAPPA}/ at /tmp/loop_over_bdir-oCOW1Z/MRS-Client-0.600100-B5MtkQ/blib/lib/MRS/Client/Blast.pm line 424.
Unescaped left brace in regex is deprecated, passed through in regex; marked by <-- HERE in m/\${ <-- HERE LAMBDA}/ at /tmp/loop_over_bdir-oCOW1Z/MRS-Client-0.600100-B5MtkQ/blib/lib/MRS/Client/Blast.pm line 425.
Unescaped left brace in regex is deprecated, passed through in regex; marked by <-- HERE in m/\${ <-- HERE ENTROPY}/ at /tmp/loop_over_bdir-oCOW1Z/MRS-Client-0.600100-B5MtkQ/blib/lib/MRS/Client/Blast.pm line 426.
Unescaped left brace in regex is deprecated, passed through in regex; marked by <-- HERE in m/\${ <-- HERE HITNR}/ at /tmp/loop_over_bdir-oCOW1Z/MRS-Client-0.600100-B5MtkQ/blib/lib/MRS/Client/Blast.pm line 435.
Unescaped left brace in regex is deprecated, passed through in regex; marked by <-- HERE in m/\${ <-- HERE HITID}/ at /tmp/loop_over_bdir-oCOW1Z/MRS-Client-0.600100-B5MtkQ/blib/lib/MRS/Client/Blast.pm line 436.
Unescaped left brace in regex is deprecated, passed through in regex; marked by <-- HERE in m/\${ <-- HERE HITSEQID}/ at /tmp/loop_over_bdir-oCOW1Z/MRS-Client-0.600100-B5MtkQ/blib/lib/MRS/Client/Blast.pm line 438.
Unescaped left brace in regex is deprecated, passed through in regex; marked by <-- HERE in m/\${ <-- HERE HITSEQID}/ at /tmp/loop_over_bdir-oCOW1Z/MRS-Client-0.600100-B5MtkQ/blib/lib/MRS/Client/Blast.pm line 440.
Unescaped left brace in regex is deprecated, passed through in regex; marked by <-- HERE in m/\${ <-- HERE HITSUBLEN}/ at /tmp/loop_over_bdir-oCOW1Z/MRS-Client-0.600100-B5MtkQ/blib/lib/MRS/Client/Blast.pm line 443.
Unescaped left brace in regex is deprecated, passed through in regex; marked by <-- HERE in m/\${ <-- HERE HSPNR}/ at /tmp/loop_over_bdir-oCOW1Z/MRS-Client-0.600100-B5MtkQ/blib/lib/MRS/Client/Blast.pm line 452.
Unescaped left brace in regex is deprecated, passed through in regex; marked by <-- HERE in m/\${ <-- HERE HSPBITSCORE}/ at /tmp/loop_over_bdir-oCOW1Z/MRS-Client-0.600100-B5MtkQ/blib/lib/MRS/Client/Blast.pm line 453.
Unescaped left brace in regex is deprecated, passed through in regex; marked by <-- HERE in m/\${ <-- HERE HSPSCORE}/ at /tmp/loop_over_bdir-oCOW1Z/MRS-Client-0.600100-B5MtkQ/blib/lib/MRS/Client/Blast.pm line 454.
Unescaped left brace in regex is deprecated, passed through in regex; marked by <-- HERE in m/\${ <-- HERE HSPEXPECT}/ at /tmp/loop_over_bdir-oCOW1Z/MRS-Client-0.600100-B5MtkQ/blib/lib/MRS/Client/Blast.pm line 455.
Unescaped left brace in regex is deprecated, passed through in regex; marked by <-- HERE in m/\${ <-- HERE HSPIDENTITY}/ at /tmp/loop_over_bdir-oCOW1Z/MRS-Client-0.600100-B5MtkQ/blib/lib/MRS/Client/Blast.pm line 456.
Unescaped left brace in regex is deprecated, passed through in regex; marked by <-- HERE in m/\${ <-- HERE HSPPOSITIVE}/ at /tmp/loop_over_bdir-oCOW1Z/MRS-Client-0.600100-B5MtkQ/blib/lib/MRS/Client/Blast.pm line 457.
Unescaped left brace in regex is deprecated, passed through in regex; marked by <-- HERE in m/\${ <-- HERE HSPMIDLINE}/ at /tmp/loop_over_bdir-oCOW1Z/MRS-Client-0.600100-B5MtkQ/blib/lib/MRS/Client/Blast.pm line 458.
Unescaped left brace in regex is deprecated, passed through in regex; marked by <-- HERE in m/\${ <-- HERE HSPQFROM}/ at /tmp/loop_over_bdir-oCOW1Z/MRS-Client-0.600100-B5MtkQ/blib/lib/MRS/Client/Blast.pm line 480.
Unescaped left brace in regex is deprecated, passed through in regex; marked by <-- HERE in m/\${ <-- HERE HSPQTO}/ at /tmp/loop_over_bdir-oCOW1Z/MRS-Client-0.600100-B5MtkQ/blib/lib/MRS/Client/Blast.pm line 481.
Unescaped left brace in regex is deprecated, passed through in regex; marked by <-- HERE in m/\${ <-- HERE HSPHFROM}/ at /tmp/loop_over_bdir-oCOW1Z/MRS-Client-0.600100-B5MtkQ/blib/lib/MRS/Client/Blast.pm line 482.
Unescaped left brace in regex is deprecated, passed through in regex; marked by <-- HERE in m/\${ <-- HERE HSPHTO}/ at /tmp/loop_over_bdir-oCOW1Z/MRS-Client-0.600100-B5MtkQ/blib/lib/MRS/Client/Blast.pm line 483.
Unescaped left brace in regex is deprecated, passed through in regex; marked by <-- HERE in m/\${ <-- HERE HSPALIGNLEN}/ at /tmp/loop_over_bdir-oCOW1Z/MRS-Client-0.600100-B5MtkQ/blib/lib/MRS/Client/Blast.pm line 484.
Unescaped left brace in regex is deprecated, passed through in regex; marked by <-- HERE in m/\${ <-- HERE HSPQALIGN}/ at /tmp/loop_over_bdir-oCOW1Z/MRS-Client-0.600100-B5MtkQ/blib/lib/MRS/Client/Blast.pm line 485.
Unescaped left brace in regex is deprecated, passed through in regex; marked by <-- HERE in m/\${ <-- HERE HSPSUBALIGN}/ at /tmp/loop_over_bdir-oCOW1Z/MRS-Client-0.600100-B5MtkQ/blib/lib/MRS/Client/Blast.pm line 486.
Unescaped left brace in regex is deprecated, passed through in regex; marked by <-- HERE in m/\${ <-- HERE LOCATION}/ at /tmp/loop_over_bdir-oCOW1Z/MRS-Client-0.600100-B5MtkQ/blib/lib/MRS/Client.pm line 202.
Unescaped left brace in regex is deprecated, passed through in regex; marked by <-- HERE in m/\${ <-- HERE SERVICE}/ at /tmp/loop_over_bdir-oCOW1Z/MRS-Client-0.600100-B5MtkQ/blib/lib/MRS/Client.pm line 203.
# Data manipulation
t/01-data.t ............. ok
Unescaped left brace in regex is deprecated, passed through in regex; marked by <-- HERE in m/\${ <-- HERE JOBID}/ at /tmp/loop_over_bdir-oCOW1Z/MRS-Client-0.600100-B5MtkQ/blib/lib/MRS/Client/Blast.pm line 405.
Unescaped left brace in regex is deprecated, passed through in regex; marked by <-- HERE in m/\${ <-- HERE SEQDESC}/ at /tmp/loop_over_bdir-oCOW1Z/MRS-Client-0.600100-B5MtkQ/blib/lib/MRS/Client/Blast.pm line 407.
Unescaped left brace in regex is deprecated, passed through in regex; marked by <-- HERE in m/\${ <-- HERE SEQDESC}/ at /tmp/loop_over_bdir-oCOW1Z/MRS-Client-0.600100-B5MtkQ/blib/lib/MRS/Client/Blast.pm line 409.
Unescaped left brace in regex is deprecated, passed through in regex; marked by <-- HERE in m/\${ <-- HERE SEQDESC}/ at /tmp/loop_over_bdir-oCOW1Z/MRS-Client-0.600100-B5MtkQ/blib/lib/MRS/Client/Blast.pm line 411.
Unescaped left brace in regex is deprecated, passed through in regex; marked by <-- HERE in m/\${ <-- HERE DB}/ at /tmp/loop_over_bdir-oCOW1Z/MRS-Client-0.600100-B5MtkQ/blib/lib/MRS/Client/Blast.pm line 413.
Unescaped left brace in regex is deprecated, passed through in regex; marked by <-- HERE in m/\${ <-- HERE SEQLEN}/ at /tmp/loop_over_bdir-oCOW1Z/MRS-Client-0.600100-B5MtkQ/blib/lib/MRS/Client/Blast.pm line 414.
Unescaped left brace in regex is deprecated, passed through in regex; marked by <-- HERE in m/\${ <-- HERE PARMATRIX}/ at /tmp/loop_over_bdir-oCOW1Z/MRS-Client-0.600100-B5MtkQ/blib/lib/MRS/Client/Blast.pm line 415.
Unescaped left brace in regex is deprecated, passed through in regex; marked by <-- HERE in m/\${ <-- HERE PAREXPECT}/ at /tmp/loop_over_bdir-oCOW1Z/MRS-Client-0.600100-B5MtkQ/blib/lib/MRS/Client/Blast.pm line 416.
Unescaped left brace in regex is deprecated, passed through in regex; marked by <-- HERE in m/\${ <-- HERE PARGAPOPEN}/ at /tmp/loop_over_bdir-oCOW1Z/MRS-Client-0.600100-B5MtkQ/blib/lib/MRS/Client/Blast.pm line 417.
Unescaped left brace in regex is deprecated, passed through in regex; marked by <-- HERE in m/\${ <-- HERE PARGAPEXTEND}/ at /tmp/loop_over_bdir-oCOW1Z/MRS-Client-0.600100-B5MtkQ/blib/lib/MRS/Client/Blast.pm line 418.
Unescaped left brace in regex is deprecated, passed through in regex; marked by <-- HERE in m/\${ <-- HERE PARFILTER}/ at /tmp/loop_over_bdir-oCOW1Z/MRS-Client-0.600100-B5MtkQ/blib/lib/MRS/Client/Blast.pm line 419.
Unescaped left brace in regex is deprecated, passed through in regex; marked by <-- HERE in m/\${ <-- HERE DBCOUNT}/ at /tmp/loop_over_bdir-oCOW1Z/MRS-Client-0.600100-B5MtkQ/blib/lib/MRS/Client/Blast.pm line 421.
Unescaped left brace in regex is deprecated, passed through in regex; marked by <-- HERE in m/\${ <-- HERE DBLENGTH}/ at /tmp/loop_over_bdir-oCOW1Z/MRS-Client-0.600100-B5MtkQ/blib/lib/MRS/Client/Blast.pm line 422.
Unescaped left brace in regex is deprecated, passed through in regex; marked by <-- HERE in m/\${ <-- HERE DBSPACE}/ at /tmp/loop_over_bdir-oCOW1Z/MRS-Client-0.600100-B5MtkQ/blib/lib/MRS/Client/Blast.pm line 423.
Unescaped left brace in regex is deprecated, passed through in regex; marked by <-- HERE in m/\${ <-- HERE KAPPA}/ at /tmp/loop_over_bdir-oCOW1Z/MRS-Client-0.600100-B5MtkQ/blib/lib/MRS/Client/Blast.pm line 424.
Unescaped left brace in regex is deprecated, passed through in regex; marked by <-- HERE in m/\${ <-- HERE LAMBDA}/ at /tmp/loop_over_bdir-oCOW1Z/MRS-Client-0.600100-B5MtkQ/blib/lib/MRS/Client/Blast.pm line 425.
Unescaped left brace in regex is deprecated, passed through in regex; marked by <-- HERE in m/\${ <-- HERE ENTROPY}/ at /tmp/loop_over_bdir-oCOW1Z/MRS-Client-0.600100-B5MtkQ/blib/lib/MRS/Client/Blast.pm line 426.
Unescaped left brace in regex is deprecated, passed through in regex; marked by <-- HERE in m/\${ <-- HERE HITNR}/ at /tmp/loop_over_bdir-oCOW1Z/MRS-Client-0.600100-B5MtkQ/blib/lib/MRS/Client/Blast.pm line 435.
Unescaped left brace in regex is deprecated, passed through in regex; marked by <-- HERE in m/\${ <-- HERE HITID}/ at /tmp/loop_over_bdir-oCOW1Z/MRS-Client-0.600100-B5MtkQ/blib/lib/MRS/Client/Blast.pm line 436.
Unescaped left brace in regex is deprecated, passed through in regex; marked by <-- HERE in m/\${ <-- HERE HITSEQID}/ at /tmp/loop_over_bdir-oCOW1Z/MRS-Client-0.600100-B5MtkQ/blib/lib/MRS/Client/Blast.pm line 438.
Unescaped left brace in regex is deprecated, passed through in regex; marked by <-- HERE in m/\${ <-- HERE HITSEQID}/ at /tmp/loop_over_bdir-oCOW1Z/MRS-Client-0.600100-B5MtkQ/blib/lib/MRS/Client/Blast.pm line 440.
Unescaped left brace in regex is deprecated, passed through in regex; marked by <-- HERE in m/\${ <-- HERE HITSUBLEN}/ at /tmp/loop_over_bdir-oCOW1Z/MRS-Client-0.600100-B5MtkQ/blib/lib/MRS/Client/Blast.pm line 443.
Unescaped left brace in regex is deprecated, passed through in regex; marked by <-- HERE in m/\${ <-- HERE HSPNR}/ at /tmp/loop_over_bdir-oCOW1Z/MRS-Client-0.600100-B5MtkQ/blib/lib/MRS/Client/Blast.pm line 452.
Unescaped left brace in regex is deprecated, passed through in regex; marked by <-- HERE in m/\${ <-- HERE HSPBITSCORE}/ at /tmp/loop_over_bdir-oCOW1Z/MRS-Client-0.600100-B5MtkQ/blib/lib/MRS/Client/Blast.pm line 453.
Unescaped left brace in regex is deprecated, passed through in regex; marked by <-- HERE in m/\${ <-- HERE HSPSCORE}/ at /tmp/loop_over_bdir-oCOW1Z/MRS-Client-0.600100-B5MtkQ/blib/lib/MRS/Client/Blast.pm line 454.
Unescaped left brace in regex is deprecated, passed through in regex; marked by <-- HERE in m/\${ <-- HERE HSPEXPECT}/ at /tmp/loop_over_bdir-oCOW1Z/MRS-Client-0.600100-B5MtkQ/blib/lib/MRS/Client/Blast.pm line 455.
Unescaped left brace in regex is deprecated, passed through in regex; marked by <-- HERE in m/\${ <-- HERE HSPIDENTITY}/ at /tmp/loop_over_bdir-oCOW1Z/MRS-Client-0.600100-B5MtkQ/blib/lib/MRS/Client/Blast.pm line 456.
Unescaped left brace in regex is deprecated, passed through in regex; marked by <-- HERE in m/\${ <-- HERE HSPPOSITIVE}/ at /tmp/loop_over_bdir-oCOW1Z/MRS-Client-0.600100-B5MtkQ/blib/lib/MRS/Client/Blast.pm line 457.
Unescaped left brace in regex is deprecated, passed through in regex; marked by <-- HERE in m/\${ <-- HERE HSPMIDLINE}/ at /tmp/loop_over_bdir-oCOW1Z/MRS-Client-0.600100-B5MtkQ/blib/lib/MRS/Client/Blast.pm line 458.
Unescaped left brace in regex is deprecated, passed through in regex; marked by <-- HERE in m/\${ <-- HERE HSPQFROM}/ at /tmp/loop_over_bdir-oCOW1Z/MRS-Client-0.600100-B5MtkQ/blib/lib/MRS/Client/Blast.pm line 480.
Unescaped left brace in regex is deprecated, passed through in regex; marked by <-- HERE in m/\${ <-- HERE HSPQTO}/ at /tmp/loop_over_bdir-oCOW1Z/MRS-Client-0.600100-B5MtkQ/blib/lib/MRS/Client/Blast.pm line 481.
Unescaped left brace in regex is deprecated, passed through in regex; marked by <-- HERE in m/\${ <-- HERE HSPHFROM}/ at /tmp/loop_over_bdir-oCOW1Z/MRS-Client-0.600100-B5MtkQ/blib/lib/MRS/Client/Blast.pm line 482.
Unescaped left brace in regex is deprecated, passed through in regex; marked by <-- HERE in m/\${ <-- HERE HSPHTO}/ at /tmp/loop_over_bdir-oCOW1Z/MRS-Client-0.600100-B5MtkQ/blib/lib/MRS/Client/Blast.pm line 483.
Unescaped left brace in regex is deprecated, passed through in regex; marked by <-- HERE in m/\${ <-- HERE HSPALIGNLEN}/ at /tmp/loop_over_bdir-oCOW1Z/MRS-Client-0.600100-B5MtkQ/blib/lib/MRS/Client/Blast.pm line 484.
Unescaped left brace in regex is deprecated, passed through in regex; marked by <-- HERE in m/\${ <-- HERE HSPQALIGN}/ at /tmp/loop_over_bdir-oCOW1Z/MRS-Client-0.600100-B5MtkQ/blib/lib/MRS/Client/Blast.pm line 485.
Unescaped left brace in regex is deprecated, passed through in regex; marked by <-- HERE in m/\${ <-- HERE HSPSUBALIGN}/ at /tmp/loop_over_bdir-oCOW1Z/MRS-Client-0.600100-B5MtkQ/blib/lib/MRS/Client/Blast.pm line 486.
Unescaped left brace in regex is deprecated, passed through in regex; marked by <-- HERE in m/\${ <-- HERE LOCATION}/ at /tmp/loop_over_bdir-oCOW1Z/MRS-Client-0.600100-B5MtkQ/blib/lib/MRS/Client.pm line 202.
Unescaped left brace in regex is deprecated, passed through in regex; marked by <-- HERE in m/\${ <-- HERE SERVICE}/ at /tmp/loop_over_bdir-oCOW1Z/MRS-Client-0.600100-B5MtkQ/blib/lib/MRS/Client.pm line 203.
# Setting host and endpoints
t/02-endpoint.t ......... ok
Unescaped left brace in regex is deprecated, passed through in regex; marked by <-- HERE in m/\${ <-- HERE JOBID}/ at /tmp/loop_over_bdir-oCOW1Z/MRS-Client-0.600100-B5MtkQ/blib/lib/MRS/Client/Blast.pm line 405.
Unescaped left brace in regex is deprecated, passed through in regex; marked by <-- HERE in m/\${ <-- HERE SEQDESC}/ at /tmp/loop_over_bdir-oCOW1Z/MRS-Client-0.600100-B5MtkQ/blib/lib/MRS/Client/Blast.pm line 407.
Unescaped left brace in regex is deprecated, passed through in regex; marked by <-- HERE in m/\${ <-- HERE SEQDESC}/ at /tmp/loop_over_bdir-oCOW1Z/MRS-Client-0.600100-B5MtkQ/blib/lib/MRS/Client/Blast.pm line 409.
Unescaped left brace in regex is deprecated, passed through in regex; marked by <-- HERE in m/\${ <-- HERE SEQDESC}/ at /tmp/loop_over_bdir-oCOW1Z/MRS-Client-0.600100-B5MtkQ/blib/lib/MRS/Client/Blast.pm line 411.
Unescaped left brace in regex is deprecated, passed through in regex; marked by <-- HERE in m/\${ <-- HERE DB}/ at /tmp/loop_over_bdir-oCOW1Z/MRS-Client-0.600100-B5MtkQ/blib/lib/MRS/Client/Blast.pm line 413.
Unescaped left brace in regex is deprecated, passed through in regex; marked by <-- HERE in m/\${ <-- HERE SEQLEN}/ at /tmp/loop_over_bdir-oCOW1Z/MRS-Client-0.600100-B5MtkQ/blib/lib/MRS/Client/Blast.pm line 414.
Unescaped left brace in regex is deprecated, passed through in regex; marked by <-- HERE in m/\${ <-- HERE PARMATRIX}/ at /tmp/loop_over_bdir-oCOW1Z/MRS-Client-0.600100-B5MtkQ/blib/lib/MRS/Client/Blast.pm line 415.
Unescaped left brace in regex is deprecated, passed through in regex; marked by <-- HERE in m/\${ <-- HERE PAREXPECT}/ at /tmp/loop_over_bdir-oCOW1Z/MRS-Client-0.600100-B5MtkQ/blib/lib/MRS/Client/Blast.pm line 416.
Unescaped left brace in regex is deprecated, passed through in regex; marked by <-- HERE in m/\${ <-- HERE PARGAPOPEN}/ at /tmp/loop_over_bdir-oCOW1Z/MRS-Client-0.600100-B5MtkQ/blib/lib/MRS/Client/Blast.pm line 417.
Unescaped left brace in regex is deprecated, passed through in regex; marked by <-- HERE in m/\${ <-- HERE PARGAPEXTEND}/ at /tmp/loop_over_bdir-oCOW1Z/MRS-Client-0.600100-B5MtkQ/blib/lib/MRS/Client/Blast.pm line 418.
Unescaped left brace in regex is deprecated, passed through in regex; marked by <-- HERE in m/\${ <-- HERE PARFILTER}/ at /tmp/loop_over_bdir-oCOW1Z/MRS-Client-0.600100-B5MtkQ/blib/lib/MRS/Client/Blast.pm line 419.
Unescaped left brace in regex is deprecated, passed through in regex; marked by <-- HERE in m/\${ <-- HERE DBCOUNT}/ at /tmp/loop_over_bdir-oCOW1Z/MRS-Client-0.600100-B5MtkQ/blib/lib/MRS/Client/Blast.pm line 421.
Unescaped left brace in regex is deprecated, passed through in regex; marked by <-- HERE in m/\${ <-- HERE DBLENGTH}/ at /tmp/loop_over_bdir-oCOW1Z/MRS-Client-0.600100-B5MtkQ/blib/lib/MRS/Client/Blast.pm line 422.
Unescaped left brace in regex is deprecated, passed through in regex; marked by <-- HERE in m/\${ <-- HERE DBSPACE}/ at /tmp/loop_over_bdir-oCOW1Z/MRS-Client-0.600100-B5MtkQ/blib/lib/MRS/Client/Blast.pm line 423.
Unescaped left brace in regex is deprecated, passed through in regex; marked by <-- HERE in m/\${ <-- HERE KAPPA}/ at /tmp/loop_over_bdir-oCOW1Z/MRS-Client-0.600100-B5MtkQ/blib/lib/MRS/Client/Blast.pm line 424.
Unescaped left brace in regex is deprecated, passed through in regex; marked by <-- HERE in m/\${ <-- HERE LAMBDA}/ at /tmp/loop_over_bdir-oCOW1Z/MRS-Client-0.600100-B5MtkQ/blib/lib/MRS/Client/Blast.pm line 425.
Unescaped left brace in regex is deprecated, passed through in regex; marked by <-- HERE in m/\${ <-- HERE ENTROPY}/ at /tmp/loop_over_bdir-oCOW1Z/MRS-Client-0.600100-B5MtkQ/blib/lib/MRS/Client/Blast.pm line 426.
Unescaped left brace in regex is deprecated, passed through in regex; marked by <-- HERE in m/\${ <-- HERE HITNR}/ at /tmp/loop_over_bdir-oCOW1Z/MRS-Client-0.600100-B5MtkQ/blib/lib/MRS/Client/Blast.pm line 435.
Unescaped left brace in regex is deprecated, passed through in regex; marked by <-- HERE in m/\${ <-- HERE HITID}/ at /tmp/loop_over_bdir-oCOW1Z/MRS-Client-0.600100-B5MtkQ/blib/lib/MRS/Client/Blast.pm line 436.
Unescaped left brace in regex is deprecated, passed through in regex; marked by <-- HERE in m/\${ <-- HERE HITSEQID}/ at /tmp/loop_over_bdir-oCOW1Z/MRS-Client-0.600100-B5MtkQ/blib/lib/MRS/Client/Blast.pm line 438.
Unescaped left brace in regex is deprecated, passed through in regex; marked by <-- HERE in m/\${ <-- HERE HITSEQID}/ at /tmp/loop_over_bdir-oCOW1Z/MRS-Client-0.600100-B5MtkQ/blib/lib/MRS/Client/Blast.pm line 440.
Unescaped left brace in regex is deprecated, passed through in regex; marked by <-- HERE in m/\${ <-- HERE HITSUBLEN}/ at /tmp/loop_over_bdir-oCOW1Z/MRS-Client-0.600100-B5MtkQ/blib/lib/MRS/Client/Blast.pm line 443.
Unescaped left brace in regex is deprecated, passed through in regex; marked by <-- HERE in m/\${ <-- HERE HSPNR}/ at /tmp/loop_over_bdir-oCOW1Z/MRS-Client-0.600100-B5MtkQ/blib/lib/MRS/Client/Blast.pm line 452.
Unescaped left brace in regex is deprecated, passed through in regex; marked by <-- HERE in m/\${ <-- HERE HSPBITSCORE}/ at /tmp/loop_over_bdir-oCOW1Z/MRS-Client-0.600100-B5MtkQ/blib/lib/MRS/Client/Blast.pm line 453.
Unescaped left brace in regex is deprecated, passed through in regex; marked by <-- HERE in m/\${ <-- HERE HSPSCORE}/ at /tmp/loop_over_bdir-oCOW1Z/MRS-Client-0.600100-B5MtkQ/blib/lib/MRS/Client/Blast.pm line 454.
Unescaped left brace in regex is deprecated, passed through in regex; marked by <-- HERE in m/\${ <-- HERE HSPEXPECT}/ at /tmp/loop_over_bdir-oCOW1Z/MRS-Client-0.600100-B5MtkQ/blib/lib/MRS/Client/Blast.pm line 455.
Unescaped left brace in regex is deprecated, passed through in regex; marked by <-- HERE in m/\${ <-- HERE HSPIDENTITY}/ at /tmp/loop_over_bdir-oCOW1Z/MRS-Client-0.600100-B5MtkQ/blib/lib/MRS/Client/Blast.pm line 456.
Unescaped left brace in regex is deprecated, passed through in regex; marked by <-- HERE in m/\${ <-- HERE HSPPOSITIVE}/ at /tmp/loop_over_bdir-oCOW1Z/MRS-Client-0.600100-B5MtkQ/blib/lib/MRS/Client/Blast.pm line 457.
Unescaped left brace in regex is deprecated, passed through in regex; marked by <-- HERE in m/\${ <-- HERE HSPMIDLINE}/ at /tmp/loop_over_bdir-oCOW1Z/MRS-Client-0.600100-B5MtkQ/blib/lib/MRS/Client/Blast.pm line 458.
Unescaped left brace in regex is deprecated, passed through in regex; marked by <-- HERE in m/\${ <-- HERE HSPQFROM}/ at /tmp/loop_over_bdir-oCOW1Z/MRS-Client-0.600100-B5MtkQ/blib/lib/MRS/Client/Blast.pm line 480.
Unescaped left brace in regex is deprecated, passed through in regex; marked by <-- HERE in m/\${ <-- HERE HSPQTO}/ at /tmp/loop_over_bdir-oCOW1Z/MRS-Client-0.600100-B5MtkQ/blib/lib/MRS/Client/Blast.pm line 481.
Unescaped left brace in regex is deprecated, passed through in regex; marked by <-- HERE in m/\${ <-- HERE HSPHFROM}/ at /tmp/loop_over_bdir-oCOW1Z/MRS-Client-0.600100-B5MtkQ/blib/lib/MRS/Client/Blast.pm line 482.
Unescaped left brace in regex is deprecated, passed through in regex; marked by <-- HERE in m/\${ <-- HERE HSPHTO}/ at /tmp/loop_over_bdir-oCOW1Z/MRS-Client-0.600100-B5MtkQ/blib/lib/MRS/Client/Blast.pm line 483.
Unescaped left brace in regex is deprecated, passed through in regex; marked by <-- HERE in m/\${ <-- HERE HSPALIGNLEN}/ at /tmp/loop_over_bdir-oCOW1Z/MRS-Client-0.600100-B5MtkQ/blib/lib/MRS/Client/Blast.pm line 484.
Unescaped left brace in regex is deprecated, passed through in regex; marked by <-- HERE in m/\${ <-- HERE HSPQALIGN}/ at /tmp/loop_over_bdir-oCOW1Z/MRS-Client-0.600100-B5MtkQ/blib/lib/MRS/Client/Blast.pm line 485.
Unescaped left brace in regex is deprecated, passed through in regex; marked by <-- HERE in m/\${ <-- HERE HSPSUBALIGN}/ at /tmp/loop_over_bdir-oCOW1Z/MRS-Client-0.600100-B5MtkQ/blib/lib/MRS/Client/Blast.pm line 486.
Unescaped left brace in regex is deprecated, passed through in regex; marked by <-- HERE in m/\${ <-- HERE LOCATION}/ at /tmp/loop_over_bdir-oCOW1Z/MRS-Client-0.600100-B5MtkQ/blib/lib/MRS/Client.pm line 202.
Unescaped left brace in regex is deprecated, passed through in regex; marked by <-- HERE in m/\${ <-- HERE SERVICE}/ at /tmp/loop_over_bdir-oCOW1Z/MRS-Client-0.600100-B5MtkQ/blib/lib/MRS/Client.pm line 203.
# Calling MRS services
t/03-network.t .......... ok
Unescaped left brace in regex is deprecated, passed through in regex; marked by <-- HERE in m/\${ <-- HERE JOBID}/ at /tmp/loop_over_bdir-oCOW1Z/MRS-Client-0.600100-B5MtkQ/blib/lib/MRS/Client/Blast.pm line 405.
Unescaped left brace in regex is deprecated, passed through in regex; marked by <-- HERE in m/\${ <-- HERE SEQDESC}/ at /tmp/loop_over_bdir-oCOW1Z/MRS-Client-0.600100-B5MtkQ/blib/lib/MRS/Client/Blast.pm line 407.
Unescaped left brace in regex is deprecated, passed through in regex; marked by <-- HERE in m/\${ <-- HERE SEQDESC}/ at /tmp/loop_over_bdir-oCOW1Z/MRS-Client-0.600100-B5MtkQ/blib/lib/MRS/Client/Blast.pm line 409.
Unescaped left brace in regex is deprecated, passed through in regex; marked by <-- HERE in m/\${ <-- HERE SEQDESC}/ at /tmp/loop_over_bdir-oCOW1Z/MRS-Client-0.600100-B5MtkQ/blib/lib/MRS/Client/Blast.pm line 411.
Unescaped left brace in regex is deprecated, passed through in regex; marked by <-- HERE in m/\${ <-- HERE DB}/ at /tmp/loop_over_bdir-oCOW1Z/MRS-Client-0.600100-B5MtkQ/blib/lib/MRS/Client/Blast.pm line 413.
Unescaped left brace in regex is deprecated, passed through in regex; marked by <-- HERE in m/\${ <-- HERE SEQLEN}/ at /tmp/loop_over_bdir-oCOW1Z/MRS-Client-0.600100-B5MtkQ/blib/lib/MRS/Client/Blast.pm line 414.
Unescaped left brace in regex is deprecated, passed through in regex; marked by <-- HERE in m/\${ <-- HERE PARMATRIX}/ at /tmp/loop_over_bdir-oCOW1Z/MRS-Client-0.600100-B5MtkQ/blib/lib/MRS/Client/Blast.pm line 415.
Unescaped left brace in regex is deprecated, passed through in regex; marked by <-- HERE in m/\${ <-- HERE PAREXPECT}/ at /tmp/loop_over_bdir-oCOW1Z/MRS-Client-0.600100-B5MtkQ/blib/lib/MRS/Client/Blast.pm line 416.
Unescaped left brace in regex is deprecated, passed through in regex; marked by <-- HERE in m/\${ <-- HERE PARGAPOPEN}/ at /tmp/loop_over_bdir-oCOW1Z/MRS-Client-0.600100-B5MtkQ/blib/lib/MRS/Client/Blast.pm line 417.
Unescaped left brace in regex is deprecated, passed through in regex; marked by <-- HERE in m/\${ <-- HERE PARGAPEXTEND}/ at /tmp/loop_over_bdir-oCOW1Z/MRS-Client-0.600100-B5MtkQ/blib/lib/MRS/Client/Blast.pm line 418.
Unescaped left brace in regex is deprecated, passed through in regex; marked by <-- HERE in m/\${ <-- HERE PARFILTER}/ at /tmp/loop_over_bdir-oCOW1Z/MRS-Client-0.600100-B5MtkQ/blib/lib/MRS/Client/Blast.pm line 419.
Unescaped left brace in regex is deprecated, passed through in regex; marked by <-- HERE in m/\${ <-- HERE DBCOUNT}/ at /tmp/loop_over_bdir-oCOW1Z/MRS-Client-0.600100-B5MtkQ/blib/lib/MRS/Client/Blast.pm line 421.
Unescaped left brace in regex is deprecated, passed through in regex; marked by <-- HERE in m/\${ <-- HERE DBLENGTH}/ at /tmp/loop_over_bdir-oCOW1Z/MRS-Client-0.600100-B5MtkQ/blib/lib/MRS/Client/Blast.pm line 422.
Unescaped left brace in regex is deprecated, passed through in regex; marked by <-- HERE in m/\${ <-- HERE DBSPACE}/ at /tmp/loop_over_bdir-oCOW1Z/MRS-Client-0.600100-B5MtkQ/blib/lib/MRS/Client/Blast.pm line 423.
Unescaped left brace in regex is deprecated, passed through in regex; marked by <-- HERE in m/\${ <-- HERE KAPPA}/ at /tmp/loop_over_bdir-oCOW1Z/MRS-Client-0.600100-B5MtkQ/blib/lib/MRS/Client/Blast.pm line 424.
Unescaped left brace in regex is deprecated, passed through in regex; marked by <-- HERE in m/\${ <-- HERE LAMBDA}/ at /tmp/loop_over_bdir-oCOW1Z/MRS-Client-0.600100-B5MtkQ/blib/lib/MRS/Client/Blast.pm line 425.
Unescaped left brace in regex is deprecated, passed through in regex; marked by <-- HERE in m/\${ <-- HERE ENTROPY}/ at /tmp/loop_over_bdir-oCOW1Z/MRS-Client-0.600100-B5MtkQ/blib/lib/MRS/Client/Blast.pm line 426.
Unescaped left brace in regex is deprecated, passed through in regex; marked by <-- HERE in m/\${ <-- HERE HITNR}/ at /tmp/loop_over_bdir-oCOW1Z/MRS-Client-0.600100-B5MtkQ/blib/lib/MRS/Client/Blast.pm line 435.
Unescaped left brace in regex is deprecated, passed through in regex; marked by <-- HERE in m/\${ <-- HERE HITID}/ at /tmp/loop_over_bdir-oCOW1Z/MRS-Client-0.600100-B5MtkQ/blib/lib/MRS/Client/Blast.pm line 436.
Unescaped left brace in regex is deprecated, passed through in regex; marked by <-- HERE in m/\${ <-- HERE HITSEQID}/ at /tmp/loop_over_bdir-oCOW1Z/MRS-Client-0.600100-B5MtkQ/blib/lib/MRS/Client/Blast.pm line 438.
Unescaped left brace in regex is deprecated, passed through in regex; marked by <-- HERE in m/\${ <-- HERE HITSEQID}/ at /tmp/loop_over_bdir-oCOW1Z/MRS-Client-0.600100-B5MtkQ/blib/lib/MRS/Client/Blast.pm line 440.
Unescaped left brace in regex is deprecated, passed through in regex; marked by <-- HERE in m/\${ <-- HERE HITSUBLEN}/ at /tmp/loop_over_bdir-oCOW1Z/MRS-Client-0.600100-B5MtkQ/blib/lib/MRS/Client/Blast.pm line 443.
Unescaped left brace in regex is deprecated, passed through in regex; marked by <-- HERE in m/\${ <-- HERE HSPNR}/ at /tmp/loop_over_bdir-oCOW1Z/MRS-Client-0.600100-B5MtkQ/blib/lib/MRS/Client/Blast.pm line 452.
Unescaped left brace in regex is deprecated, passed through in regex; marked by <-- HERE in m/\${ <-- HERE HSPBITSCORE}/ at /tmp/loop_over_bdir-oCOW1Z/MRS-Client-0.600100-B5MtkQ/blib/lib/MRS/Client/Blast.pm line 453.
Unescaped left brace in regex is deprecated, passed through in regex; marked by <-- HERE in m/\${ <-- HERE HSPSCORE}/ at /tmp/loop_over_bdir-oCOW1Z/MRS-Client-0.600100-B5MtkQ/blib/lib/MRS/Client/Blast.pm line 454.
Unescaped left brace in regex is deprecated, passed through in regex; marked by <-- HERE in m/\${ <-- HERE HSPEXPECT}/ at /tmp/loop_over_bdir-oCOW1Z/MRS-Client-0.600100-B5MtkQ/blib/lib/MRS/Client/Blast.pm line 455.
Unescaped left brace in regex is deprecated, passed through in regex; marked by <-- HERE in m/\${ <-- HERE HSPIDENTITY}/ at /tmp/loop_over_bdir-oCOW1Z/MRS-Client-0.600100-B5MtkQ/blib/lib/MRS/Client/Blast.pm line 456.
Unescaped left brace in regex is deprecated, passed through in regex; marked by <-- HERE in m/\${ <-- HERE HSPPOSITIVE}/ at /tmp/loop_over_bdir-oCOW1Z/MRS-Client-0.600100-B5MtkQ/blib/lib/MRS/Client/Blast.pm line 457.
Unescaped left brace in regex is deprecated, passed through in regex; marked by <-- HERE in m/\${ <-- HERE HSPMIDLINE}/ at /tmp/loop_over_bdir-oCOW1Z/MRS-Client-0.600100-B5MtkQ/blib/lib/MRS/Client/Blast.pm line 458.
Unescaped left brace in regex is deprecated, passed through in regex; marked by <-- HERE in m/\${ <-- HERE HSPQFROM}/ at /tmp/loop_over_bdir-oCOW1Z/MRS-Client-0.600100-B5MtkQ/blib/lib/MRS/Client/Blast.pm line 480.
Unescaped left brace in regex is deprecated, passed through in regex; marked by <-- HERE in m/\${ <-- HERE HSPQTO}/ at /tmp/loop_over_bdir-oCOW1Z/MRS-Client-0.600100-B5MtkQ/blib/lib/MRS/Client/Blast.pm line 481.
Unescaped left brace in regex is deprecated, passed through in regex; marked by <-- HERE in m/\${ <-- HERE HSPHFROM}/ at /tmp/loop_over_bdir-oCOW1Z/MRS-Client-0.600100-B5MtkQ/blib/lib/MRS/Client/Blast.pm line 482.
Unescaped left brace in regex is deprecated, passed through in regex; marked by <-- HERE in m/\${ <-- HERE HSPHTO}/ at /tmp/loop_over_bdir-oCOW1Z/MRS-Client-0.600100-B5MtkQ/blib/lib/MRS/Client/Blast.pm line 483.
Unescaped left brace in regex is deprecated, passed through in regex; marked by <-- HERE in m/\${ <-- HERE HSPALIGNLEN}/ at /tmp/loop_over_bdir-oCOW1Z/MRS-Client-0.600100-B5MtkQ/blib/lib/MRS/Client/Blast.pm line 484.
Unescaped left brace in regex is deprecated, passed through in regex; marked by <-- HERE in m/\${ <-- HERE HSPQALIGN}/ at /tmp/loop_over_bdir-oCOW1Z/MRS-Client-0.600100-B5MtkQ/blib/lib/MRS/Client/Blast.pm line 485.
Unescaped left brace in regex is deprecated, passed through in regex; marked by <-- HERE in m/\${ <-- HERE HSPSUBALIGN}/ at /tmp/loop_over_bdir-oCOW1Z/MRS-Client-0.600100-B5MtkQ/blib/lib/MRS/Client/Blast.pm line 486.
Unescaped left brace in regex is deprecated, passed through in regex; marked by <-- HERE in m/\${ <-- HERE LOCATION}/ at /tmp/loop_over_bdir-oCOW1Z/MRS-Client-0.600100-B5MtkQ/blib/lib/MRS/Client.pm line 202.
Unescaped left brace in regex is deprecated, passed through in regex; marked by <-- HERE in m/\${ <-- HERE SERVICE}/ at /tmp/loop_over_bdir-oCOW1Z/MRS-Client-0.600100-B5MtkQ/blib/lib/MRS/Client.pm line 203.
# Manipulation of hyperlinks
t/04-links.t ............ ok
t/author-critic.t ....... skipped: these tests are for testing by the author
t/author-pod-spell.t .... skipped: these tests are for testing by the author
t/release-distmeta.t .... skipped: these tests are for release candidate testing
t/release-eol.t ......... skipped: these tests are for release candidate testing
t/release-no-tabs.t ..... skipped: these tests are for release candidate testing
t/release-pod-syntax.t .. skipped: these tests are for release candidate testing
All tests successful.
Files=12, Tests=143, 3 wallclock secs ( 0.04 usr 0.02 sys + 1.79 cusr 0.19 csys = 2.04 CPU)
Result: PASS
------------------------------
PREREQUISITES
------------------------------
Prerequisite modules loaded:
requires:
Module Need Have
--------------------------------- ---- -------
base 0 2.18
Carp 0 1.26
constant 0 1.23
File::Basename 0 2.84
FindBin 0 1.51
Getopt::Std 0 1.07
Math::BigInt 0 1.998
overload 0 1.19
strict 0 1.07
vars 0 1.02
warnings 0 1.13
XML::Compile::SOAP11 2.26 2.28
XML::Compile::Transport::SOAPHTTP 0 2.28
XML::Compile::WSDL11 0 2.28
build_requires:
Module Need Have
--------------------------------- ---- -------
English 0 1.05
File::Find 0 1.21
File::Spec 0 3.39_01
File::Temp 0 0.22
Test::More 0 0.98_03
Test::Requires 0 0.06
configure_requires:
Module Need Have
--------------------------------- ---- -------
ExtUtils::MakeMaker 6.30 6.63_02
------------------------------
ENVIRONMENT AND OTHER CONTEXT
------------------------------
Environment variables:
AUTOMATED_TESTING = 1
LANG = en_US.UTF-8
LANGUAGE = en_US:en
PATH = /home/sand/bin:/usr/local/bin:/usr/bin:/bin:/usr/bin/X11:/usr/games:/usr/local/perl/bin:/usr/X11/bin:/sbin:/usr/sbin
PERL5LIB =
PERL5OPT =
PERL5_CPANPLUS_IS_RUNNING = 20003
PERL5_CPAN_IS_RUNNING = 20003
PERL_MM_USE_DEFAULT = 1
SHELL = /usr/bin/zsh
TERM = screen
Perl special variables (and OS-specific diagnostics, for MSWin32):
$^X = /mnt/k75/homesand/src/perl/repoperls/installed-perls/perl/v5.17.0-328-g1b60576/a2da/bin/perl
$UID/$EUID = 1005 / 1005
$GID = 1005 1005
$EGID = 1005 1005
Perl module toolchain versions installed:
Module Have
------------------- --------
CPAN 1.9800
CPAN::Meta 2.120921
Cwd 3.39_01
ExtUtils::CBuilder 0.280208
ExtUtils::Command 1.17
ExtUtils::Install 1.58
ExtUtils::MakeMaker 6.63_02
ExtUtils::Manifest 1.61
ExtUtils::ParseXS 3.17
File::Spec 3.39_01
JSON 2.53
JSON::PP 2.27200
Module::Build 0.4001
Module::Signature 0.68
Parse::CPAN::Meta 1.4404
Test::Harness 3.23
Test::More 0.98_03
YAML 0.81
YAML::Syck 1.20
version 0.99
--
Summary of my perl5 (revision 5 version 17 subversion 0) configuration:
Commit id: 1b60576f3321964f32b421907ed106b0f2b083e7
Platform:
osname=linux, osvers=3.2.0-2-amd64, archname=x86_64-linux-thread-multi-ld
uname='linux k83 3.2.0-2-amd64 #1 smp mon may 21 17:45:41 utc 2012 x86_64 gnulinux '
config_args='-Dprefix=/home/src/perl/repoperls/installed-perls/perl/v5.17.0-328-g1b60576/a2da -Dmyhostname=k83 -Dinstallusrbinperl=n -Uversiononly -Dusedevel -des -Ui_db -Duseithreads -Duselongdouble -DDEBUGGING=-g'
hint=recommended, useposix=true, d_sigaction=define
useithreads=define, usemultiplicity=define
useperlio=define, d_sfio=undef, uselargefiles=define, usesocks=undef
use64bitint=define, use64bitall=define, uselongdouble=define
usemymalloc=n, bincompat5005=undef
Compiler:
cc='cc', ccflags ='-D_REENTRANT -D_GNU_SOURCE -fno-strict-aliasing -pipe -fstack-protector -I/usr/local/include -D_LARGEFILE_SOURCE -D_FILE_OFFSET_BITS=64',
optimize='-O2 -g',
cppflags='-D_REENTRANT -D_GNU_SOURCE -fno-strict-aliasing -pipe -fstack-protector -I/usr/local/include'
ccversion='', gccversion='4.7.0', gccosandvers=''
intsize=4, longsize=8, ptrsize=8, doublesize=8, byteorder=12345678
d_longlong=define, longlongsize=8, d_longdbl=define, longdblsize=16
ivtype='long', ivsize=8, nvtype='long double', nvsize=16, Off_t='off_t', lseeksize=8
alignbytes=16, prototype=define
Linker and Libraries:
ld='cc', ldflags =' -fstack-protector -L/usr/local/lib'
libpth=/usr/local/lib /lib/x86_64-linux-gnu /lib/../lib /usr/lib/x86_64-linux-gnu /usr/lib/../lib /lib /usr/lib
libs=-lnsl -ldb -ldl -lm -lcrypt -lutil -lpthread -lc
perllibs=-lnsl -ldl -lm -lcrypt -lutil -lpthread -lc
libc=, so=so, useshrplib=false, libperl=libperl.a
gnulibc_version='2.13'
Dynamic Linking:
dlsrc=dl_dlopen.xs, dlext=so, d_dlsymun=undef, ccdlflags='-Wl,-E'
cccdlflags='-fPIC', lddlflags='-shared -O2 -g -L/usr/local/lib -fstack-protector'
Characteristics of this binary (from libperl):
Compile-time options: HAS_TIMES MULTIPLICITY PERLIO_LAYERS
PERL_DONT_CREATE_GVSV PERL_IMPLICIT_CONTEXT
PERL_MALLOC_WRAP PERL_PRESERVE_IVUV PERL_USE_DEVEL
USE_64_BIT_ALL USE_64_BIT_INT USE_ITHREADS
USE_LARGE_FILES USE_LOCALE USE_LOCALE_COLLATE
USE_LOCALE_CTYPE USE_LOCALE_NUMERIC USE_LONG_DOUBLE
USE_PERLIO USE_PERL_ATOF USE_REENTRANT_API
Built under linux
Compiled at Jun 9 2012 01:34:51
%ENV:
PERL5LIB=""
PERL5OPT=""
PERL5_CPANPLUS_IS_RUNNING="20003"
PERL5_CPAN_IS_RUNNING="20003"
PERL_MM_USE_DEFAULT="1"
@INC:
/home/src/perl/repoperls/installed-perls/perl/v5.17.0-328-g1b60576/a2da/lib/site_perl/5.17.0/x86_64-linux-thread-multi-ld
/home/src/perl/repoperls/installed-perls/perl/v5.17.0-328-g1b60576/a2da/lib/site_perl/5.17.0
/home/src/perl/repoperls/installed-perls/perl/v5.17.0-328-g1b60576/a2da/lib/5.17.0/x86_64-linux-thread-multi-ld
/home/src/perl/repoperls/installed-perls/perl/v5.17.0-328-g1b60576/a2da/lib/5.17.0
.