Report for Number-Phone-Normalize-0.220

Back
From: metabase:user:3198cbe2-2aae-11df-837a-5e0a49663a4f
Subject: PASS Number-Phone-Normalize-0.220 v5.16.3 GNU/Linux
Date: 2013-10-26T13:57:44Z

This distribution has been tested as part of the CPAN Testers
project, supporting the Perl programming language.  See
http://wiki.cpantesters.org/ for more information or email
questions to cpan-testers-discuss@perl.org


--
Dear Claus Faerber,

This is a computer-generated report for Number-Phone-Normalize-0.220
on perl 5.16.3, created by CPAN-Reporter-1.2010.

Thank you for uploading your work to CPAN.  Congratulations!
All tests were successful.

Sections of this report:

    * Tester comments
    * Program output
    * Prerequisites
    * Environment and other context

------------------------------
TESTER COMMENTS
------------------------------

Additional comments from tester:

this report is from an automated smoke testing program
and was not reviewed by a human for accuracy

------------------------------
PROGRAM OUTPUT
------------------------------

Output from './Build test':

t/00base-use.t ....... ok
t/05pod_check.t ...... ok
t/06pod_coverage.t ... ok
t/10obj__intl.t ...... ok
t/15obj__local.t ..... ok
t/16obj__l_ld.t ...... ok
t/17obj__l_nocc.t .... ok
t/18obj__l_noac.t .... ok
t/20phone_intl.t ..... ok
t/25phone_local.t .... ok
t/26phone_l_ld.t ..... ok
t/27phone_l_nocc.t ... ok
t/28phone_l_noac.t ... ok
t/30intl_cc_ac.t ..... ok
t/31local_cc.t ....... ok
t/32local_ac.t ....... ok
t/33local_ac_ld.t .... ok
t/34local_ac_nocc.t .. ok
t/40vanity_cvrt.t .... ok
t/41vanity_ok.t ...... ok
t/42vanity_ac.t ...... ok
All tests successful.
Files=21, Tests=126,  1 wallclock secs ( 0.09 usr  0.03 sys +  0.56 cusr  0.06 csys =  0.74 CPU)
Result: PASS

------------------------------
PREREQUISITES
------------------------------

Prerequisite modules loaded:

build_requires:

    Module        Need Have   
    ------------- ---- -------
    Test::More    0    0.99   

configure_requires:

    Module        Need Have   
    ------------- ---- -------
    Module::Build 0.35 0.39_01


------------------------------
ENVIRONMENT AND OTHER CONTEXT
------------------------------

Environment variables:

    AUTOMATED_TESTING = 1
    LANG = en_GB.UTF-8
    LC_ADDRESS = en_GB.UTF-8
    LC_COLLATE = en_GB.UTF-8
    LC_CTYPE = en_GB.UTF-8
    LC_IDENTIFICATION = en_GB.UTF-8
    LC_MEASUREMENT = en_GB.UTF-8
    LC_MESSAGES = en_GB.UTF-8
    LC_MONETARY = en_GB.UTF-8
    LC_NAME = en_GB.UTF-8
    LC_NUMERIC = en_GB.UTF-8
    LC_PAPER = en_GB.UTF-8
    LC_TELEPHONE = en_GB.UTF-8
    LC_TIME = en_GB.UTF-8
    PATH = /home/graham/perls/perl5.16.3/bin:/usr/local/sbin:/usr/local/bin:/usr/bin:/usr/bin/core_perl
    PERL5LIB = 
    PERL5OPT = 
    PERL5_CPANPLUS_IS_RUNNING = 4283
    PERL5_CPAN_IS_RUNNING = 4283
    PERL5_CPAN_IS_RUNNING_IN_RECURSION = 492,4283
    PERL_CR_SMOKER_CURRENT = Number-Phone-Normalize-0.220
    PERL_EXTUTILS_AUTOINSTALL = --defaultdeps
    PERL_MM_USE_DEFAULT = 1
    SHELL = /bin/bash
    TERM = xterm

Perl special variables (and OS-specific diagnostics, for MSWin32):

    $^X = /home/graham/perls/perl5.16.3/bin/perl
    $UID/$EUID = 1000 / 1000
    $GID = 100 10 100
    $EGID = 100 10 100

Perl module toolchain versions installed:

    Module              Have    
    ------------------- --------
    CPAN                2.00    
    CPAN::Meta          2.132830
    Cwd                 3.40    
    ExtUtils::CBuilder  0.280212
    ExtUtils::Command   1.18    
    ExtUtils::Install   1.58    
    ExtUtils::MakeMaker 6.81_03 
    ExtUtils::Manifest  1.63    
    ExtUtils::ParseXS   3.22    
    File::Spec          3.40    
    JSON                2.61    
    JSON::PP            2.27008 
    Module::Build       0.39_01 
    Module::Signature   n/a     
    Parse::CPAN::Meta   1.4409  
    Test::Harness       3.29    
    Test::More          0.99    
    YAML                0.84    
    YAML::Syck          1.27    
    version             0.9904  


--

Summary of my perl5 (revision 5 version 16 subversion 3) configuration:
   
  Platform:
    osname=linux, osvers=3.11.5-1-arch, archname=x86_64-linux
    uname='linux arch002 3.11.5-1-arch #1 smp preempt mon oct 14 08:31:43 cest 2013 x86_64 gnulinux '
    config_args=''
    hint=recommended, useposix=true, d_sigaction=define
    useithreads=undef, usemultiplicity=undef
    useperlio=define, d_sfio=undef, uselargefiles=define, usesocks=undef
    use64bitint=define, use64bitall=define, uselongdouble=undef
    usemymalloc=n, bincompat5005=undef
  Compiler:
    cc='cc', ccflags ='-fno-strict-aliasing -pipe -fstack-protector -I/usr/local/include -D_LARGEFILE_SOURCE -D_FILE_OFFSET_BITS=64',
    optimize='-O2',
    cppflags='-fno-strict-aliasing -pipe -fstack-protector -I/usr/local/include'
    ccversion='', gccversion='4.8.1 20130725 (prerelease)', gccosandvers=''
    intsize=4, longsize=8, ptrsize=8, doublesize=8, byteorder=12345678
    d_longlong=define, longlongsize=8, d_longdbl=define, longdblsize=16
    ivtype='long', ivsize=8, nvtype='double', nvsize=8, Off_t='off_t', lseeksize=8
    alignbytes=8, prototype=define
  Linker and Libraries:
    ld='cc', ldflags =' -fstack-protector -L/usr/local/lib'
    libpth=/usr/local/lib /lib/../lib /usr/lib/../lib /lib /usr/lib /lib64 /usr/lib64
    libs=-lnsl -lgdbm -ldb -ldl -lm -lcrypt -lutil -lc -lgdbm_compat
    perllibs=-lnsl -ldl -lm -lcrypt -lutil -lc
    libc=/lib/libc-2.18.so, so=so, useshrplib=false, libperl=libperl.a
    gnulibc_version='2.18'
  Dynamic Linking:
    dlsrc=dl_dlopen.xs, dlext=so, d_dlsymun=undef, ccdlflags='-Wl,-E'
    cccdlflags='-fPIC', lddlflags='-shared -O2 -L/usr/local/lib -fstack-protector'


Characteristics of this binary (from libperl): 
  Compile-time options: HAS_TIMES PERLIO_LAYERS PERL_DONT_CREATE_GVSV
                        PERL_MALLOC_WRAP PERL_PRESERVE_IVUV USE_64_BIT_ALL
                        USE_64_BIT_INT USE_LARGE_FILES USE_LOCALE
                        USE_LOCALE_COLLATE USE_LOCALE_CTYPE
                        USE_LOCALE_NUMERIC USE_PERLIO USE_PERL_ATOF
  Built under linux
  Compiled at Oct 17 2013 11:42:17
  %ENV:
    PERL5LIB=""
    PERL5OPT=""
    PERL5_CPANPLUS_IS_RUNNING="4283"
    PERL5_CPAN_IS_RUNNING="4283"
    PERL5_CPAN_IS_RUNNING_IN_RECURSION="492,4283"
    PERL_CR_SMOKER_CURRENT="Number-Phone-Normalize-0.220"
    PERL_EXTUTILS_AUTOINSTALL="--defaultdeps"
    PERL_MM_USE_DEFAULT="1"
  @INC:
    /home/graham/perls/perl5.16.3/lib/site_perl/5.16.3/x86_64-linux
    /home/graham/perls/perl5.16.3/lib/site_perl/5.16.3
    /home/graham/perls/perl5.16.3/lib/5.16.3/x86_64-linux
    /home/graham/perls/perl5.16.3/lib/5.16.3
    .