Sys-Filesystem v1.408 Perl 5 v5.30.2 cygwin-thread-multi

Status
Pass
From
Nigel Horne
Dist
Sys-Filesystem v1.408
Platform
Perl 5 v5.30.2 cygwin-thread-multi
Date
2020-10-21 15:03:34
ID
96ce986c-13ae-11eb-b9db-b6c7a8faccfa
This distribution has been tested as part of the CPAN Testers
project, supporting the Perl programming language.  See
http://wiki.cpantesters.org/ for more information or email
questions to cpan-testers-discuss@perl.org


--
Dear Jens Rehsack,

This is a computer-generated report for Sys-Filesystem-1.408
on perl 5.30.2, created by CPAN-Reporter-1.2018.

Thank you for uploading your work to CPAN.  Congratulations!
All tests were successful.

Sections of this report:

    * Tester comments
    * Program output
    * Prerequisites
    * Environment and other context

------------------------------
TESTER COMMENTS
------------------------------

Additional comments from tester:

this report is from an automated smoke testing program
and was not reviewed by a human for accuracy

------------------------------
PROGRAM OUTPUT
------------------------------

Output from '/usr/bin/make test':

PERL_DL_NONLAZY=1 "/home/Nigel/perl5/perlbrew/perls/perl-5.30.2-thread-multi/bin/perl5.30.2.exe" "-MExtUtils::Command::MM" "-MTest::Harness" "-e" "undef *Test::Harness::Switches; test_harness(0, 'blib/lib', 'blib/arch')" t/*.t xt/*.t
# Testing Sys::Filesystem 1.408, Perl 5.030002 (/home/Nigel/perl5/perlbrew/perls/perl-5.30.2-thread-multi/bin/perl5.30.2) on cygwin-3.1.4(0.34053)
t/01_load.t ...... ok
# Checking '/cygdrive/c' being mountpoint for '/home/Nigel/perl5/perlbrew/perls/perl-5.30.2-thread-multi/bin/perl5.30.2.exe' or '/cygdrive/j/cpan/build/Sys-Filesystem-1.408-0/t/03_whereami.t' ...
# Checking '/cygdrive/i' being mountpoint for '/home/Nigel/perl5/perlbrew/perls/perl-5.30.2-thread-multi/bin/perl5.30.2.exe' or '/cygdrive/j/cpan/build/Sys-Filesystem-1.408-0/t/03_whereami.t' ...
# Checking '/cygdrive/j' being mountpoint for '/home/Nigel/perl5/perlbrew/perls/perl-5.30.2-thread-multi/bin/perl5.30.2.exe' or '/cygdrive/j/cpan/build/Sys-Filesystem-1.408-0/t/03_whereami.t' ...
# Checking '/cygdrive/k' being mountpoint for '/home/Nigel/perl5/perlbrew/perls/perl-5.30.2-thread-multi/bin/perl5.30.2.exe' or '/cygdrive/j/cpan/build/Sys-Filesystem-1.408-0/t/03_whereami.t' ...
# Checking '/usr/bin' being mountpoint for '/home/Nigel/perl5/perlbrew/perls/perl-5.30.2-thread-multi/bin/perl5.30.2.exe' or '/cygdrive/j/cpan/build/Sys-Filesystem-1.408-0/t/03_whereami.t' ...
# Checking '/usr/lib' being mountpoint for '/home/Nigel/perl5/perlbrew/perls/perl-5.30.2-thread-multi/bin/perl5.30.2.exe' or '/cygdrive/j/cpan/build/Sys-Filesystem-1.408-0/t/03_whereami.t' ...
# Checking '/' being mountpoint for '/home/Nigel/perl5/perlbrew/perls/perl-5.30.2-thread-multi/bin/perl5.30.2.exe' or '/cygdrive/j/cpan/build/Sys-Filesystem-1.408-0/t/03_whereami.t' ...
t/03_whereami.t .. ok
t/04_special.t ... ok
t/05_error.t ..... ok
t/06_settings.t .. ok
# filesystem - mounted - special - device - options - format - volume - label - type
# / - 1 - 0 - C:/cygwin64 - binary,auto - ntfs - 1 - 1 - ntfs
# /cygdrive/c - 1 - 0 - C: - binary,posix=0,user,noumount,auto - ntfs - 1 - 1 - ntfs
# /cygdrive/i - 1 - 0 - I: - binary,posix=0,user,noumount,auto - ntfs - 1 - 1 - ntfs
# /cygdrive/j - 1 - 0 - J: - binary,posix=0,user,noumount,auto - ntfs - 1 - 1 - ntfs
# /cygdrive/k - 1 - 0 - K: - binary,posix=0,user,noumount,auto - ntfs - 1 - 1 - ntfs
# /usr/bin - 1 - 0 - C:/cygwin64/bin - binary,auto - ntfs - 1 - 1 - ntfs
# /usr/lib - 1 - 0 - C:/cygwin64/lib - binary,auto - ntfs - 1 - 1 - ntfs
t/02_basic.t ..... ok
All tests successful.

Test Summary Report
-------------------
t/03_whereami.t (Wstat: 0 Tests: 3 Failed: 0)
  TODO passed:   2-3
Files=6, Tests=100,  2 wallclock secs ( 0.09 usr  0.11 sys +  1.15 cusr  4.49 csys =  5.84 CPU)
Result: PASS

------------------------------
PREREQUISITES
------------------------------

Prerequisite modules loaded:

requires:

    Module              Need     Have    
    ------------------- -------- --------
    Carp                0        1.50    
    Cwd                 0        3.78    
    File::Spec          0        3.78    
    FindBin             0        1.51    
    IO                  0        1.40    
    IPC::Cmd            0.80     1.02    
    Module::Pluggable   4.8      5.2     
    Params::Util        1.00     1.100   
    perl                5.008001 5.030002

build_requires:

    Module              Need     Have    
    ------------------- -------- --------
    Test::More          0.9      1.302162

configure_requires:

    Module              Need     Have    
    ------------------- -------- --------
    Carp                0        1.50    
    Cwd                 0        3.78    
    ExtUtils::MakeMaker 0        7.44    
    File::Spec          0        3.78    
    FindBin             0        1.51    
    IO                  0        1.40    
    IPC::Cmd            0.80     1.02    
    Module::Pluggable   4.8      5.2     
    Params::Util        1.00     1.100   


------------------------------
ENVIRONMENT AND OTHER CONTEXT
------------------------------

Environment variables:

    AUTOMATED_TESTING = 1
    COMSPEC = C:\WINDOWS\system32\cmd.exe
    HARNESS_OPTIONS = c:j6
    LANG = en_GB.UTF-8
    NONINTERACTIVE_TESTING = 1
    NUMBER_OF_PROCESSORS = 12
    PATH = /home/Nigel/perl5/perlbrew/bin:/home/Nigel/perl5/perlbrew/perls/perl-5.30.2-thread-multi/bin:::/home/Nigel/bin::/home/Nigel/bin:/usr/local/bin:/usr/bin:/bin
    PERL5LIB = /cygdrive/j/cpan/build/Params-Util-1.100-0/blib/arch:/cygdrive/j/cpan/build/Params-Util-1.100-0/blib/lib:/cygdrive/j/cpan/build/Test-LeakTrace-0.16-0/blib/arch:/cygdrive/j/cpan/build/Test-LeakTrace-0.16-0/blib/lib:/cygdrive/j/cpan/build/Module-Pluggable-5.2-0/blib/arch:/cygdrive/j/cpan/build/Module-Pluggable-5.2-0/blib/lib
    PERL5OPT = 
    PERL5_CPANPLUS_IS_RUNNING = 53734
    PERL5_CPAN_IS_RUNNING = 53734
    PERL5_CPAN_IS_RUNNING_IN_RECURSION = 51821,53734
    PERLBREW_HOME = /home/Nigel/.perlbrew
    PERLBREW_MANPATH = /home/Nigel/perl5/perlbrew/perls/perl-5.30.2-thread-multi/man
    PERLBREW_PATH = /home/Nigel/perl5/perlbrew/bin:/home/Nigel/perl5/perlbrew/perls/perl-5.30.2-thread-multi/bin
    PERLBREW_PERL = perl-5.30.2-thread-multi
    PERLBREW_ROOT = /home/Nigel/perl5/perlbrew
    PERLBREW_SHELLRC_VERSION = 0.86
    PERLBREW_VERSION = 0.86
    PERL_MM_USE_DEFAULT = 1
    PERL_USE_UNSAFE_INC = 1
    PROCESSOR_IDENTIFIER = Intel64 Family 6 Model 62 Stepping 4, GenuineIntel
    SHELL = /bin/bash
    TEMP = /cygdrive/j/temp
    TERM = xterm
    TMPDIR = /cygdrive/j/temp/testwrapper.53718

Perl special variables (and OS-specific diagnostics, for MSWin32):

    $^X = /home/Nigel/perl5/perlbrew/perls/perl-5.30.2-thread-multi/bin/perl5.30.2
    $UID/$EUID = 1001 / 1001
    $GID = 11001 401408 1002 559 545 4 66049 11 15 68354 113 4095 66048 262180
    $EGID = 11001 401408 1002 559 545 4 66049 11 15 68354 113 4095 66048 262180

Perl module toolchain versions installed:

    Module              Have    
    ------------------- --------
    CPAN                2.28    
    CPAN::Meta          2.150010
    Cwd                 3.78    
    ExtUtils::CBuilder  0.280231
    ExtUtils::Command   7.44    
    ExtUtils::Install   2.14    
    ExtUtils::MakeMaker 7.44    
    ExtUtils::Manifest  1.72    
    ExtUtils::ParseXS   3.40    
    File::Spec          3.78    
    JSON                4.02    
    JSON::PP            4.02    
    Module::Build       0.4231  
    Module::Signature   n/a     
    Parse::CPAN::Meta   2.150010
    Test::Harness       3.42    
    Test::More          1.302162
    YAML                1.30    
    YAML::Syck          1.32    
    version             0.9924  


--

Summary of my perl5 (revision 5 version 30 subversion 2) configuration:
   
  Platform:
    osname=cygwin
    osvers=3.1.4(0.34053)
    archname=cygwin-thread-multi
    uname='cygwin_nt-10.0 cyberpower 3.1.4(0.34053) 2020-02-19 08:49 x86_64 cygwin '
    config_args='-de -Dprefix=/home/Nigel/perl5/perlbrew/perls/perl-5.30.2-thread-multi -Dusedevel -Dusethreads -Dusemultiplicity -Accflags=-O2 -W -Wformat=2 -Wswitch -Wshadow -Wwrite-strings -Wuninitialized -Wall -pipe -mtune=native -march=native -fomit-frame-pointer -msse2 -msse -mmmx -mfpmath=sse -D_FORTIFY_SOURCE=2 -Wpointer-arith -Wstrict-prototypes -fstack-protector -Wstack-protector -Wextra -Wbad-function-cast -Wcast-align -Wcast-qual -Wdisabled-optimization -Wendif-labels -Wfloat-equal -Wformat-nonliteral -Winline -Wmissing-declarations -Wmissing-prototypes -Wnested-externs -Wpointer-arith -Wundef -Wformat-security -ftree-vectorize -mtune=native -march=native -Aeval:scriptdir=/home/Nigel/perl5/perlbrew/perls/perl-5.30.2-thread-multi/bin'
    hint=recommended
    useposix=true
    d_sigaction=define
    useithreads=define
    usemultiplicity=define
    use64bitint=define
    use64bitall=define
    uselongdouble=undef
    usemymalloc=n
    default_inc_excludes_dot=define
    bincompat5005=undef
  Compiler:
    cc='gcc'
    ccflags ='-DPERL_USE_SAFE_PUTENV -U__STRICT_ANSI__ -O2 -W -Wformat=2 -Wswitch -Wshadow -Wwrite-strings -Wuninitialized -Wall -pipe -mtune=native -march=native -fomit-frame-pointer -msse2 -msse -mmmx -mfpmath=sse -D_FORTIFY_SOURCE=2 -Wpointer-arith -Wstrict-prototypes -fstack-protector -Wstack-protector -Wextra -Wbad-function-cast -Wcast-align -Wcast-qual -Wdisabled-optimization -Wendif-labels -Wfloat-equal -Wformat-nonliteral -Winline -Wmissing-declarations -Wmissing-prototypes -Wnested-externs -Wpointer-arith -Wundef -Wformat-security -ftree-vectorize -mtune=native -march=native -fwrapv -fno-strict-aliasing -fstack-protector-strong'
    optimize='-O3'
    cppflags='-DPERL_USE_SAFE_PUTENV -U__STRICT_ANSI__ -O2 -W -Wformat=2 -Wswitch -Wshadow -Wwrite-strings -Wuninitialized -Wall -pipe -mtune=native -march=native -fomit-frame-pointer -msse2 -msse -mmmx -mfpmath=sse -D_FORTIFY_SOURCE=2 -Wpointer-arith -Wstrict-prototypes -fstack-protector -Wstack-protector -Wextra -Wbad-function-cast -Wcast-align -Wcast-qual -Wdisabled-optimization -Wendif-labels -Wfloat-equal -Wformat-nonliteral -Winline -Wmissing-declarations -Wmissing-prototypes -Wnested-externs -Wpointer-arith -Wundef -Wformat-security -ftree-vectorize -mtune=native -march=native -fwrapv -fno-strict-aliasing -fstack-protector-strong'
    ccversion=''
    gccversion='9.3.0'
    gccosandvers=''
    intsize=4
    longsize=8
    ptrsize=8
    doublesize=8
    byteorder=12345678
    doublekind=3
    d_longlong=define
    longlongsize=8
    d_longdbl=define
    longdblsize=16
    longdblkind=3
    ivtype='long'
    ivsize=8
    nvtype='double'
    nvsize=8
    Off_t='off_t'
    lseeksize=8
    alignbytes=8
    prototype=define
  Linker and Libraries:
    ld='g++'
    ldflags =' -Wl,--enable-auto-import -Wl,--export-all-symbols -Wl,--enable-auto-image-base -fstack-protector-strong -L/usr/local/lib'
    libpth=/usr/lib /usr/lib/gcc/x86_64-pc-cygwin/9.3.0/../../../../lib/../include/w32api /usr/local/lib /lib
    libs=-lpthread -ldl
    perllibs=-lpthread -ldl
    libc=/usr/lib/libc.a
    so=dll
    useshrplib=true
    libperl=cygperl5_30_2.dll
    gnulibc_version=''
  Dynamic Linking:
    dlsrc=dl_dlopen.xs
    dlext=dll
    d_dlsymun=undef
    ccdlflags=' '
    cccdlflags=' '
    lddlflags=' --shared  -Wl,--enable-auto-import -Wl,--export-all-symbols -Wl,--enable-auto-image-base -L/usr/local/lib -fstack-protector-strong'


Characteristics of this binary (from libperl): 
  Compile-time options:
    HAS_TIMES
    MULTIPLICITY
    PERLIO_LAYERS
    PERL_COPY_ON_WRITE
    PERL_DONT_CREATE_GVSV
    PERL_IMPLICIT_CONTEXT
    PERL_MALLOC_WRAP
    PERL_OP_PARENT
    PERL_PRESERVE_IVUV
    PERL_USE_DEVEL
    PERL_USE_SAFE_PUTENV
    USE_64_BIT_ALL
    USE_64_BIT_INT
    USE_ITHREADS
    USE_LARGE_FILES
    USE_LOCALE
    USE_LOCALE_COLLATE
    USE_LOCALE_CTYPE
    USE_LOCALE_NUMERIC
    USE_LOCALE_TIME
    USE_PERLIO
    USE_PERL_ATOF
    USE_REENTRANT_API
    USE_THREAD_SAFE_LOCALE
  Built under cygwin
  Compiled at Mar 24 2020 22:06:27
  %ENV:
    PERL5LIB="/cygdrive/j/cpan/build/Params-Util-1.100-0/blib/arch:/cygdrive/j/cpan/build/Params-Util-1.100-0/blib/lib:/cygdrive/j/cpan/build/Test-LeakTrace-0.16-0/blib/arch:/cygdrive/j/cpan/build/Test-LeakTrace-0.16-0/blib/lib:/cygdrive/j/cpan/build/Module-Pluggable-5.2-0/blib/arch:/cygdrive/j/cpan/build/Module-Pluggable-5.2-0/blib/lib"
    PERL5OPT=""
    PERL5_CPANPLUS_IS_RUNNING="53734"
    PERL5_CPAN_IS_RUNNING="53734"
    PERL5_CPAN_IS_RUNNING_IN_RECURSION="51821,53734"
    PERLBREW_HOME="/home/Nigel/.perlbrew"
    PERLBREW_MANPATH="/home/Nigel/perl5/perlbrew/perls/perl-5.30.2-thread-multi/man"
    PERLBREW_PATH="/home/Nigel/perl5/perlbrew/bin:/home/Nigel/perl5/perlbrew/perls/perl-5.30.2-thread-multi/bin"
    PERLBREW_PERL="perl-5.30.2-thread-multi"
    PERLBREW_ROOT="/home/Nigel/perl5/perlbrew"
    PERLBREW_SHELLRC_VERSION="0.86"
    PERLBREW_VERSION="0.86"
    PERL_MM_USE_DEFAULT="1"
    PERL_USE_UNSAFE_INC="1"
  @INC:
    /cygdrive/j/cpan/build/Params-Util-1.100-0/blib/arch
    /cygdrive/j/cpan/build/Params-Util-1.100-0/blib/lib
    /cygdrive/j/cpan/build/Test-LeakTrace-0.16-0/blib/arch
    /cygdrive/j/cpan/build/Test-LeakTrace-0.16-0/blib/lib
    /cygdrive/j/cpan/build/Module-Pluggable-5.2-0/blib/arch
    /cygdrive/j/cpan/build/Module-Pluggable-5.2-0/blib/lib
    /home/Nigel/perl5/perlbrew/perls/perl-5.30.2-thread-multi/lib/site_perl/5.30.2/cygwin-thread-multi
    /home/Nigel/perl5/perlbrew/perls/perl-5.30.2-thread-multi/lib/site_perl/5.30.2
    /home/Nigel/perl5/perlbrew/perls/perl-5.30.2-thread-multi/lib/5.30.2/cygwin-thread-multi
    /home/Nigel/perl5/perlbrew/perls/perl-5.30.2-thread-multi/lib/5.30.2
    .