Net-Statsd-Server v0.20 Perl 5 v5.34.1 RC2 x86_64-linux

Status
Pass
From
Andreas J. König (ANDK)
Dist
Net-Statsd-Server v0.20
Platform
Perl 5 v5.34.1 RC2 x86_64-linux
Date
2022-03-08 00:20:42
ID
9724caf4-9e75-11ec-85db-a6cc14f7dbc9
This distribution has been tested as part of the CPAN Testers
project, supporting the Perl programming language.  See
http://wiki.cpantesters.org/ for more information or email
questions to cpan-testers-discuss@perl.org


--
Dear Cosimo Streppone,

This is a computer-generated report for Net-Statsd-Server-0.20
on perl 5.34.1, created by CPAN-Reporter-1.2018.

Thank you for uploading your work to CPAN.  Congratulations!
All tests were successful.

Sections of this report:

    * Tester comments
    * Program output
    * Prerequisites
    * Environment and other context

------------------------------
TESTER COMMENTS
------------------------------

Additional comments from tester:

this report is from an automated smoke testing program
and was not reviewed by a human for accuracy

------------------------------
PROGRAM OUTPUT
------------------------------

Output from '/usr/bin/make test':

PERL_DL_NONLAZY=1 "/tmp/basesmoker-reloperl-8U1V/bin/perl" "-MExtUtils::Command::MM" "-MTest::Harness" "-e" "undef *Test::Harness::Switches; test_harness(0, 'blib/lib', 'blib/arch')" t/*.t t/integration-tests/*.t
t/000-sanity.t ............................. ok
t/config.t ................................. ok
t/graphite.t ............................... ok
2022-03-08 00:18:05.000000 +0000 note  Net::Statsd::Server: Initializing Net::Statsd::Server::Backend::Console backend
2022-03-08 00:18:05.000000 +0000 note  Net::Statsd::Server: Initializing Net::Statsd::Server::Backend::Graphite backend
2022-03-08 00:18:05.000000 +0000 info  AnyEvent: Autoloaded model 'AnyEvent::Impl::EV', using it.
2022-03-08 00:18:05.832366 +0000 note  Net::Statsd::Server: statsd server started on 0.0.0.0:40001 (v0.17)
2022-03-08 00:18:05.832395 +0000 note  Net::Statsd::Server: manager interface started on 0.0.0.0:40002
2022-03-08 00:18:05.832418 +0000 note  Net::Statsd::Server: metrics flush will happen every 1s
2022-03-08 00:18:06.275953 +0000 warn  Net::Statsd::Server: Bad line: 1 in msg "a_bad_test_value|z"
2022-03-08 00:18:06.834897 +0000 note  Net::Statsd::Server: flushing metrics
Flushing stats at Tue Mar  8 00:18:06 2022
{"sets":null,"gauges":{},"timers":{},"counter_rates":{"statsd.bad_lines_seen":1,"statsd.packets_received":1},"counters":{"statsd.packets_received":1,"statsd.bad_lines_seen":1},"pctThreshold":[90],"timer_data":{}}
t/integration-tests/bad-message.t .......... ok
2022-03-08 00:18:06.000000 +0000 note  Net::Statsd::Server: Initializing Net::Statsd::Server::Backend::Console backend
2022-03-08 00:18:06.000000 +0000 note  Net::Statsd::Server: Initializing Net::Statsd::Server::Backend::Graphite backend
2022-03-08 00:18:06.000000 +0000 info  AnyEvent: Autoloaded model 'AnyEvent::Impl::EV', using it.
2022-03-08 00:18:06.987231 +0000 note  Net::Statsd::Server: statsd server started on 0.0.0.0:40001 (v0.17)
2022-03-08 00:18:06.987261 +0000 note  Net::Statsd::Server: manager interface started on 0.0.0.0:40002
2022-03-08 00:18:06.987283 +0000 note  Net::Statsd::Server: metrics flush will happen every 1s
2022-03-08 00:18:07.989761 +0000 note  Net::Statsd::Server: flushing metrics
Flushing stats at Tue Mar  8 00:18:07 2022
{"sets":null,"gauges":{},"timer_data":{},"counter_rates":{"statsd.bad_lines_seen":0,"statsd.packets_received":1,"a_test_value":100},"timers":{},"pctThreshold":[90],"counters":{"a_test_value":100,"statsd.packets_received":1,"statsd.bad_lines_seen":0}}
# stats.counters.a_test_value.rate 100.000000 1646698687
# stats.counters.a_test_value.count 100 1646698687
# stats.counters.statsd.packets_received.rate 1.000000 1646698687
# stats.counters.statsd.packets_received.count 1 1646698687
# stats.counters.statsd.bad_lines_seen.rate 0.000000 1646698687
# stats.counters.statsd.bad_lines_seen.count 0 1646698687
# stats.statsd.numStats 3 1646698687
# stats.statsd.graphiteStats.calculationtime 0.030000 1646698687
# stats.statsd.processing_time 0.016 1646698687
# stats.statsd.graphiteStats.last_exception 94293089130976 1646698687
# stats.statsd.graphiteStats.last_flush 94293089130976 1646698687
t/integration-tests/counts-are-valid.t ..... ok
2022-03-08 00:18:08.000000 +0000 note  Net::Statsd::Server: Initializing Net::Statsd::Server::Backend::Graphite backend
2022-03-08 00:18:08.000000 +0000 info  AnyEvent: Autoloaded model 'AnyEvent::Impl::EV', using it.
2022-03-08 00:18:08.140923 +0000 note  Net::Statsd::Server: statsd server started on 0.0.0.0:40001 (v0.17)
2022-03-08 00:18:08.140952 +0000 note  Net::Statsd::Server: manager interface started on 0.0.0.0:40002
2022-03-08 00:18:08.140976 +0000 note  Net::Statsd::Server: metrics flush will happen every 1s
2022-03-08 00:18:09.143225 +0000 note  Net::Statsd::Server: flushing metrics
# First flush. Test gauge should be there.
2022-03-08 00:18:10.145982 +0000 note  Net::Statsd::Server: flushing metrics
# Second flush. deleteGauges=false should keep the test gauge.
t/integration-tests/delete-gauges-false.t .. ok
2022-03-08 00:18:10.000000 +0000 note  Net::Statsd::Server: Initializing Net::Statsd::Server::Backend::Graphite backend
2022-03-08 00:18:10.000000 +0000 info  AnyEvent: Autoloaded model 'AnyEvent::Impl::EV', using it.
2022-03-08 00:18:10.294897 +0000 note  Net::Statsd::Server: statsd server started on 0.0.0.0:40001 (v0.17)
2022-03-08 00:18:10.294919 +0000 note  Net::Statsd::Server: manager interface started on 0.0.0.0:40002
2022-03-08 00:18:10.294943 +0000 note  Net::Statsd::Server: metrics flush will happen every 1s
2022-03-08 00:18:11.297889 +0000 note  Net::Statsd::Server: flushing metrics
# First flush. Test gauge should be there.
2022-03-08 00:18:12.299745 +0000 note  Net::Statsd::Server: flushing metrics
# Second flush. deleteIdleStats should have cleared the test gauge.
t/integration-tests/delete-idle-stats.t .... ok
2022-03-08 00:18:12.000000 +0000 note  Net::Statsd::Server: Initializing Net::Statsd::Server::Backend::Console backend
2022-03-08 00:18:12.000000 +0000 note  Net::Statsd::Server: Initializing Net::Statsd::Server::Backend::Graphite backend
2022-03-08 00:18:12.000000 +0000 info  AnyEvent: Autoloaded model 'AnyEvent::Impl::EV', using it.
2022-03-08 00:18:12.446748 +0000 note  Net::Statsd::Server: statsd server started on 0.0.0.0:40001 (v0.17)
2022-03-08 00:18:12.446779 +0000 note  Net::Statsd::Server: manager interface started on 0.0.0.0:40002
2022-03-08 00:18:12.446801 +0000 note  Net::Statsd::Server: metrics flush will happen every 1s
2022-03-08 00:18:13.449054 +0000 note  Net::Statsd::Server: flushing metrics
Flushing stats at Tue Mar  8 00:18:13 2022
{"timer_data":{},"counters":{"a_test_value,category=web,severity=high":100,"statsd.bad_lines_seen":0,"statsd.packets_received":1},"sets":null,"pctThreshold":[90],"gauges":{},"counter_rates":{"statsd.bad_lines_seen":0,"statsd.packets_received":1,"a_test_value,category=web,severity=high":100},"timers":{}}
# stats.counters.a_test_value,category=web,severity=high.rate 100.000000 1646698693
# stats.counters.a_test_value,category=web,severity=high.count 100 1646698693
# stats.counters.statsd.bad_lines_seen.rate 0.000000 1646698693
# stats.counters.statsd.bad_lines_seen.count 0 1646698693
# stats.counters.statsd.packets_received.rate 1.000000 1646698693
# stats.counters.statsd.packets_received.count 1 1646698693
# stats.statsd.numStats 3 1646698693
# stats.statsd.graphiteStats.calculationtime 0.028000 1646698693
# stats.statsd.processing_time 0.015 1646698693
# stats.statsd.graphiteStats.last_exception 94307835066848 1646698693
# stats.statsd.graphiteStats.last_flush 94307835066848 1646698693
t/integration-tests/keys-with-tags.t ....... ok
2022-03-08 00:18:13.000000 +0000 note  Net::Statsd::Server: Initializing Net::Statsd::Server::Backend::Graphite backend
2022-03-08 00:18:13.000000 +0000 info  AnyEvent: Autoloaded model 'AnyEvent::Impl::EV', using it.
2022-03-08 00:18:13.599642 +0000 note  Net::Statsd::Server: statsd server started on 0.0.0.0:40001 (v0.17)
2022-03-08 00:18:13.599668 +0000 note  Net::Statsd::Server: manager interface started on 0.0.0.0:40002
2022-03-08 00:18:13.599692 +0000 note  Net::Statsd::Server: metrics flush will happen every 1s
# Expected mean value is 2069.38
2022-03-08 00:18:14.601955 +0000 note  Net::Statsd::Server: flushing metrics
# stats.counters.statsd.bad_lines_seen.rate 0.000000 1646698694
# stats.counters.statsd.bad_lines_seen.count 0 1646698694
# stats.counters.statsd.packets_received.rate 100.000000 1646698694
# stats.counters.statsd.packets_received.count 100 1646698694
# stats.timers.read_latency.upper_95 2928.000000 1646698694
# stats.timers.read_latency.sum_99 203955.000000 1646698694
# stats.timers.read_latency.sum_95 192106.000000 1646698694
# stats.timers.read_latency.sum_98 200976.000000 1646698694
# stats.timers.read_latency.lower 1004.000000 1646698694
# stats.timers.read_latency.count_ps 100.000000 1646698694
# stats.timers.read_latency.count_95 95.000000 1646698694
# stats.timers.read_latency.sum_squares 463065634.000000 1646698694
# stats.timers.read_latency.std 590.188746 1646698694
# stats.timers.read_latency.sum_squares_95 419067258.000000 1646698694
# stats.timers.read_latency.sum_squares_98 445292904.000000 1646698694
# stats.timers.read_latency.mean_99 2060.151515 1646698694
# stats.timers.read_latency.sum_squares_99 454167345.000000 1646698694
# stats.timers.read_latency.sum 206938.000000 1646698694
# stats.timers.read_latency.upper_98 2959.000000 1646698694
# stats.timers.read_latency.count_99 99.000000 1646698694
# stats.timers.read_latency.upper 2983.000000 1646698694
# stats.timers.read_latency.median 2050.500000 1646698694
# stats.timers.read_latency.mean_98 2050.775510 1646698694
# stats.timers.read_latency.count_98 98.000000 1646698694
# stats.timers.read_latency.mean_95 2022.168421 1646698694
# stats.timers.read_latency.mean 2069.380000 1646698694
# stats.timers.read_latency.upper_99 2979.000000 1646698694
# stats.timers.read_latency.count 100.000000 1646698694
# stats.statsd.numStats 3 1646698694
# stats.statsd.graphiteStats.calculationtime 0.060000 1646698694
# stats.statsd.processing_time 0.159 1646698694
# stats.statsd.graphiteStats.last_exception 94145391524320 1646698694
# stats.statsd.graphiteStats.last_flush 94145391524320 1646698694
t/integration-tests/percent-threshold.t .... ok
2022-03-08 00:18:14.000000 +0000 note  Net::Statsd::Server: Initializing Net::Statsd::Server::Backend::Console backend
2022-03-08 00:18:14.000000 +0000 note  Net::Statsd::Server: Initializing Net::Statsd::Server::Backend::Graphite backend
2022-03-08 00:18:14.000000 +0000 info  AnyEvent: Autoloaded model 'AnyEvent::Impl::EV', using it.
2022-03-08 00:18:14.752383 +0000 note  Net::Statsd::Server: statsd server started on 0.0.0.0:40001 (v0.17)
2022-03-08 00:18:14.752407 +0000 note  Net::Statsd::Server: manager interface started on 0.0.0.0:40002
2022-03-08 00:18:14.752430 +0000 note  Net::Statsd::Server: metrics flush will happen every 1s
2022-03-08 00:18:15.755053 +0000 note  Net::Statsd::Server: flushing metrics
Flushing stats at Tue Mar  8 00:18:15 2022
{"timer_data":{"a_test_value":{"sum_squares_90":10000,"sum":"100","mean":100,"sum_squares":10000,"mean_90":"100","lower":"100","std":0,"median":"100","upper_90":"100","sum_90":"100","upper":"100","count_90":1,"count_ps":1,"count":1}},"counter_rates":{"statsd.packets_received":1,"statsd.bad_lines_seen":0},"gauges":{},"counters":{"statsd.bad_lines_seen":0,"statsd.packets_received":1},"timers":{"a_test_value":["100"]},"pctThreshold":["90"],"sets":null}
# stats.counters.statsd.bad_lines_seen.rate 0.000000 1646698695
# stats.counters.statsd.bad_lines_seen.count 0 1646698695
# stats.counters.statsd.packets_received.rate 1.000000 1646698695
# stats.counters.statsd.packets_received.count 1 1646698695
# stats.timers.a_test_value.sum_squares_90 10000.000000 1646698695
# stats.timers.a_test_value.sum 100.000000 1646698695
# stats.timers.a_test_value.mean 100.000000 1646698695
# stats.timers.a_test_value.sum_squares 10000.000000 1646698695
# stats.timers.a_test_value.mean_90 100.000000 1646698695
# stats.timers.a_test_value.lower 100.000000 1646698695
# stats.timers.a_test_value.std 0.000000 1646698695
# stats.timers.a_test_value.median 100.000000 1646698695
# stats.timers.a_test_value.upper_90 100.000000 1646698695
# stats.timers.a_test_value.sum_90 100.000000 1646698695
# stats.timers.a_test_value.upper 100.000000 1646698695
# stats.timers.a_test_value.count_90 1.000000 1646698695
# stats.timers.a_test_value.count_ps 1.000000 1646698695
# stats.timers.a_test_value.count 1.000000 1646698695
# stats.statsd.numStats 3 1646698695
# stats.statsd.graphiteStats.calculationtime 0.048000 1646698695
# stats.statsd.processing_time 0.063 1646698695
# stats.statsd.graphiteStats.last_exception 94077751269856 1646698695
# stats.statsd.graphiteStats.last_flush 94077751269856 1646698695
t/integration-tests/timers-are-valid.t ..... ok
t/process-metrics.t ........................ ok
t/trim.t ................................... ok
All tests successful.
Files=12, Tests=92, 10 wallclock secs ( 0.05 usr  0.04 sys +  0.80 cusr  0.21 csys =  1.10 CPU)
Result: PASS

------------------------------
PREREQUISITES
------------------------------

Prerequisite modules loaded:

requires:

    Module                Need Have    
    --------------------- ---- --------
    AnyEvent::Handle::UDP 0    0.050   
    IO::Socket::INET      0    1.46    
    JSON::XS              0    4.03    

build_requires:

    Module                Need Have    
    --------------------- ---- --------
    ExtUtils::MakeMaker   0    7.64    
    Test::More            0    1.302190

configure_requires:

    Module                Need Have    
    --------------------- ---- --------
    ExtUtils::MakeMaker   0    7.64    


------------------------------
ENVIRONMENT AND OTHER CONTEXT
------------------------------

Environment variables:

    AUTOMATED_TESTING = 1
    LANG = en_US.utf8
    PATH = /home/sand/bin:/usr/local/bin:/usr/local/sbin:/usr/sbin:/usr/bin:/sbin:/bin:/usr/games:/usr/local/games:/snap/bin:/usr/local/perl/bin:/usr/X11/bin
    PERL = /tmp/basesmoker-reloperl-8U1V/bin/perl
    PERL5LIB = /tmp/loop_over_bdir-32375-32owZG/Business-Shipping-DataFiles-1.02-0/blib/arch:/tmp/loop_over_bdir-32375-32owZG/Business-Shipping-DataFiles-1.02-0/blib/lib
    PERL5OPT = 
    PERL5_CPANPLUS_IS_RUNNING = 32383
    PERL5_CPAN_IS_RUNNING = 32383
    PERL_CANARY_STABILITY_NOPROMPT = 1
    PERL_MM_USE_DEFAULT = 1
    PERL_USE_UNSAFE_INC = 1
    SHELL = /usr/bin/zsh
    TERM = screen

Perl special variables (and OS-specific diagnostics, for MSWin32):

    $^X = /tmp/basesmoker-reloperl-8U1V/bin/perl
    $UID/$EUID = 1005 / 1005
    $GID = 1005 1005
    $EGID = 1005 1005

Perl module toolchain versions installed:

    Module              Have    
    ------------------- --------
    CPAN                2.33    
    CPAN::Meta          2.150010
    Cwd                 3.80    
    ExtUtils::CBuilder  0.280236
    ExtUtils::Command   7.64    
    ExtUtils::Install   2.20    
    ExtUtils::MakeMaker 7.64    
    ExtUtils::Manifest  1.73    
    ExtUtils::ParseXS   3.43    
    File::Spec          3.80    
    JSON                4.05    
    JSON::PP            4.06    
    Module::Build       0.4231  
    Module::Signature   0.88    
    Parse::CPAN::Meta   2.150010
    Test::Harness       3.43    
    Test::More          1.302190
    YAML                1.30    
    YAML::Syck          1.34    
    version             0.9929  


--

Summary of my perl5 (revision 5 version 34 subversion 1) configuration:
  Commit id: 23fa289c91349497f7c149ace76da18516ca92be
  Platform:
    osname=linux
    osvers=4.15.0-169-generic
    archname=x86_64-linux
    uname='linux k93bionic 4.15.0-169-generic #177-ubuntu smp thu feb 3 10:50:38 utc 2022 x86_64 x86_64 x86_64 gnulinux '
    config_args='-Dprefix=/home/sand/src/perl/repoperls/installed-perls/host/k93bionic/v5.34.1-RC2/2aaf -Dmyhostname=k93bionic -Dinstallusrbinperl=n -Uversiononly -Dusedevel -des -Ui_db -Dlibswanted=cl pthread socket inet nsl gdbm dbm malloc dl ld sun m crypt sec util c cposix posix ucb BSD gdbm_compat -Uuseithreads -Uuselongdouble -DEBUGGING=-g'
    hint=recommended
    useposix=true
    d_sigaction=define
    useithreads=undef
    usemultiplicity=undef
    use64bitint=define
    use64bitall=define
    uselongdouble=undef
    usemymalloc=n
    default_inc_excludes_dot=define
  Compiler:
    cc='cc'
    ccflags ='-fwrapv -fno-strict-aliasing -pipe -fstack-protector-strong -I/usr/local/include -D_LARGEFILE_SOURCE -D_FILE_OFFSET_BITS=64'
    optimize='-O2 -g'
    cppflags='-fwrapv -fno-strict-aliasing -pipe -fstack-protector-strong -I/usr/local/include'
    ccversion=''
    gccversion='7.5.0'
    gccosandvers=''
    intsize=4
    longsize=8
    ptrsize=8
    doublesize=8
    byteorder=12345678
    doublekind=3
    d_longlong=define
    longlongsize=8
    d_longdbl=define
    longdblsize=16
    longdblkind=3
    ivtype='long'
    ivsize=8
    nvtype='double'
    nvsize=8
    Off_t='off_t'
    lseeksize=8
    alignbytes=8
    prototype=define
  Linker and Libraries:
    ld='cc'
    ldflags =' -fstack-protector-strong -L/usr/local/lib'
    libpth=/usr/local/lib /usr/lib/x86_64-linux-gnu /usr/lib /lib/x86_64-linux-gnu /lib
    libs=-lpthread -lnsl -ldl -lm -lcrypt -lutil -lc
    perllibs=-lpthread -lnsl -ldl -lm -lcrypt -lutil -lc
    libc=libc-2.27.so
    so=so
    useshrplib=false
    libperl=libperl.a
    gnulibc_version='2.27'
  Dynamic Linking:
    dlsrc=dl_dlopen.xs
    dlext=so
    d_dlsymun=undef
    ccdlflags='-Wl,-E'
    cccdlflags='-fPIC'
    lddlflags='-shared -O2 -g -L/usr/local/lib -fstack-protector-strong'


Characteristics of this binary (from libperl): 
  Compile-time options:
    HAS_TIMES
    PERLIO_LAYERS
    PERL_COPY_ON_WRITE
    PERL_DONT_CREATE_GVSV
    PERL_MALLOC_WRAP
    PERL_OP_PARENT
    PERL_PRESERVE_IVUV
    PERL_USE_DEVEL
    USE_64_BIT_ALL
    USE_64_BIT_INT
    USE_LARGE_FILES
    USE_LOCALE
    USE_LOCALE_COLLATE
    USE_LOCALE_CTYPE
    USE_LOCALE_NUMERIC
    USE_LOCALE_TIME
    USE_PERLIO
    USE_PERL_ATOF
  Locally applied patches:
    RC2
  Built under linux
  Compiled at Mar  6 2022 17:57:37
  %ENV:
    PERL="/tmp/basesmoker-reloperl-8U1V/bin/perl"
    PERL5LIB="/tmp/loop_over_bdir-32375-32owZG/Business-Shipping-DataFiles-1.02-0/blib/arch:/tmp/loop_over_bdir-32375-32owZG/Business-Shipping-DataFiles-1.02-0/blib/lib"
    PERL5OPT=""
    PERL5_CPANPLUS_IS_RUNNING="32383"
    PERL5_CPAN_IS_RUNNING="32383"
    PERL_CANARY_STABILITY_NOPROMPT="1"
    PERL_MM_USE_DEFAULT="1"
    PERL_USE_UNSAFE_INC="1"
  @INC:
    /tmp/loop_over_bdir-32375-32owZG/Business-Shipping-DataFiles-1.02-0/blib/arch
    /tmp/loop_over_bdir-32375-32owZG/Business-Shipping-DataFiles-1.02-0/blib/lib
    /home/sand/src/perl/repoperls/installed-perls/host/k93bionic/v5.34.1-RC2/2aaf/lib/site_perl/5.34.1/x86_64-linux
    /home/sand/src/perl/repoperls/installed-perls/host/k93bionic/v5.34.1-RC2/2aaf/lib/site_perl/5.34.1
    /home/sand/src/perl/repoperls/installed-perls/host/k93bionic/v5.34.1-RC2/2aaf/lib/5.34.1/x86_64-linux
    /home/sand/src/perl/repoperls/installed-perls/host/k93bionic/v5.34.1-RC2/2aaf/lib/5.34.1
    .