CPAN-SQLite v0.220 Perl 5 v5.18.3 x86_64-linux-thread-multi-ld

Status
Pass
From
Nigel Horne
Dist
CPAN-SQLite v0.220
Platform
Perl 5 v5.18.3 x86_64-linux-thread-multi-ld
Date
2023-02-03 15:15:27
ID
97312fd6-a3d5-11ed-8d9f-f0a1c1cdefc0
This distribution has been tested as part of the CPAN Testers
project, supporting the Perl programming language.  See
http://wiki.cpantesters.org/ for more information or email
questions to cpan-testers-discuss@perl.org


--
Dear Serguei Trouchelle,

This is a computer-generated report for CPAN-SQLite-0.220
on perl 5.18.3, created by CPAN-Reporter-1.2018.

Thank you for uploading your work to CPAN.  Congratulations!
All tests were successful.

Sections of this report:

    * Tester comments
    * Program output
    * Prerequisites
    * Environment and other context

------------------------------
TESTER COMMENTS
------------------------------

Additional comments from tester:

none provided

------------------------------
PROGRAM OUTPUT
------------------------------

Output from '/usr/bin/make test':

PERL_DL_NONLAZY=1 "/home/opc/perl5/perlbrew/perls/perl-5.18.3-thread-multi-ld-64all/bin/perl5.18.3" "-MExtUtils::Command::MM" "-MTest::Harness" "-e" "undef *Test::Harness::Switches; test_harness(0, 'blib/lib', 'blib/arch')" t/*.t
t/02drop.t ....................... ok
t/03info.t ....................... ok
t/04search.t ..................... ok
t/04search_everything.t .......... ok
t/05meta_new.t ................... ok
t/05meta_update.t ................ ok
t/00-all_prereqs.t ............... ok
# 
# Versions for all modules listed in MYMETA.json (including optional ones):
# 
# === Configure Requires ===
# 
#     Module              Want Have
#     ------------------- ---- ----
#     ExtUtils::MakeMaker  any 7.62
# 
# === Build Requires ===
# 
#     Module              Want Have
#     ------------------- ---- ----
#     ExtUtils::MakeMaker  any 7.62
# 
# === Test Requires ===
# 
#     Module              Want     Have
#     ------------------- ---- --------
#     CPAN::HandleConfig   any   5.5012
#     CPAN::Version        any   5.5003
#     Carp                 any     1.50
#     DBD::SQLite          any     1.72
#     ExtUtils::MakeMaker  any     7.62
#     File::Copy           any     2.26
#     File::Spec           any     3.75
#     FindBin              any     1.51
#     IO::Handle           any     1.48
#     IPC::Open3           any     1.13
#     Test::More          0.94 1.302188
#     base                 any     2.18
#     lib                  any     0.63
# 
# === Test Recommends ===
# 
#     Module         Want     Have
#     ---------- -------- --------
#     CPAN::Meta 2.120900 2.143240
# 
# === Runtime Requires ===
# 
#     Module                 Want    Have
#     --------------------- ----- -------
#     Archive::Tar           1.54    2.40
#     CPAN                    any    2.34
#     CPAN::DistnameInfo     0.09    0.12
#     CPAN::Index            1.93    2.29
#     Compress::Zlib          any   2.102
#     Cwd                     any    3.75
#     DBD::SQLite            1.27    1.72
#     DBI                     any   1.643
#     English                 any 1.06_01
#     Exporter                any    5.68
#     File::Basename          any    2.84
#     File::Find              any    1.23
#     File::HomeDir           any   1.006
#     File::Path              any    2.09
#     File::Spec              any    3.75
#     File::Spec::Functions   any    3.75
#     Getopt::Long            any    2.52
#     HTTP::Tiny            0.041   0.076
#     IO::Zlib                any    1.14
#     Safe                    any    2.35
#     Scalar::Util            any    1.63
#     Test::Harness          3.31    3.42
#     constant                any    1.27
#     parent                  any   0.225
#     strict                  any    1.07
#     utf8                    any    1.10
#     warnings                any    1.18
# 
t/00-report-prereqs.t ............ ok
# Testing with Perl 5.018003, /home/opc/perl5/perlbrew/perls/perl-5.18.3-thread-multi-ld-64all/bin/perl5.18.3
t/00-compile.t ................... ok
#     CPAN version is 2.34
#     CPAN::DistnameInfo version is 0.12
#     CPAN::HandleConfig version is 5.5012
#     CPAN::Version version is 5.5003
#     Carp version is 1.50
#     Compress::Zlib version is 2.102
#     Cwd version is 3.75
#     DBD::SQLite version is 1.72
#     DBI version is 1.643
#     English version is 1.06_01
#     Exporter version is 5.68
#     ExtUtils::MakeMaker version is 7.62
#     File::Basename version is 2.84
#     File::Copy version is 2.26
#     File::Find version is 1.23
#     File::HomeDir version is 1.006
#     File::Path version is 2.09
#     File::Spec version is 3.75
#     File::Spec::Functions version is 3.75
#     FindBin version is 1.51
#     Getopt::Long version is 2.52
#     HTTP::Tiny version is 0.076
#     IO::Handle version is 1.48
#     IPC::Open3 version is 1.13
#     Safe version is 2.35
#     Scalar::Util version is 1.63
#     Test::More version is 1.302188
#     base version is 2.18
#     constant version is 1.27
#     lib version is 0.63
#     parent version is 0.225
#     strict version is 1.07
#     utf8 version is 1.10
#     warnings version is 1.18
t/000-report-versions.t .......... ok
t/01basic.t ...................... ok
t/06retrieve.t ................... ok
t/08circular_references.t ........ ok
t/author-critic.t ................ skipped: these tests are for testing by the author
t/author-distmeta.t .............. skipped: these tests are for testing by the author
t/author-eol.t ................... skipped: these tests are for testing by the author
t/author-minimum-version.t ....... skipped: these tests are for testing by the author
t/author-no-tabs.t ............... skipped: these tests are for testing by the author
t/author-pod-syntax.t ............ skipped: these tests are for testing by the author
t/release-changes_has_content.t .. skipped: these tests are for release candidate testing
t/release-fixme.t ................ skipped: these tests are for release candidate testing
t/release-has-version.t .......... skipped: these tests are for release candidate testing
t/release-kwalitee.t ............. skipped: these tests are for release candidate testing
t/release-meta-json.t ............ skipped: these tests are for release candidate testing
t/release-pause-permissions.t .... skipped: these tests are for release candidate testing
t/07download.t ................... ok
All tests successful.
Files=26, Tests=11314, 26 wallclock secs ( 1.22 usr  0.12 sys +  8.10 cusr  0.92 csys = 10.36 CPU)
Result: PASS

------------------------------
PREREQUISITES
------------------------------

Prerequisite modules loaded:

requires:

    Module              Need     Have    
    ------------------- -------- --------
    Archive::Tar        1.54     2.40    
    Compress::Zlib      0        2.102   
    CPAN::DistnameInfo  0.09     0.12    
    CPAN::Index         1.93     2.29    
    DBD::SQLite         1.27     1.72    
    File::HomeDir       0        1.006   
    File::Spec          0        3.75    
    HTTP::Tiny          0.041    0.076   
    IO::Zlib            0        1.14    
    parent              0        0.225   
    Test::Harness       3.31     3.42    

build_requires:

    Module              Need     Have    
    ------------------- -------- --------
    ExtUtils::MakeMaker 0        7.62    

configure_requires:

    Module              Need     Have    
    ------------------- -------- --------
    ExtUtils::MakeMaker 0        7.62    

opt_build_requires:

    Module              Need     Have    
    ------------------- -------- --------
    CPAN::Meta          2.120900 2.143240


------------------------------
ENVIRONMENT AND OTHER CONTEXT
------------------------------

Environment variables:

    HARNESS_OPTIONS = j2:c
    LANG = en_US.UTF-8
    PATH = /home/opc/perl5/perlbrew/bin:/home/opc/perl5/perlbrew/perls/perl-5.18.3-thread-multi-ld-64all/bin:/usr/local/bin:/usr/bin:/usr/local/sbin:/usr/sbin:/home/opc/.local/bin:/home/opc/bin
    PERL5LIB = 
    PERL5OPT = 
    PERL5_CPANPLUS_IS_RUNNING = 31550
    PERL5_CPAN_IS_RUNNING = 31550
    PERLBREW_HOME = /home/opc/.perlbrew
    PERLBREW_MANPATH = /home/opc/perl5/perlbrew/perls/perl-5.18.3-thread-multi-ld-64all/man
    PERLBREW_PATH = /home/opc/perl5/perlbrew/bin:/home/opc/perl5/perlbrew/perls/perl-5.18.3-thread-multi-ld-64all/bin
    PERLBREW_PERL = perl-5.18.3-thread-multi-ld-64all
    PERLBREW_ROOT = /home/opc/perl5/perlbrew
    PERLBREW_SHELLRC_VERSION = 0.96
    PERLBREW_VERSION = 0.96
    PERL_USE_UNSAFE_INC = 1
    SHELL = /bin/bash
    TERM = vt220
    TMPDIR = /tmp

Perl special variables (and OS-specific diagnostics, for MSWin32):

    $^X = /home/opc/perl5/perlbrew/perls/perl-5.18.3-thread-multi-ld-64all/bin/perl5.18.3
    $UID/$EUID = 1000 / 1000
    $GID = 1000 4 10 190 1000
    $EGID = 1000 4 10 190 1000

Perl module toolchain versions installed:

    Module              Have    
    ------------------- --------
    CPAN                2.34    
    CPAN::Meta          2.143240
    Cwd                 3.75    
    ExtUtils::CBuilder  0.280210
    ExtUtils::Command   7.62    
    ExtUtils::Install   2.20    
    ExtUtils::MakeMaker 7.62    
    ExtUtils::Manifest  1.70    
    ExtUtils::ParseXS   3.44    
    File::Spec          3.75    
    JSON                4.02    
    JSON::PP            4.04    
    Module::Build       0.4231  
    Module::Signature   n/a     
    Parse::CPAN::Meta   1.4414  
    Test::Harness       3.42    
    Test::More          1.302188
    YAML                1.30    
    YAML::Syck          1.34    
    version             0.9929  


--

Summary of my perl5 (revision 5 version 18 subversion 3) configuration:
   
  Platform:
    osname=linux, osvers=4.14.35-1902.7.3.el7uek.x86_64, archname=x86_64-linux-thread-multi-ld
    uname='linux oracle2.bandsman.co.uk 4.14.35-1902.7.3.el7uek.x86_64 #2 smp thu oct 31 10:06:41 pdt 2019 x86_64 x86_64 x86_64 gnulinux '
    config_args='-de -Dprefix=/home/opc/perl5/perlbrew/perls/perl-5.18.3-thread-multi-ld-64all -Dusedevel -Duse64bitall -Dusethreads -Duselongdouble -Dusemultiplicity -Accflags=-O2 -W -Wformat=2 -Wswitch -Wshadow -Wwrite-strings -Wuninitialized -Wall -pipe -fomit-frame-pointer -pedantic -D_FORTIFY_SOURCE=2 -Wpointer-arith -Wstrict-prototypes -fstack-protector -Wstack-protector -Wextra -Wbad-function-cast -Wcast-align -Wcast-qual -Wdisabled-optimization -Wendif-labels -Wfloat-equal -Wformat-nonliteral -Winline -Wmissing-declarations -Wmissing-prototypes -Wnested-externs -Wpointer-arith -Wundef -Wformat-security -ftree-vectorize -msse -mfpmath=sse -msse2 -mssse3 -msse4.1 -msse4.2 -maes -mtune=native -march=native -Aeval:scriptdir=/home/opc/perl5/perlbrew/perls/perl-5.18.3-thread-multi-ld-64all/bin'
    hint=recommended, useposix=true, d_sigaction=define
    useithreads=define, usemultiplicity=define
    useperlio=define, d_sfio=undef, uselargefiles=define, usesocks=undef
    use64bitint=define, use64bitall=define, uselongdouble=define
    usemymalloc=n, bincompat5005=undef
  Compiler:
    cc='cc', ccflags ='-D_REENTRANT -D_GNU_SOURCE -O2 -W -Wformat=2 -Wswitch -Wshadow -Wwrite-strings -Wuninitialized -Wall -pipe -fomit-frame-pointer -pedantic -D_FORTIFY_SOURCE=2 -Wpointer-arith -Wstrict-prototypes -fstack-protector -Wstack-protector -Wextra -Wbad-function-cast -Wcast-align -Wcast-qual -Wdisabled-optimization -Wendif-labels -Wfloat-equal -Wformat-nonliteral -Winline -Wmissing-declarations -Wmissing-prototypes -Wnested-externs -Wpointer-arith -Wundef -Wformat-security -ftree-vectorize -msse -mfpmath=sse -msse2 -mssse3 -msse4.1 -msse4.2 -maes -mtune=native -march=native -fwrapv -fno-strict-aliasing -I/usr/local/include -D_LARGEFILE_SOURCE -D_FILE_OFFSET_BITS=64',
    optimize='-O2',
    cppflags='-D_REENTRANT -D_GNU_SOURCE -O2 -W -Wformat=2 -Wswitch -Wshadow -Wwrite-strings -Wuninitialized -Wall -pipe -fomit-frame-pointer -pedantic -D_FORTIFY_SOURCE=2 -Wpointer-arith -Wstrict-prototypes -fstack-protector -Wstack-protector -Wextra -Wbad-function-cast -Wcast-align -Wcast-qual -Wdisabled-optimization -Wendif-labels -Wfloat-equal -Wformat-nonliteral -Winline -Wmissing-declarations -Wmissing-prototypes -Wnested-externs -Wpointer-arith -Wundef -Wformat-security -ftree-vectorize -msse -mfpmath=sse -msse2 -mssse3 -msse4.1 -msse4.2 -maes -mtune=native -march=native -fwrapv -fno-strict-aliasing -I/usr/local/include'
    ccversion='', gccversion='4.8.5 20150623 (Red Hat 4.8.5-39.0.3)', gccosandvers=''
    intsize=4, longsize=8, ptrsize=8, doublesize=8, byteorder=12345678
    d_longlong=define, longlongsize=8, d_longdbl=define, longdblsize=16
    ivtype='long', ivsize=8, nvtype='long double', nvsize=16, Off_t='off_t', lseeksize=8
    alignbytes=16, prototype=define
  Linker and Libraries:
    ld='cc', ldflags =' -fstack-protector -L/usr/local/lib'
    libpth=/usr/local/lib /lib/../lib64 /usr/lib/../lib64 /lib /usr/lib /lib64 /usr/lib64 /usr/local/lib64
    libs=-lnsl -lgdbm -ldb -ldl -lm -lcrypt -lutil -lpthread -lc -lgdbm_compat
    perllibs=-lnsl -ldl -lm -lcrypt -lutil -lpthread -lc
    libc=libc-2.17.so, so=so, useshrplib=false, libperl=libperl.a
    gnulibc_version='2.17'
  Dynamic Linking:
    dlsrc=dl_dlopen.xs, dlext=so, d_dlsymun=undef, ccdlflags='-Wl,-E'
    cccdlflags='-fPIC', lddlflags='-shared -O2 -L/usr/local/lib -fstack-protector'


Characteristics of this binary (from libperl): 
  Compile-time options: HAS_TIMES MULTIPLICITY PERLIO_LAYERS
                        PERL_DONT_CREATE_GVSV
                        PERL_HASH_FUNC_ONE_AT_A_TIME_HARD
                        PERL_IMPLICIT_CONTEXT PERL_MALLOC_WRAP
                        PERL_PRESERVE_IVUV PERL_SAWAMPERSAND PERL_USE_DEVEL
                        USE_64_BIT_ALL USE_64_BIT_INT USE_ITHREADS
                        USE_LARGE_FILES USE_LOCALE USE_LOCALE_COLLATE
                        USE_LOCALE_CTYPE USE_LOCALE_NUMERIC USE_LONG_DOUBLE
                        USE_PERLIO USE_PERL_ATOF USE_REENTRANT_API
  Locally applied patches:
	Devel::PatchPerl 1.80
  Built under linux
  Compiled at Dec 20 2019 18:37:22
  %ENV:
    PERL5LIB=""
    PERL5OPT=""
    PERL5_CPANPLUS_IS_RUNNING="31550"
    PERL5_CPAN_IS_RUNNING="31550"
    PERLBREW_HOME="/home/opc/.perlbrew"
    PERLBREW_MANPATH="/home/opc/perl5/perlbrew/perls/perl-5.18.3-thread-multi-ld-64all/man"
    PERLBREW_PATH="/home/opc/perl5/perlbrew/bin:/home/opc/perl5/perlbrew/perls/perl-5.18.3-thread-multi-ld-64all/bin"
    PERLBREW_PERL="perl-5.18.3-thread-multi-ld-64all"
    PERLBREW_ROOT="/home/opc/perl5/perlbrew"
    PERLBREW_SHELLRC_VERSION="0.96"
    PERLBREW_VERSION="0.96"
    PERL_USE_UNSAFE_INC="1"
  @INC:
    /home/opc/perl5/perlbrew/perls/perl-5.18.3-thread-multi-ld-64all/lib/site_perl/5.18.3/x86_64-linux-thread-multi-ld
    /home/opc/perl5/perlbrew/perls/perl-5.18.3-thread-multi-ld-64all/lib/site_perl/5.18.3
    /home/opc/perl5/perlbrew/perls/perl-5.18.3-thread-multi-ld-64all/lib/5.18.3/x86_64-linux-thread-multi-ld
    /home/opc/perl5/perlbrew/perls/perl-5.18.3-thread-multi-ld-64all/lib/5.18.3
    .