Filter-Crypto v2.10 Perl 5 v5.32.1 amd64-freebsd-thread-multi
- Status
- Pass
- From
- Slaven Rezić
- Dist
-
Filter-Crypto v2.10
- Platform
- Perl 5 v5.32.1 amd64-freebsd-thread-multi
- Date
- 2023-07-02 10:38:32
- ID
- 976bfc6a-18c4-11ee-bad3-3b2d6e8775ea
This distribution has been tested as part of the CPAN Testers
project, supporting the Perl programming language. See
http://wiki.cpantesters.org/ for more information or email
questions to cpan-testers-discuss@perl.org
--
Dear Steve Hay,
This is a computer-generated report for Filter-Crypto-2.10
on perl 5.32.1, created by CPAN-Reporter-1.2018.
Thank you for uploading your work to CPAN. Congratulations!
All tests were successful.
Sections of this report:
* Tester comments
* Program output
* Prerequisites
* Environment and other context
------------------------------
TESTER COMMENTS
------------------------------
Additional comments from tester:
none provided
------------------------------
PROGRAM OUTPUT
------------------------------
Output from '/usr/bin/make test':
"/usr/local/bin/perl" -MExtUtils::Command::MM -e 'cp_nonempty' -- CryptFile.bs ../blib/arch/auto/Filter/Crypto/CryptFile/CryptFile.bs 644
Manifying 1 pod document
"/usr/local/bin/perl" -MExtUtils::Command::MM -e 'cp_nonempty' -- Decrypt.bs ../blib/arch/auto/Filter/Crypto/Decrypt/Decrypt.bs 644
Manifying 1 pod document
PERL_DL_NONLAZY=1 "/usr/local/bin/perl" "-MExtUtils::Command::MM" "-MTest::Harness" "-e" "undef *Test::Harness::Switches; test_harness(0, 'blib/lib', 'blib/arch')" t/*.t
t/01_imports_01.t .... ok
t/01_imports_02.t .... ok
t/01_imports_03.t .... ok
t/01_imports_04.t .... ok
t/02_function.t ...... ok
t/03_script.t ........ ok
t/04_par.t ........... skipped: PAR::Filter required to test PAR::Filter::Crypto
t/05_errstr.t ........ ok
t/06_changes.t ....... skipped: Author testing only
t/07_critic.t ........ skipped: Author testing only
t/08_pod.t ........... skipped: Author testing only
t/09_pod_coverage.t .. skipped: Author testing only
All tests successful.
Files=12, Tests=432, 9 wallclock secs ( 0.10 usr 0.02 sys + 8.19 cusr 1.54 csys = 9.85 CPU)
Result: PASS
------------------------------
PREREQUISITES
------------------------------
Prerequisite modules loaded:
requires:
Module Need Have
--------------------- -------- ---------
Carp 0 1.50
Config 0 5.032001
constant 0 1.33
Cwd 0 3.78
Exporter 0 5.74
ExtUtils::MakeMaker 6.66 7.44
Fcntl 0 1.13
File::Basename 0 2.85
File::Copy 0 2.34
File::Find 0 1.37
File::Spec::Functions 0 3.78
File::Temp 0 0.2309
Getopt::Long 0 2.54
perl 5.008001 5.032001
Pod::Usage 1.15 1.69
Scalar::Util 0 1.55
strict 0 1.11
Text::ParseWords 0 3.30
Text::Wrap 0 2013.0523
warnings 0 1.47
XSLoader 0 0.30
build_requires:
Module Need Have
--------------------- -------- ---------
blib 0 1.07
ExtUtils::MakeMaker 0 7.44
File::Path 0 2.16
FindBin 0 1.51
Test::More 0 1.302175
configure_requires:
Module Need Have
--------------------- -------- ---------
Carp 0 1.50
Config 0 5.032001
constant 0 1.33
Cwd 0 3.78
ExtUtils::MakeMaker 6.66 7.44
Fcntl 0 1.13
File::Basename 0 2.85
File::Copy 0 2.34
File::Spec::Functions 0 3.78
Getopt::Long 0 2.54
perl 5.008001 5.032001
Pod::Usage 1.15 1.69
strict 0 1.11
Text::Wrap 0 2013.0523
warnings 0 1.47
------------------------------
ENVIRONMENT AND OTHER CONTEXT
------------------------------
Environment variables:
PATH = /usr/local/bin:/usr/bin:/bin:/usr/local/sbin:/usr/sbin:/sbin:/home/cpansand/bin/sh:/home/cpansand/bin:/usr/games:/home/cpansand/devel:/usr/home/eserte/src/srezic-misc/scripts
PERL5LIB =
PERL5OPT =
PERL5_CPANPLUS_IS_RUNNING = 16581
PERL5_CPAN_IS_RUNNING = 16581
PERL5_CPAN_IS_RUNNING_IN_RECURSION = 16550,16581
PERL_BATCH = yes
PERL_CANARY_STABILITY_NOPROMPT = 1
PERL_CPAN_REPORTER_CONFIG = /var/tmp/cpansmoker-1023/2023070210/cpanreporter_000_config.ini
PERL_EXTUTILS_AUTOINSTALL = --defaultdeps
PERL_USE_UNSAFE_INC = 1
SHELL = /bin/sh
TMPDIR = /var/tmp/cpansmoker-1023/2023070210
Perl special variables (and OS-specific diagnostics, for MSWin32):
$^X = /usr/local/bin/perl
$UID/$EUID = 1023 / 1023
$GID = 1023 1023
$EGID = 1023 1023
Perl module toolchain versions installed:
Module Have
------------------- --------
CPAN 2.27
CPAN::Meta 2.150010
Cwd 3.78
ExtUtils::CBuilder 0.280234
ExtUtils::Command 7.44
ExtUtils::Install 2.14
ExtUtils::MakeMaker 7.44
ExtUtils::Manifest 1.72
ExtUtils::ParseXS 3.40
File::Spec 3.78
JSON 4.10
JSON::PP 4.04
Module::Build n/a
Module::Signature n/a
Parse::CPAN::Meta 2.150010
Test::Harness 3.42
Test::More 1.302175
YAML n/a
YAML::Syck 1.34
version 0.9924
--
Summary of my perl5 (revision 5 version 32 subversion 1) configuration:
Platform:
osname=freebsd
osvers=13.1-release-p2
archname=amd64-freebsd-thread-multi
uname='freebsd 131amd64-default-job-01 13.1-release-p2 freebsd 13.1-release-p2 amd64 '
config_args='-Darchlib=/usr/local/lib/perl5/5.32/mach -Dcc=cc -Dcf_by=mat -Dcf_email=mat@FreeBSD.org -Dcf_time=Sat Jan 23 14:56:40 UTC 2021 -Dinc_version_list=none -Dlibperl=libperl.so.5.32.1 -Dman1dir=/usr/local/lib/perl5/5.32/perl/man/man1 -Dman3dir=/usr/local/lib/perl5/5.32/perl/man/man3 -Dprefix=/usr/local -Dprivlib=/usr/local/lib/perl5/5.32 -Dscriptdir=/usr/local/bin -Dsitearch=/usr/local/lib/perl5/site_perl/mach/5.32 -Dsitelib=/usr/local/lib/perl5/site_perl -Dsiteman1dir=/usr/local/lib/perl5/site_perl/man/man1 -Dsiteman3dir=/usr/local/lib/perl5/site_perl/man/man3 -Dusenm=n -Duseshrplib -sde -Ui_iconv -Ui_malloc -Uinstallusrbinperl -Accflags=-DUSE_THREAD_SAFE_LOCALE -Alddlflags=-L/wrkdirs/usr/ports/lang/perl5.32/work/perl-5.32.1 -L/usr/local/lib/perl5/5.32/mach/CORE -lperl -Dshrpldflags=$(LDDLFLAGS:N-L/wrkdirs/usr/ports/lang/perl5.32/work/perl-5.32.1:N-L/usr/local/lib/perl5/5.32/mach/CORE:N-lperl) -Wl,-soname,$(LIBPERL:R) -Doptimize=-O2 -pipe -fstack-protector-strong -fno-strict-aliasing -Dusedtrace -Ui_gdbm -Dusemultiplicity=y -Duse64bitint -Dusemymalloc=n -Dusethreads=y'
hint=recommended
useposix=true
d_sigaction=define
useithreads=define
usemultiplicity=define
use64bitint=define
use64bitall=define
uselongdouble=undef
usemymalloc=n
default_inc_excludes_dot=define
bincompat5005=undef
Compiler:
cc='cc'
ccflags ='-DHAS_FPSETMASK -DHAS_FLOATINGPOINT_H -DUSE_THREAD_SAFE_LOCALE -fno-strict-aliasing -pipe -fstack-protector-strong -I/usr/local/include'
optimize='-O2 -pipe -fstack-protector-strong -fno-strict-aliasing '
cppflags='-DHAS_FPSETMASK -DHAS_FLOATINGPOINT_H -DUSE_THREAD_SAFE_LOCALE -fno-strict-aliasing -pipe -fstack-protector-strong -I/usr/local/include'
ccversion=''
gccversion='FreeBSD Clang 13.0.0 (git@github.com:llvm/llvm-project.git llvmorg-13.0.0-0-gd7b669b3a303)'
gccosandvers=''
intsize=4
longsize=8
ptrsize=8
doublesize=8
byteorder=12345678
doublekind=3
d_longlong=define
longlongsize=8
d_longdbl=define
longdblsize=16
longdblkind=3
ivtype='long'
ivsize=8
nvtype='double'
nvsize=8
Off_t='off_t'
lseeksize=8
alignbytes=8
prototype=define
Linker and Libraries:
ld='cc'
ldflags ='-pthread -Wl,-E -fstack-protector-strong -L/usr/local/lib'
libpth=/usr/lib /usr/local/lib /usr/lib/clang/13.0.0/lib /usr/lib
libs=-lpthread -lm -lcrypt -lutil
perllibs=-lpthread -lm -lcrypt -lutil
libc=
so=so
useshrplib=true
libperl=libperl.so.5.32.1
gnulibc_version=''
Dynamic Linking:
dlsrc=dl_dlopen.xs
dlext=so
d_dlsymun=undef
ccdlflags=' -Wl,-R/usr/local/lib/perl5/5.32/mach/CORE'
cccdlflags='-DPIC -fPIC'
lddlflags='-shared -L/usr/local/lib/perl5/5.32/mach/CORE -lperl -L/usr/local/lib -fstack-protector-strong'
Characteristics of this binary (from libperl):
Compile-time options:
HAS_TIMES
MULTIPLICITY
PERLIO_LAYERS
PERL_COPY_ON_WRITE
PERL_DONT_CREATE_GVSV
PERL_IMPLICIT_CONTEXT
PERL_MALLOC_WRAP
PERL_OP_PARENT
PERL_PRESERVE_IVUV
USE_64_BIT_ALL
USE_64_BIT_INT
USE_ITHREADS
USE_LARGE_FILES
USE_LOCALE
USE_LOCALE_COLLATE
USE_LOCALE_CTYPE
USE_LOCALE_NUMERIC
USE_LOCALE_TIME
USE_PERLIO
USE_PERL_ATOF
USE_REENTRANT_API
USE_THREAD_SAFE_LOCALE
Built under freebsd
%ENV:
PERL5LIB=""
PERL5OPT=""
PERL5_CPANPLUS_IS_RUNNING="16581"
PERL5_CPAN_IS_RUNNING="16581"
PERL5_CPAN_IS_RUNNING_IN_RECURSION="16550,16581"
PERL_BATCH="yes"
PERL_CANARY_STABILITY_NOPROMPT="1"
PERL_CPAN_REPORTER_CONFIG="/var/tmp/cpansmoker-1023/2023070210/cpanreporter_000_config.ini"
PERL_EXTUTILS_AUTOINSTALL="--defaultdeps"
PERL_USE_UNSAFE_INC="1"
@INC:
/usr/local/lib/perl5/site_perl/mach/5.32
/usr/local/lib/perl5/site_perl
/usr/local/lib/perl5/5.32/mach
/usr/local/lib/perl5/5.32
.