Back
From: metabase:user:31d414ea-2aae-11df-837a-5e0a49663a4f
Subject: PASS Git-DescribeVersion-1.000010 v5.10.1 FreeBSD
Date: 2010-12-12T00:27:24Z
This distribution has been tested as part of the CPAN Testers
project, supporting the Perl programming language. See
http://wiki.cpantesters.org/ for more information or email
questions to cpan-testers-discuss@perl.org
--
Dear Randy Stauner,
This is a computer-generated report for Git-DescribeVersion-1.000010
on perl 5.10.1, created by CPAN-Reporter-1.1711.
Thank you for uploading your work to CPAN. Congratulations!
All tests were successful.
Sections of this report:
* Tester comments
* Program output
* Prerequisites
* Environment and other context
------------------------------
TESTER COMMENTS
------------------------------
Additional comments from tester:
this report is from an automated smoke testing program
and was not reviewed by a human for accuracy
------------------------------
PROGRAM OUTPUT
------------------------------
Output from '/usr/bin/make test':
PERL_DL_NONLAZY=1 /home/david/cpantesting/perl-5.10.1/bin/perl5.10.1 "-MExtUtils::Command::MM" "-e" "test_harness(0, 'blib/lib', 'blib/arch')" t/*.t
t/00-compile.t ............... ok
t/app.t ...................... skipped: Test::Output required for testing STDOUT
t/author-wrappers.t .......... skipped: these tests are for testing by the author
t/count-objects.t ............ ok
t/describe.t ................. ok
# warning expected:
Version could not be determined.
# warning expected:
Version could not be determined.
# warning expected:
Version could not be determined.
# warning expected:
Version 'vx.y' not a valid version string.
Invalid version format (dotted-decimal versions require at least three parts)
# warning expected:
Version 'vx.y' not a valid version string.
Invalid version format (dotted-decimal versions require at least three parts)
# warning expected:
Version 'vx.y' not a valid version string.
Invalid version format (dotted-decimal versions require at least three parts)
# warning expected:
Version 'v .201' not a valid version string.
Invalid version format (dotted-decimal versions require at least three parts)
# warning expected:
Version 'v .201' not a valid version string.
Invalid version format (dotted-decimal versions require at least three parts)
# warning expected:
Version 'v .201' not a valid version string.
Invalid version format (dotted-decimal versions require at least three parts)
# warning expected:
Version 'v4.ppp' not a valid version string.
Invalid version format (non-numeric data)
# warning expected:
Version 'v4.ppp' not a valid version string.
Invalid version format (non-numeric data)
# warning expected:
Version 'v4.ppp' not a valid version string.
Invalid version format (non-numeric data)
t/parse_version.t ............ ok
t/release-distmeta.t ......... skipped: these tests are for release candidate testing
t/release-kwalitee.t ......... skipped: these tests are for release candidate testing
t/release-minimum-version.t .. skipped: these tests are for release candidate testing
t/release-pod-coverage.t ..... skipped: these tests are for release candidate testing
t/release-pod-spell.t ........ skipped: these tests are for release candidate testing
t/release-pod-syntax.t ....... skipped: these tests are for release candidate testing
t/release-portability.t ...... skipped: these tests are for release candidate testing
t/wrappers.t ................. ok
All tests successful.
Files=14, Tests=1098, 2 wallclock secs ( 0.15 usr 0.23 sys + 0.30 cusr 1.10 csys = 1.78 CPU)
Result: PASS
------------------------------
PREREQUISITES
------------------------------
Prerequisite modules loaded:
requires:
Module Need Have
------------------------- ----- --------
perl 5.006 5.010001
version 0.77 0.87
build_requires:
Module Need Have
------------------------- ----- --------
Exporter 0 5.63
File::Find 0 1.14
File::Temp 0 0.22
FindBin 0 1.50
Test::MockObject 0 1.09
Test::MockObject::Extends 1.09 1.09
Test::More 0.96 0.96
configure_requires:
Module Need Have
------------------------- ----- --------
ExtUtils::MakeMaker 6.31 6.55_02
------------------------------
ENVIRONMENT AND OTHER CONTEXT
------------------------------
Environment variables:
AUTOMATED_TESTING = 1
PATH = /sbin:/bin:/usr/sbin:/usr/bin:/usr/games:/usr/local/sbin:/usr/local/bin:/usr/X11R6/bin:/home/david/bin
PERL5LIB =
PERL5OPT =
PERL5_CPANPLUS_IS_RUNNING = 98812
PERL5_CPAN_IS_RUNNING = 98812
PERLVER = 5.10.1
SHELL = /usr/local/bin/bash
TERM = screen
Perl special variables (and OS-specific diagnostics, for MSWin32):
$^X = /home/david/cpantesting/perl-5.10.1/bin/perl5.10.1
$UID/$EUID = 1001 / 1001
$GID = 1001 1001 1001 0
$EGID = 1001 1001 1001 0
Perl module toolchain versions installed:
Module Have
------------------- -------
CPAN 1.9402
Cwd 3.31
ExtUtils::CBuilder 0.2703
ExtUtils::Command 1.16
ExtUtils::Install 1.54
ExtUtils::MakeMaker 6.55_02
ExtUtils::Manifest 1.56
ExtUtils::ParseXS 2.2206
File::Spec 3.31
Module::Build 0.3607
Module::Signature n/a
Test::Harness 3.17
Test::More 0.96
YAML 0.72
YAML::Syck 1.17
version 0.87
--
Summary of my perl5 (revision 5 version 10 subversion 1) configuration:
Platform:
osname=freebsd, osvers=6.2-release, archname=i386-freebsd-thread-multi
uname='freebsd poacher.barnyard.co.uk 6.2-release freebsd 6.2-release #0: fri jan 12 10:40:27 utc 2007 root@dessler.cse.buffalo.edu:usrobjusrsrcsysgeneric i386 '
config_args='-de -Dprefix=/home/david/cpantesting/perl-5.10.1 -Dusethreads'
hint=recommended, useposix=true, d_sigaction=define
useithreads=define, usemultiplicity=define
useperlio=define, d_sfio=undef, uselargefiles=define, usesocks=undef
use64bitint=undef, use64bitall=undef, uselongdouble=undef
usemymalloc=n, bincompat5005=undef
Compiler:
cc='cc', ccflags ='-DHAS_FPSETMASK -DHAS_FLOATINGPOINT_H -fno-strict-aliasing -pipe -I/usr/local/include',
optimize='-O',
cppflags='-DHAS_FPSETMASK -DHAS_FLOATINGPOINT_H -fno-strict-aliasing -pipe -I/usr/local/include'
ccversion='', gccversion='3.4.6 [FreeBSD] 20060305', gccosandvers=''
intsize=4, longsize=4, ptrsize=4, doublesize=8, byteorder=1234
d_longlong=define, longlongsize=8, d_longdbl=define, longdblsize=12
ivtype='long', ivsize=4, nvtype='double', nvsize=8, Off_t='off_t', lseeksize=8
alignbytes=4, prototype=define
Linker and Libraries:
ld='cc', ldflags ='-pthread -Wl,-E -L/usr/local/lib'
libpth=/usr/lib /usr/local/lib
libs=-lgdbm -lm -lcrypt
perllibs=-lm -lcrypt
libc=, so=so, useshrplib=false, libperl=libperl.a
gnulibc_version=''
Dynamic Linking:
dlsrc=dl_dlopen.xs, dlext=so, d_dlsymun=undef, ccdlflags=' '
cccdlflags='-DPIC -fPIC', lddlflags='-shared -L/usr/local/lib'
Characteristics of this binary (from libperl):
Compile-time options: MULTIPLICITY PERL_DONT_CREATE_GVSV
PERL_IMPLICIT_CONTEXT PERL_MALLOC_WRAP USE_ITHREADS
USE_LARGE_FILES USE_PERLIO USE_REENTRANT_API
Built under freebsd
Compiled at Sep 3 2009 20:02:21
%ENV:
PERL5LIB=""
PERL5OPT=""
PERL5_CPANPLUS_IS_RUNNING="98812"
PERL5_CPAN_IS_RUNNING="98812"
PERLVER="5.10.1"
@INC:
/home/david/cpantesting/perl-5.10.1/lib/5.10.1/i386-freebsd-thread-multi
/home/david/cpantesting/perl-5.10.1/lib/5.10.1
/home/david/cpantesting/perl-5.10.1/lib/site_perl/5.10.1/i386-freebsd-thread-multi
/home/david/cpantesting/perl-5.10.1/lib/site_perl/5.10.1
.