IO-Stringy v2.113 Perl 5 v5.24.0 x86_64-linux
- Status
- Pass
- From
- Chris Williams (BINGOS)
- Dist
-
IO-Stringy v2.113
- Platform
- Perl 5 v5.24.0 x86_64-linux
- Date
- 2020-03-07 10:51:26
- ID
- 97a0f9ca-6061-11ea-a3a0-ba4fdb342e45
This distribution has been tested as part of the CPAN Testers
project, supporting the Perl programming language. See
http://wiki.cpantesters.org/ for more information or email
questions to cpan-testers-discuss@perl.org
--
Dear Chase Whitener,
This is a computer-generated error report created automatically by
CPANPLUS, version 0.9178. Testers personal comments may appear
at the end of this report.
Thank you for uploading your work to CPAN. Congratulations!
All tests were successful.
TEST RESULTS:
Below is the error stack from stage 'make test':
PERL_DL_NONLAZY=1 "/opt/perl-5.24.0/bin/perl" "-MExtUtils::Command::MM" "-MTest::Harness" "-e" "undef *Test::Harness::Switches; test_harness(0, 'blib/lib', 'blib/arch')" t/*.t
#
# Versions for all modules listed in MYMETA.json (including optional ones):
#
# === Configure Requires ===
#
# Module Want Have
# ------------------- ---- ----
# ExtUtils::MakeMaker any 7.44
#
# === Build Requires ===
#
# Module Want Have
# ------------------- ---- ----
# ExtUtils::MakeMaker any 7.44
#
# === Test Requires ===
#
# Module Want Have
# ------------------- ---- --------
# ExtUtils::MakeMaker any 7.44
# File::Basename any 2.85
# File::Spec any 3.75
# File::Temp any 0.2309
# FileHandle any 2.02
# IO::File any 1.41
# IO::Handle any 1.42
# Symbol any 1.07
# Test::More 0.88 1.302168
# Test::Tester any 1.302168
# strict any 1.11
# warnings any 1.36
#
# === Test Recommends ===
#
# Module Want Have
# ---------- -------- --------
# CPAN::Meta 2.120900 2.150010
#
# === Runtime Requires ===
#
# Module Want Have
# ---------- ---- -----
# Carp any 1.50
# Exporter 5.57 5.74
# File::Spec any 3.75
# FileHandle any 2.02
# IO::File any 1.41
# IO::Handle any 1.42
# Symbol any 1.07
# overload any 1.26
# parent any 0.237
# strict any 1.11
# warnings any 1.36
#
t/00-report-prereqs.t .. ok
t/IO_InnerFile.t ....... ok
t/IO_Lines.t ........... ok
t/IO_Scalar.t .......... ok
t/IO_ScalarArray.t ..... ok
t/IO_WrapTie.t ......... ok
t/simple.t ............. ok
t/two.t ................ ok
All tests successful.
Files=8, Tests=127, 1 wallclock secs ( 0.05 usr 0.01 sys + 0.60 cusr 0.06 csys = 0.72 CPU)
Result: PASS
PREREQUISITES:
Here is a list of prerequisites you specified and versions we
managed to load:
Module Name Have Want
Carp 1.50 0
Exporter 5.74 5.57
ExtUtils::MakeMaker 7.44 0
File::Basename 2.85 0
File::Spec 3.75 0
File::Temp 0.2309 0
FileHandle 2.02 0
IO::File 1.41 0
IO::Handle 1.42 0
Symbol 1.07 0
Test::More 1.302168 0.88
Test::Tester 1.302168 0
overload 1.26 0
parent 0.237 0
strict 1.11 0
warnings 1.36 0
Perl module toolchain versions installed:
Module Name Have
CPANPLUS 0.9906
CPANPLUS::Dist::Build 0.90
Cwd 3.75
ExtUtils::CBuilder 0.280234
ExtUtils::Command 7.44
ExtUtils::Install 2.14
ExtUtils::MakeMaker 7.44
ExtUtils::Manifest 1.72
ExtUtils::ParseXS 3.35
File::Spec 3.75
Module::Build 0.4229
Pod::Parser 1.63
Pod::Simple 3.39
Test2 1.302168
Test::Harness 3.42
Test::More 1.302168
version 0.9924
******************************** NOTE ********************************
The comments above are created mechanically, possibly without manual
checking by the sender. As there are many people performing automatic
tests on each upload to CPAN, it is likely that you will receive
identical messages about the same problem.
If you believe that the message is mistaken, please reply to the first
one with correction and/or additional informations, and do not take
it personally. We appreciate your patience. :)
**********************************************************************
Additional comments:
This report was machine-generated by CPANPLUS::Dist::YACSmoke 1.08.
CPANPLUS is prefering Build.PL
------------------------------
ENVIRONMENT AND OTHER CONTEXT
------------------------------
Environment variables:
AUTOMATED_TESTING = 1
LANG = en_US.UTF-8
PATH = /usr/local/sbin:/usr/local/bin:/usr/sbin:/usr/bin:/sbin:/bin:/usr/games:/usr/local/games
PERL5LIB = :/opt/perl-5.24.0/.cpanplus/5.24.0/build/czo2lS7Lp4/IO-Stringy-2.113/blib/lib:/opt/perl-5.24.0/.cpanplus/5.24.0/build/czo2lS7Lp4/IO-Stringy-2.113/blib/arch
PERL5_CPANIDX_URL = http://cpanidx.org/cpanidx/
PERL5_CPANPLUS_HOME = /opt/perl-5.24.0
PERL5_CPANPLUS_IS_RUNNING = 1126
PERL5_CPANPLUS_IS_VERSION = 0.9178
PERL_EXTUTILS_AUTOINSTALL = --defaultdeps
PERL_INSTALL_QUIET = 1
PERL_MM_USE_DEFAULT = 1
SHELL = /bin/bash
TERM = xterm
Perl special variables (and OS-specific diagnostics, for MSWin32):
Perl: $^X = /opt/perl-5.24.0/bin/perl
UID: $< = 0
EUID: $> = 0
GID: $( = 0 0
EGID: $) = 0 0
-------------------------------
--
Summary of my perl5 (revision 5 version 24 subversion 0) configuration:
Platform:
osname=linux, osvers=4.7.0-x86_64-linode72, archname=x86_64-linux
uname='linux cabbage 4.7.0-x86_64-linode72 #1 smp thu aug 4 15:15:18 edt 2016 x86_64 x86_64 x86_64 gnulinux '
config_args='-des -Dprefix=/opt/perl-5.24.0'
hint=recommended, useposix=true, d_sigaction=define
useithreads=undef, usemultiplicity=undef
use64bitint=define, use64bitall=define, uselongdouble=undef
usemymalloc=n, bincompat5005=undef
Compiler:
cc='cc', ccflags ='-fwrapv -fno-strict-aliasing -pipe -fstack-protector-strong -I/usr/local/include -D_LARGEFILE_SOURCE -D_FILE_OFFSET_BITS=64',
optimize='-O2',
cppflags='-fwrapv -fno-strict-aliasing -pipe -fstack-protector-strong -I/usr/local/include'
ccversion='', gccversion='5.4.0 20160609', gccosandvers=''
intsize=4, longsize=8, ptrsize=8, doublesize=8, byteorder=12345678, doublekind=3
d_longlong=define, longlongsize=8, d_longdbl=define, longdblsize=16, longdblkind=3
ivtype='long', ivsize=8, nvtype='double', nvsize=8, Off_t='off_t', lseeksize=8
alignbytes=8, prototype=define
Linker and Libraries:
ld='cc', ldflags =' -fstack-protector-strong -L/usr/local/lib'
libpth=/usr/local/lib /usr/lib/gcc/x86_64-linux-gnu/5/include-fixed /usr/include/x86_64-linux-gnu /usr/lib /lib/x86_64-linux-gnu /lib/../lib /usr/lib/x86_64-linux-gnu /usr/lib/../lib /lib
libs=-lpthread -lnsl -lgdbm -ldl -lm -lcrypt -lutil -lc -lgdbm_compat
perllibs=-lpthread -lnsl -ldl -lm -lcrypt -lutil -lc
libc=libc-2.23.so, so=so, useshrplib=false, libperl=libperl.a
gnulibc_version='2.23'
Dynamic Linking:
dlsrc=dl_dlopen.xs, dlext=so, d_dlsymun=undef, ccdlflags='-Wl,-E'
cccdlflags='-fPIC', lddlflags='-shared -O2 -L/usr/local/lib -fstack-protector-strong'
Characteristics of this binary (from libperl):
Compile-time options: HAS_TIMES PERLIO_LAYERS PERL_COPY_ON_WRITE
PERL_DONT_CREATE_GVSV
PERL_HASH_FUNC_ONE_AT_A_TIME_HARD PERL_MALLOC_WRAP
PERL_PRESERVE_IVUV USE_64_BIT_ALL USE_64_BIT_INT
USE_LARGE_FILES USE_LOCALE USE_LOCALE_COLLATE
USE_LOCALE_CTYPE USE_LOCALE_NUMERIC USE_LOCALE_TIME
USE_PERLIO USE_PERL_ATOF
Built under linux
Compiled at Oct 10 2016 09:36:00
%ENV:
PERL5LIB=":/opt/perl-5.24.0/.cpanplus/5.24.0/build/czo2lS7Lp4/IO-Stringy-2.113/blib/lib:/opt/perl-5.24.0/.cpanplus/5.24.0/build/czo2lS7Lp4/IO-Stringy-2.113/blib/arch"
PERL5_CPANIDX_URL="http://cpanidx.org/cpanidx/"
PERL5_CPANPLUS_HOME="/opt/perl-5.24.0"
PERL5_CPANPLUS_IS_RUNNING="1126"
PERL5_CPANPLUS_IS_VERSION="0.9178"
PERL_EXTUTILS_AUTOINSTALL="--defaultdeps"
PERL_INSTALL_QUIET="1"
PERL_MM_USE_DEFAULT="1"
@INC:
/opt/perl-5.24.0/.cpanplus/5.24.0/build/czo2lS7Lp4/IO-Stringy-2.113/blib/lib
/opt/perl-5.24.0/.cpanplus/5.24.0/build/czo2lS7Lp4/IO-Stringy-2.113/blib/arch
/opt/perl-5.24.0/lib/site_perl/5.24.0/x86_64-linux
/opt/perl-5.24.0/lib/site_perl/5.24.0
/opt/perl-5.24.0/lib/5.24.0/x86_64-linux
/opt/perl-5.24.0/lib/5.24.0
.