Git-Helpers v0.000020 Perl 5 v5.31.7 x86_64-linux

Status
Pass
From
Andreas J. König (ANDK)
Dist
Git-Helpers v0.000020
Platform
Perl 5 v5.31.7 x86_64-linux
Date
2019-11-26 15:51:21
ID
97b4a94a-1064-11ea-a73f-13204a56c7cc
This distribution has been tested as part of the CPAN Testers
project, supporting the Perl programming language.  See
http://wiki.cpantesters.org/ for more information or email
questions to cpan-testers-discuss@perl.org


--
Dear Olaf Alders,

This is a computer-generated report for Git-Helpers-0.000020
on perl 5.31.7, created by CPAN-Reporter-1.2018.

Thank you for uploading your work to CPAN.  Congratulations!
All tests were successful.

Sections of this report:

    * Tester comments
    * Program output
    * Prerequisites
    * Environment and other context

------------------------------
TESTER COMMENTS
------------------------------

Additional comments from tester:

this report is from an automated smoke testing program
and was not reviewed by a human for accuracy

------------------------------
PROGRAM OUTPUT
------------------------------

Output from '/usr/bin/make test':

PERL_DL_NONLAZY=1 "/tmp/basesmoker-reloperl-yIqi/bin/perl" "-MExtUtils::Command::MM" "-MTest::Harness" "-e" "undef *Test::Harness::Switches; test_harness(0, 'blib/lib', 'blib/arch')" t/*.t
# 
# Versions for all modules listed in MYMETA.json (including optional ones):
# 
# === Configure Requires ===
# 
#     Module              Want Have
#     ------------------- ---- ----
#     ExtUtils::MakeMaker  any 7.38
# 
# === Build Requires ===
# 
#     Module              Want Have
#     ------------------- ---- ----
#     ExtUtils::MakeMaker  any 7.38
# 
# === Test Requires ===
# 
#     Module                  Want     Have
#     ---------------------- ----- --------
#     ExtUtils::MakeMaker      any     7.38
#     File::Spec               any     3.78
#     File::Temp               any   0.2309
#     File::Touch              any     0.11
#     Git::Version             any    1.000
#     Path::Tiny               any    0.108
#     Test::Deep               any    1.128
#     Test::Fatal              any    0.014
#     Test::Git              1.313    1.324
#     Test::More               any 1.302169
#     Test::Requires::Git    1.005    1.008
#     Test::RequiresInternet   any     0.05
# 
# === Test Recommends ===
# 
#     Module         Want     Have
#     ---------- -------- --------
#     CPAN::Meta 2.120900 2.150010
# 
# === Runtime Requires ===
# 
#     Module           Want     Have
#     ---------------- ---- --------
#     Browser::Open     any     0.04
#     Capture::Tiny     any     0.48
#     Carp              any     1.50
#     File::pushd       any    1.016
#     Getopt::Long      any     2.51
#     Git::Sub          any 0.163320
#     MetaCPAN::Client  any 2.026000
#     Moo               any 2.003006
#     MooX::Options     any    4.103
#     Pod::Usage        any     1.69
#     String::Trim      any    0.005
#     Sub::Exporter     any    0.987
#     Term::Choose      any    1.707
#     Try::Tiny         any     0.30
#     Types::Standard   any 1.006000
#     URI               any     1.76
#     URI::FromHash     any     0.05
#     URI::Heuristic    any     4.20
#     URI::git          any     0.02
#     strict            any     1.11
#     warnings          any     1.45
# 
t/00-report-prereqs.t .. ok
t/01-diag.t ............ ok
t/cpan-repo.t .......... ok
# git version 2.24.0
# Switched to a new branch 'README'
t/helpers.t ............ ok
All tests successful.
Files=4, Tests=17,  4 wallclock secs ( 0.02 usr  0.02 sys +  0.59 cusr  0.32 csys =  0.95 CPU)
Result: PASS

------------------------------
PREREQUISITES
------------------------------

Prerequisite modules loaded:

requires:

    Module                 Need  Have    
    ---------------------- ----- --------
    Browser::Open          0     0.04    
    Capture::Tiny          0     0.48    
    Carp                   0     1.50    
    File::pushd            0     1.016   
    Getopt::Long           0     2.51    
    Git::Sub               0     0.163320
    MetaCPAN::Client       0     2.026000
    Moo                    0     2.003006
    MooX::Options          0     4.103   
    perl                   5.006 5.031007
    Pod::Usage             0     1.69    
    strict                 0     1.11    
    String::Trim           0     0.005   
    Sub::Exporter          0     0.987   
    Term::Choose           0     1.707   
    Try::Tiny              0     0.30    
    Types::Standard        0     1.006000
    URI                    0     1.76    
    URI::FromHash          0     0.05    
    URI::git               0     0.02    
    URI::Heuristic         0     4.20    
    warnings               0     1.45    

build_requires:

    Module                 Need  Have    
    ---------------------- ----- --------
    ExtUtils::MakeMaker    0     7.38    
    File::Spec             0     3.78    
    File::Temp             0     0.2309  
    File::Touch            0     0.11    
    Git::Version           0     1.000   
    Path::Tiny             0     0.108   
    Test::Deep             0     1.128   
    Test::Fatal            0     0.014   
    Test::Git              1.313 1.324   
    Test::More             0     1.302169
    Test::Requires::Git    1.005 1.008   
    Test::RequiresInternet 0     0.05    

configure_requires:

    Module                 Need  Have    
    ---------------------- ----- --------
    ExtUtils::MakeMaker    0     7.38    
    perl                   5.006 5.031007


------------------------------
ENVIRONMENT AND OTHER CONTEXT
------------------------------

Environment variables:

    AUTOMATED_TESTING = 1
    LANG = en_US.UTF-8
    PATH = /home/sand/bin:/usr/local/bin:/usr/bin:/bin:/usr/games:/usr/local/perl/bin:/usr/X11/bin:/sbin:/usr/sbin
    PERL5LIB = 
    PERL5OPT = 
    PERL5_CPANPLUS_IS_RUNNING = 1126785
    PERL5_CPAN_IS_RUNNING = 1126785
    PERL_CANARY_STABILITY_NOPROMPT = 1
    PERL_MM_USE_DEFAULT = 1
    PERL_USE_UNSAFE_INC = 1
    SHELL = /usr/bin/zsh
    TERM = screen

Perl special variables (and OS-specific diagnostics, for MSWin32):

    $^X = /tmp/basesmoker-reloperl-yIqi/bin/perl
    $UID/$EUID = 1005 / 1005
    $GID = 1005 1005
    $EGID = 1005 1005

Perl module toolchain versions installed:

    Module              Have    
    ------------------- --------
    CPAN                2.27    
    CPAN::Meta          2.150010
    Cwd                 3.78    
    ExtUtils::CBuilder  0.280233
    ExtUtils::Command   7.38    
    ExtUtils::Install   2.14    
    ExtUtils::MakeMaker 7.38    
    ExtUtils::Manifest  1.72    
    ExtUtils::ParseXS   3.40    
    File::Spec          3.78    
    JSON                4.02    
    JSON::PP            4.04    
    Module::Build       0.4229  
    Module::Signature   0.83    
    Parse::CPAN::Meta   2.150010
    Test::Harness       3.42    
    Test::More          1.302169
    YAML                1.29    
    YAML::Syck          1.31    
    version             0.9924  


--

Summary of my perl5 (revision 5 version 31 subversion 7) configuration:
  Commit id: bfb5975f40d224f172ebe7684953f0f85d7af3c9
  Platform:
    osname=linux
    osvers=5.3.0-2-amd64
    archname=x86_64-linux
    uname='linux k93msid 5.3.0-2-amd64 #1 smp debian 5.3.9-3 (2019-11-19) x86_64 gnulinux '
    config_args='-Dprefix=/home/sand/src/perl/repoperls/installed-perls/host/k93msid/v5.31.6-40-gbfb5975f40/3c10 -Dmyhostname=k93msid -Dinstallusrbinperl=n -Uversiononly -Dusedevel -des -Ui_db -Dlibswanted=cl pthread socket inet nsl gdbm dbm malloc dl ld sun m crypt sec util c cposix posix ucb BSD gdbm_compat -Uuseithreads -Uuselongdouble -DEBUGGING=none'
    hint=recommended
    useposix=true
    d_sigaction=define
    useithreads=undef
    usemultiplicity=undef
    use64bitint=define
    use64bitall=define
    uselongdouble=undef
    usemymalloc=n
    default_inc_excludes_dot=define
    bincompat5005=undef
  Compiler:
    cc='cc'
    ccflags ='-fwrapv -fno-strict-aliasing -pipe -fstack-protector-strong -I/usr/local/include -D_LARGEFILE_SOURCE -D_FILE_OFFSET_BITS=64 -D_FORTIFY_SOURCE=2'
    optimize='-O2'
    cppflags='-fwrapv -fno-strict-aliasing -pipe -fstack-protector-strong -I/usr/local/include'
    ccversion=''
    gccversion='9.2.1 20191109'
    gccosandvers=''
    intsize=4
    longsize=8
    ptrsize=8
    doublesize=8
    byteorder=12345678
    doublekind=3
    d_longlong=define
    longlongsize=8
    d_longdbl=define
    longdblsize=16
    longdblkind=3
    ivtype='long'
    ivsize=8
    nvtype='double'
    nvsize=8
    Off_t='off_t'
    lseeksize=8
    alignbytes=8
    prototype=define
  Linker and Libraries:
    ld='cc'
    ldflags =' -fstack-protector-strong -L/usr/local/lib'
    libpth=/usr/local/lib /usr/lib/gcc/x86_64-linux-gnu/9/include-fixed /usr/include/x86_64-linux-gnu /usr/lib /lib/x86_64-linux-gnu /lib/../lib /usr/lib/x86_64-linux-gnu /usr/lib/../lib /lib
    libs=-lpthread -lnsl -ldl -lm -lcrypt -lutil -lc
    perllibs=-lpthread -lnsl -ldl -lm -lcrypt -lutil -lc
    libc=libc-2.29.so
    so=so
    useshrplib=false
    libperl=libperl.a
    gnulibc_version='2.29'
  Dynamic Linking:
    dlsrc=dl_dlopen.xs
    dlext=so
    d_dlsymun=undef
    ccdlflags='-Wl,-E'
    cccdlflags='-fPIC'
    lddlflags='-shared -O2 -L/usr/local/lib -fstack-protector-strong'


Characteristics of this binary (from libperl): 
  Compile-time options:
    HAS_TIMES
    PERLIO_LAYERS
    PERL_COPY_ON_WRITE
    PERL_DONT_CREATE_GVSV
    PERL_MALLOC_WRAP
    PERL_OP_PARENT
    PERL_PRESERVE_IVUV
    PERL_USE_DEVEL
    USE_64_BIT_ALL
    USE_64_BIT_INT
    USE_LARGE_FILES
    USE_LOCALE
    USE_LOCALE_COLLATE
    USE_LOCALE_CTYPE
    USE_LOCALE_NUMERIC
    USE_LOCALE_TIME
    USE_PERLIO
    USE_PERL_ATOF
  Built under linux
  Compiled at Nov 24 2019 20:05:22
  %ENV:
    PERL5LIB=""
    PERL5OPT=""
    PERL5_CPANPLUS_IS_RUNNING="1126785"
    PERL5_CPAN_IS_RUNNING="1126785"
    PERL_CANARY_STABILITY_NOPROMPT="1"
    PERL_MM_USE_DEFAULT="1"
    PERL_USE_UNSAFE_INC="1"
  @INC:
    /home/sand/src/perl/repoperls/installed-perls/host/k93msid/v5.31.6-40-gbfb5975f40/3c10/lib/site_perl/5.31.7/x86_64-linux
    /home/sand/src/perl/repoperls/installed-perls/host/k93msid/v5.31.6-40-gbfb5975f40/3c10/lib/site_perl/5.31.7
    /home/sand/src/perl/repoperls/installed-perls/host/k93msid/v5.31.6-40-gbfb5975f40/3c10/lib/5.31.7/x86_64-linux
    /home/sand/src/perl/repoperls/installed-perls/host/k93msid/v5.31.6-40-gbfb5975f40/3c10/lib/5.31.7
    .