WebService-Client v0.0601 Perl 5 v5.26.1 armv6l-linux

Status
Pass
From
gregor herrmann
Dist
WebService-Client v0.0601
Platform
Perl 5 v5.26.1 armv6l-linux
Date
2017-11-08 12:30:23
ID
97c4794c-c480-11e7-a57c-149b4140cd20
This distribution has been tested as part of the CPAN Testers
project, supporting the Perl programming language.  See
http://wiki.cpantesters.org/ for more information or email
questions to cpan-testers-discuss@perl.org


--
Dear Naveed Massjouni,

This is a computer-generated report for WebService-Client-0.0601
on perl 5.26.1, created by CPAN-Reporter-1.2018.

Thank you for uploading your work to CPAN.  Congratulations!
All tests were successful.

Sections of this report:

    * Tester comments
    * Program output
    * Prerequisites
    * Environment and other context

------------------------------
TESTER COMMENTS
------------------------------

Additional comments from tester:

this report is from an automated smoke testing program
and was not reviewed by a human for accuracy

------------------------------
PROGRAM OUTPUT
------------------------------

Output from '/usr/bin/make test':

PERL_DL_NONLAZY=1 "/srv/smoker/perl5/perlbrew/perls/perl-5.26.1/bin/perl" "-MExtUtils::Command::MM" "-MTest::Harness" "-e" "undef *Test::Harness::Switches; test_harness(0, 'blib/lib', 'blib/arch')" t/*.t
t/00-compile.t ................. ok
# 
# Versions for all modules listed in MYMETA.json (including optional ones):
# 
# === Configure Requires ===
# 
#     Module              Want Have
#     ------------------- ---- ----
#     ExtUtils::MakeMaker  any 7.30
# 
# === Build Requires ===
# 
#     Module              Want Have
#     ------------------- ---- ----
#     ExtUtils::MakeMaker  any 7.30
# 
# === Test Requires ===
# 
#     Module              Want     Have
#     ------------------- ---- --------
#     ExtUtils::MakeMaker  any     7.30
#     File::Spec           any     3.67
#     IO::Handle           any     1.36
#     IPC::Open3           any     1.20
#     Test::More           any 1.302100
#     blib                1.01     1.06
#     strict               any     1.11
#     warnings             any     1.37
# 
# === Test Recommends ===
# 
#     Module         Want     Have
#     ---------- -------- --------
#     CPAN::Meta 2.120900 2.150010
# 
# === Runtime Requires ===
# 
#     Module                         Want     Have
#     -------------------------- -------- --------
#     Carp                            any     1.42
#     HTTP::Message                  6.06     6.13
#     HTTP::Request                   any     6.13
#     HTTP::Request::Common           any     6.13
#     HTTP::Response::Stringable   0.0002   0.0002
#     JSON::MaybeXS                   any 1.003009
#     LWP::UserAgent                  any     6.27
#     Moo                        1.005000 2.003002
#     Moo::Role                       any 2.003002
# 
t/00-report-prereqs.t .......... ok
t/author-eof.t ................. skipped: these tests are for testing by the author
t/author-eol.t ................. skipped: these tests are for testing by the author
t/author-no-breakpoints.t ...... skipped: these tests are for testing by the author
t/author-no-tabs.t ............. skipped: these tests are for testing by the author
t/author-pod-syntax.t .......... skipped: these tests are for testing by the author
t/author-portability.t ......... skipped: these tests are for testing by the author
t/release-distmeta.t ........... skipped: these tests are for release candidate testing
t/release-kwalitee.t ........... skipped: these tests are for release candidate testing
t/release-pause-permissions.t .. skipped: these tests are for release candidate testing
t/release-unused-vars.t ........ skipped: these tests are for release candidate testing
All tests successful.
Files=12, Tests=2, 21 wallclock secs ( 0.80 usr  0.08 sys +  9.11 cusr  0.53 csys = 10.52 CPU)
Result: PASS

------------------------------
PREREQUISITES
------------------------------

Prerequisite modules loaded:

requires:

    Module                     Need     Have    
    -------------------------- -------- --------
    Carp                       0        1.42    
    HTTP::Message              6.06     6.13    
    HTTP::Request              0        6.13    
    HTTP::Request::Common      0        6.13    
    HTTP::Response::Stringable 0.0002   0.0002  
    JSON::MaybeXS              0        1.003009
    LWP::UserAgent             0        6.27    
    Moo                        1.005000 2.003002
    Moo::Role                  0        2.003002
    perl                       5.006    5.026001

build_requires:

    Module                     Need     Have    
    -------------------------- -------- --------
    blib                       1.01     1.06    
    ExtUtils::MakeMaker        0        7.30    
    File::Spec                 0        3.67    
    IO::Handle                 0        1.36    
    IPC::Open3                 0        1.20    
    strict                     0        1.11    
    Test::More                 0        1.302100
    warnings                   0        1.37    

configure_requires:

    Module                     Need     Have    
    -------------------------- -------- --------
    ExtUtils::MakeMaker        0        7.30    


------------------------------
ENVIRONMENT AND OTHER CONTEXT
------------------------------

Environment variables:

    AUTOMATED_TESTING = 1
    LC_CTYPE = de_AT.utf8
    LD_LIBRARY_PATH = /usr/lib/libeatmydata
    NONINTERACTIVE_TESTING = 1
    PATH = /srv/smoker/bin:/usr/lib/ccache:/srv/smoker/perl5/perlbrew/bin:/srv/smoker/perl5/perlbrew/perls/perl-5.26.1/bin:/usr/local/bin:/usr/bin:/bin:/usr/local/games:/usr/games
    PERL5LIB = /srv/smoker/cpan/build/HTTP-Response-Stringable-0.0002-0/blib/arch:/srv/smoker/cpan/build/HTTP-Response-Stringable-0.0002-0/blib/lib:/srv/smoker/cpan/build/Moo-2.003002-30/blib/arch:/srv/smoker/cpan/build/Moo-2.003002-30/blib/lib:/srv/smoker/cpan/build/Devel-GlobalDestruction-0.14-43/blib/arch:/srv/smoker/cpan/build/Devel-GlobalDestruction-0.14-43/blib/lib
    PERL5OPT = 
    PERL5_CPANPLUS_IS_RUNNING = 31518
    PERL5_CPAN_IS_RUNNING = 31518
    PERL5_CPAN_IS_RUNNING_IN_RECURSION = 17796,31518
    PERLBREW_BASHRC_VERSION = 0.80
    PERLBREW_HOME = /srv/smoker/.perlbrew
    PERLBREW_MANPATH = /srv/smoker/perl5/perlbrew/perls/perl-5.26.1/man
    PERLBREW_PATH = /srv/smoker/perl5/perlbrew/bin:/srv/smoker/perl5/perlbrew/perls/perl-5.26.1/bin
    PERLBREW_PERL = perl-5.26.1
    PERLBREW_ROOT = /srv/smoker/perl5/perlbrew
    PERLBREW_VERSION = 0.80
    PERL_CR_SMOKER_CURRENT = WebService-HashiCorp-Vault-0.004
    PERL_EXTUTILS_AUTOINSTALL = --defaultdeps
    PERL_MM_USE_DEFAULT = 1
    PERL_USE_UNSAFE_INC = 1
    SHELL = /bin/bash
    TERM = screen-256color

Perl special variables (and OS-specific diagnostics, for MSWin32):

    $^X = /srv/smoker/perl5/perlbrew/perls/perl-5.26.1/bin/perl
    $UID/$EUID = 1111 / 1111
    $GID = 65534 65534
    $EGID = 65534 65534

Perl module toolchain versions installed:

    Module              Have    
    ------------------- --------
    CPAN                2.18    
    CPAN::Meta          2.150010
    Cwd                 3.67    
    ExtUtils::CBuilder  0.280226
    ExtUtils::Command   7.30    
    ExtUtils::Install   2.14    
    ExtUtils::MakeMaker 7.30    
    ExtUtils::Manifest  1.70    
    ExtUtils::ParseXS   3.35    
    File::Spec          3.67    
    JSON                2.94    
    JSON::PP            2.94    
    Module::Build       0.4224  
    Module::Signature   n/a     
    Parse::CPAN::Meta   2.150010
    Test::Harness       3.39    
    Test::More          1.302100
    YAML                1.23    
    YAML::Syck          n/a     
    version             0.9918  


--

Summary of my perl5 (revision 5 version 26 subversion 1) configuration:
   
  Platform:
    osname=linux
    osvers=3.18.0-trunk-rpi
    archname=armv6l-linux
    uname='linux smoker 3.18.0-trunk-rpi #1 preempt raspbian 3.18.5-1~exp1+rpi19+stretch (2015-10-14) armv6l gnulinux '
    config_args='-de -Dprefix=/srv/smoker/perl5/perlbrew/perls/perl-5.26.1 -Aeval:scriptdir=/srv/smoker/perl5/perlbrew/perls/perl-5.26.1/bin'
    hint=recommended
    useposix=true
    d_sigaction=define
    useithreads=undef
    usemultiplicity=undef
    use64bitint=undef
    use64bitall=undef
    uselongdouble=undef
    usemymalloc=n
    default_inc_excludes_dot=define
    bincompat5005=undef
  Compiler:
    cc='cc'
    ccflags ='-fwrapv -fno-strict-aliasing -pipe -fstack-protector-strong -I/usr/local/include -D_LARGEFILE_SOURCE -D_FILE_OFFSET_BITS=64 -D_FORTIFY_SOURCE=2'
    optimize='-O2'
    cppflags='-fwrapv -fno-strict-aliasing -pipe -fstack-protector-strong -I/usr/local/include'
    ccversion=''
    gccversion='7.2.0'
    gccosandvers=''
    intsize=4
    longsize=4
    ptrsize=4
    doublesize=8
    byteorder=1234
    doublekind=3
    d_longlong=define
    longlongsize=8
    d_longdbl=define
    longdblsize=8
    longdblkind=0
    ivtype='long'
    ivsize=4
    nvtype='double'
    nvsize=8
    Off_t='off_t'
    lseeksize=8
    alignbytes=8
    prototype=define
  Linker and Libraries:
    ld='cc'
    ldflags =' -fstack-protector-strong -L/usr/local/lib'
    libpth=/usr/local/lib /usr/lib/gcc/arm-linux-gnueabihf/7/include-fixed /usr/include/arm-linux-gnueabihf /usr/lib /lib/arm-linux-gnueabihf /lib /usr/lib/arm-linux-gnueabihf
    libs=-lpthread -lnsl -ldl -lm -lcrypt -lutil -lc
    perllibs=-lpthread -lnsl -ldl -lm -lcrypt -lutil -lc
    libc=libc-2.24.so
    so=so
    useshrplib=false
    libperl=libperl.a
    gnulibc_version='2.24'
  Dynamic Linking:
    dlsrc=dl_dlopen.xs
    dlext=so
    d_dlsymun=undef
    ccdlflags='-Wl,-E'
    cccdlflags='-fPIC'
    lddlflags='-shared -O2 -L/usr/local/lib -fstack-protector-strong'


Characteristics of this binary (from libperl): 
  Compile-time options:
    HAS_TIMES
    PERLIO_LAYERS
    PERL_COPY_ON_WRITE
    PERL_DONT_CREATE_GVSV
    PERL_HASH_FUNC_ONE_AT_A_TIME_HARD
    PERL_MALLOC_WRAP
    PERL_OP_PARENT
    PERL_PRESERVE_IVUV
    USE_LARGE_FILES
    USE_LOCALE
    USE_LOCALE_COLLATE
    USE_LOCALE_CTYPE
    USE_LOCALE_NUMERIC
    USE_LOCALE_TIME
    USE_PERLIO
    USE_PERL_ATOF
  Locally applied patches:
    Devel::PatchPerl 1.38
  Built under linux
  Compiled at Sep 23 2017 15:08:06
  %ENV:
    PERL5LIB="/srv/smoker/cpan/build/HTTP-Response-Stringable-0.0002-0/blib/arch:/srv/smoker/cpan/build/HTTP-Response-Stringable-0.0002-0/blib/lib:/srv/smoker/cpan/build/Moo-2.003002-30/blib/arch:/srv/smoker/cpan/build/Moo-2.003002-30/blib/lib:/srv/smoker/cpan/build/Devel-GlobalDestruction-0.14-43/blib/arch:/srv/smoker/cpan/build/Devel-GlobalDestruction-0.14-43/blib/lib"
    PERL5OPT=""
    PERL5_CPANPLUS_IS_RUNNING="31518"
    PERL5_CPAN_IS_RUNNING="31518"
    PERL5_CPAN_IS_RUNNING_IN_RECURSION="17796,31518"
    PERLBREW_BASHRC_VERSION="0.80"
    PERLBREW_HOME="/srv/smoker/.perlbrew"
    PERLBREW_MANPATH="/srv/smoker/perl5/perlbrew/perls/perl-5.26.1/man"
    PERLBREW_PATH="/srv/smoker/perl5/perlbrew/bin:/srv/smoker/perl5/perlbrew/perls/perl-5.26.1/bin"
    PERLBREW_PERL="perl-5.26.1"
    PERLBREW_ROOT="/srv/smoker/perl5/perlbrew"
    PERLBREW_VERSION="0.80"
    PERL_CR_SMOKER_CURRENT="WebService-HashiCorp-Vault-0.004"
    PERL_EXTUTILS_AUTOINSTALL="--defaultdeps"
    PERL_MM_USE_DEFAULT="1"
    PERL_USE_UNSAFE_INC="1"
  @INC:
    /srv/smoker/cpan/build/HTTP-Response-Stringable-0.0002-0/blib/arch
    /srv/smoker/cpan/build/HTTP-Response-Stringable-0.0002-0/blib/lib
    /srv/smoker/cpan/build/Moo-2.003002-30/blib/arch
    /srv/smoker/cpan/build/Moo-2.003002-30/blib/lib
    /srv/smoker/cpan/build/Devel-GlobalDestruction-0.14-43/blib/arch
    /srv/smoker/cpan/build/Devel-GlobalDestruction-0.14-43/blib/lib
    /srv/smoker/perl5/perlbrew/perls/perl-5.26.1/lib/site_perl/5.26.1/armv6l-linux
    /srv/smoker/perl5/perlbrew/perls/perl-5.26.1/lib/site_perl/5.26.1
    /srv/smoker/perl5/perlbrew/perls/perl-5.26.1/lib/5.26.1/armv6l-linux
    /srv/smoker/perl5/perlbrew/perls/perl-5.26.1/lib/5.26.1
    .