Test-Module-Used v0.2.6 Perl 5 v5.28.2 x86_64-linux-thread-multi-ld

Status
Pass
From
Andreas J. König (ANDK)
Dist
Test-Module-Used v0.2.6
Platform
Perl 5 v5.28.2 x86_64-linux-thread-multi-ld
Date
2019-04-20 12:12:40
ID
97e65a46-6365-11e9-bcd6-db00bbeb0044
This distribution has been tested as part of the CPAN Testers
project, supporting the Perl programming language.  See
http://wiki.cpantesters.org/ for more information or email
questions to cpan-testers-discuss@perl.org


--
Dear Takuya Tsuchida,

This is a computer-generated report for Test-Module-Used-0.2.6
on perl 5.28.2, created by CPAN-Reporter-1.2018.

Thank you for uploading your work to CPAN.  Congratulations!
All tests were successful.

Sections of this report:

    * Tester comments
    * Program output
    * Prerequisites
    * Environment and other context

------------------------------
TESTER COMMENTS
------------------------------

Additional comments from tester:

this report is from an automated smoke testing program
and was not reviewed by a human for accuracy

------------------------------
PROGRAM OUTPUT
------------------------------

Output from './Build test':

t/001_use_ok.t ............ ok
t/002_default.t ........... ok
t/003_option.t ............ ok
t/004_used_ok.t ........... ok
t/005_used_module.t ....... ok
t/006_read_meta_yml.t ..... ok
t/007_test_myself.t ....... ok
t/008_test_is_empty.t ..... ok
t/009_auto_get_exclude.t .. ok
t/010_test_myself2.t ...... ok
t/011_read_meta_json.t .... ok
t/012_used_ok.t ........... ok
t/013_requires_ok.t ....... ok
t/014_requires_ok_fail.t .. ok
t/015_used_ok_fail.t ...... ok
t/016_ok_fail1.t .......... ok
t/017_ok_fail2.t .......... ok
All tests successful.
Files=17, Tests=83,  5 wallclock secs ( 0.04 usr  0.12 sys +  4.14 cusr  0.95 csys =  5.25 CPU)
Result: PASS

------------------------------
PREREQUISITES
------------------------------

Prerequisite modules loaded:

requires:

    Module                Need     Have      
    --------------------- -------- ----------
    CPAN::Meta            0        2.150010  
    List::MoreUtils       0        0.428     
    Module::CoreList      0        5.20190419
    Module::Used          0        v1.3.0    
    perl                  5.008001 5.028002  
    PPI::Document         0        1.236     
    version               0.77     0.9924    

build_requires:

    Module                Need     Have      
    --------------------- -------- ----------
    ExtUtils::MakeMaker   6.59     7.34      
    Test::Builder::Tester 0        1.302162  
    Test::More            0.98     1.302162  

configure_requires:

    Module                Need     Have      
    --------------------- -------- ----------
    Module::Build         0.38     0.4229    


------------------------------
ENVIRONMENT AND OTHER CONTEXT
------------------------------

Environment variables:

    AUTOMATED_TESTING = 1
    LANG = en_US.UTF-8
    PATH = /home/sand/bin:/usr/local/bin:/usr/local/sbin:/usr/sbin:/usr/bin:/sbin:/bin:/usr/games:/usr/local/games:/usr/local/perl/bin:/usr/X11/bin
    PERL = /tmp/basesmoker-reloperl-7dcq/bin/perl
    PERL5LIB = /tmp/loop_over_bdir-20457-nYwvqJ/Dumbbench-0.111-0/blib/arch:/tmp/loop_over_bdir-20457-nYwvqJ/Dumbbench-0.111-0/blib/lib:/tmp/loop_over_bdir-20457-nYwvqJ/Sah-0.9.45-0/blib/arch:/tmp/loop_over_bdir-20457-nYwvqJ/Sah-0.9.45-0/blib/lib:/tmp/loop_over_bdir-20457-nYwvqJ/Sah-Schemas-Examples-0.005-0/blib/arch:/tmp/loop_over_bdir-20457-nYwvqJ/Sah-Schemas-Examples-0.005-0/blib/lib:/tmp/loop_over_bdir-20457-nYwvqJ/Sah-Schemas-Int-0.071-0/blib/arch:/tmp/loop_over_bdir-20457-nYwvqJ/Sah-Schemas-Int-0.071-0/blib/lib:/tmp/loop_over_bdir-20457-nYwvqJ/MIME-tools-5.509-0/blib/arch:/tmp/loop_over_bdir-20457-nYwvqJ/MIME-tools-5.509-0/blib/lib:/tmp/loop_over_bdir-20457-nYwvqJ/IO-Capture-0.05-0/blib/arch:/tmp/loop_over_bdir-20457-nYwvqJ/IO-Capture-0.05-0/blib/lib:/tmp/loop_over_bdir-20457-nYwvqJ/Catalyst-Action-REST-1.21-0/blib/arch:/tmp/loop_over_bdir-20457-nYwvqJ/Catalyst-Action-REST-1.21-0/blib/lib:/tmp/loop_over_bdir-20457-nYwvqJ/Test-File-ShareDir-1.001002-0/blib/arch:/tmp/loop_over_bdir-20457-nYwvqJ/Test-File-ShareDir-1.001002-0/blib/lib
    PERL5OPT = 
    PERL5_CPANPLUS_IS_RUNNING = 20465
    PERL5_CPAN_IS_RUNNING = 20465
    PERL_CANARY_STABILITY_NOPROMPT = 1
    PERL_MM_USE_DEFAULT = 1
    PERL_USE_UNSAFE_INC = 1
    SHELL = /usr/bin/zsh
    TERM = screen

Perl special variables (and OS-specific diagnostics, for MSWin32):

    $^X = /tmp/basesmoker-reloperl-7dcq/bin/perl
    $UID/$EUID = 1005 / 1005
    $GID = 1005 1005
    $EGID = 1005 1005

Perl module toolchain versions installed:

    Module              Have    
    ------------------- --------
    CPAN                2.26    
    CPAN::Meta          2.150010
    Cwd                 3.75    
    ExtUtils::CBuilder  0.280231
    ExtUtils::Command   7.34    
    ExtUtils::Install   2.14    
    ExtUtils::MakeMaker 7.34    
    ExtUtils::Manifest  1.70    
    ExtUtils::ParseXS   3.39    
    File::Spec          3.75    
    JSON                4.02    
    JSON::PP            2.97001 
    Module::Build       0.4229  
    Module::Signature   0.83    
    Parse::CPAN::Meta   2.150010
    Test::Harness       3.42    
    Test::More          1.302162
    YAML                1.27    
    YAML::Syck          1.31    
    version             0.9924  


--

Summary of my perl5 (revision 5 version 28 subversion 2) configuration:
  Derived from: c763da0e1c4ed5f24d490617b5a28c81fb69f6c4
  Platform:
    osname=linux
    osvers=4.15.0-45-generic
    archname=x86_64-linux-thread-multi-ld
    uname='linux k93bionic 4.15.0-45-generic #48-ubuntu smp tue jan 29 16:28:13 utc 2019 x86_64 x86_64 x86_64 gnulinux '
    config_args='-Dprefix=/home/sand/src/perl/repoperls/installed-perls/host/k93bionic/v5.28.2/ebf1 -Dmyhostname=k93bionic -Dinstallusrbinperl=n -Uversiononly -Dusedevel -des -Ui_db -Dlibswanted=cl pthread socket inet nsl gdbm dbm malloc dl ld sun m crypt sec util c cposix posix ucb BSD gdbm_compat -Duseithreads -Duselongdouble -DEBUGGING=-g'
    hint=recommended
    useposix=true
    d_sigaction=define
    useithreads=define
    usemultiplicity=define
    use64bitint=define
    use64bitall=define
    uselongdouble=define
    usemymalloc=n
    default_inc_excludes_dot=define
    bincompat5005=undef
  Compiler:
    cc='cc'
    ccflags ='-D_REENTRANT -D_GNU_SOURCE -fwrapv -fno-strict-aliasing -pipe -fstack-protector-strong -I/usr/local/include -D_LARGEFILE_SOURCE -D_FILE_OFFSET_BITS=64'
    optimize='-O2 -g'
    cppflags='-D_REENTRANT -D_GNU_SOURCE -fwrapv -fno-strict-aliasing -pipe -fstack-protector-strong -I/usr/local/include'
    ccversion=''
    gccversion='7.3.0'
    gccosandvers=''
    intsize=4
    longsize=8
    ptrsize=8
    doublesize=8
    byteorder=12345678
    doublekind=3
    d_longlong=define
    longlongsize=8
    d_longdbl=define
    longdblsize=16
    longdblkind=3
    ivtype='long'
    ivsize=8
    nvtype='long double'
    nvsize=16
    Off_t='off_t'
    lseeksize=8
    alignbytes=16
    prototype=define
  Linker and Libraries:
    ld='cc'
    ldflags =' -fstack-protector-strong -L/usr/local/lib'
    libpth=/usr/local/lib /usr/lib/gcc/x86_64-linux-gnu/7/include-fixed /usr/include/x86_64-linux-gnu /usr/lib /lib/x86_64-linux-gnu /lib/../lib /usr/lib/x86_64-linux-gnu /usr/lib/../lib /lib
    libs=-lpthread -lnsl -ldl -lm -lcrypt -lutil -lc
    perllibs=-lpthread -lnsl -ldl -lm -lcrypt -lutil -lc
    libc=libc-2.27.so
    so=so
    useshrplib=false
    libperl=libperl.a
    gnulibc_version='2.27'
  Dynamic Linking:
    dlsrc=dl_dlopen.xs
    dlext=so
    d_dlsymun=undef
    ccdlflags='-Wl,-E'
    cccdlflags='-fPIC'
    lddlflags='-shared -O2 -g -L/usr/local/lib -fstack-protector-strong'


Characteristics of this binary (from libperl): 
  Compile-time options:
    HAS_TIMES
    MULTIPLICITY
    PERLIO_LAYERS
    PERL_COPY_ON_WRITE
    PERL_DONT_CREATE_GVSV
    PERL_IMPLICIT_CONTEXT
    PERL_MALLOC_WRAP
    PERL_OP_PARENT
    PERL_PRESERVE_IVUV
    PERL_USE_DEVEL
    USE_64_BIT_ALL
    USE_64_BIT_INT
    USE_ITHREADS
    USE_LARGE_FILES
    USE_LOCALE
    USE_LOCALE_COLLATE
    USE_LOCALE_CTYPE
    USE_LOCALE_NUMERIC
    USE_LOCALE_TIME
    USE_LONG_DOUBLE
    USE_PERLIO
    USE_PERL_ATOF
    USE_REENTRANT_API
  Locally applied patches:
    uncommitted-changes
  Built under linux
  Compiled at Apr 20 2019 01:58:27
  %ENV:
    PERL="/tmp/basesmoker-reloperl-7dcq/bin/perl"
    PERL5LIB="/tmp/loop_over_bdir-20457-nYwvqJ/Dumbbench-0.111-0/blib/arch:/tmp/loop_over_bdir-20457-nYwvqJ/Dumbbench-0.111-0/blib/lib:/tmp/loop_over_bdir-20457-nYwvqJ/Sah-0.9.45-0/blib/arch:/tmp/loop_over_bdir-20457-nYwvqJ/Sah-0.9.45-0/blib/lib:/tmp/loop_over_bdir-20457-nYwvqJ/Sah-Schemas-Examples-0.005-0/blib/arch:/tmp/loop_over_bdir-20457-nYwvqJ/Sah-Schemas-Examples-0.005-0/blib/lib:/tmp/loop_over_bdir-20457-nYwvqJ/Sah-Schemas-Int-0.071-0/blib/arch:/tmp/loop_over_bdir-20457-nYwvqJ/Sah-Schemas-Int-0.071-0/blib/lib:/tmp/loop_over_bdir-20457-nYwvqJ/MIME-tools-5.509-0/blib/arch:/tmp/loop_over_bdir-20457-nYwvqJ/MIME-tools-5.509-0/blib/lib:/tmp/loop_over_bdir-20457-nYwvqJ/IO-Capture-0.05-0/blib/arch:/tmp/loop_over_bdir-20457-nYwvqJ/IO-Capture-0.05-0/blib/lib:/tmp/loop_over_bdir-20457-nYwvqJ/Catalyst-Action-REST-1.21-0/blib/arch:/tmp/loop_over_bdir-20457-nYwvqJ/Catalyst-Action-REST-1.21-0/blib/lib:/tmp/loop_over_bdir-20457-nYwvqJ/Test-File-ShareDir-1.001002-0/blib/arch:/tmp/loop_over_bdir-20457-nYwvqJ/Test-File-ShareDir-1.001002-0/blib/lib"
    PERL5OPT=""
    PERL5_CPANPLUS_IS_RUNNING="20465"
    PERL5_CPAN_IS_RUNNING="20465"
    PERL_CANARY_STABILITY_NOPROMPT="1"
    PERL_MM_USE_DEFAULT="1"
    PERL_USE_UNSAFE_INC="1"
  @INC:
    /tmp/loop_over_bdir-20457-nYwvqJ/Dumbbench-0.111-0/blib/arch
    /tmp/loop_over_bdir-20457-nYwvqJ/Dumbbench-0.111-0/blib/lib
    /tmp/loop_over_bdir-20457-nYwvqJ/Sah-0.9.45-0/blib/arch
    /tmp/loop_over_bdir-20457-nYwvqJ/Sah-0.9.45-0/blib/lib
    /tmp/loop_over_bdir-20457-nYwvqJ/Sah-Schemas-Examples-0.005-0/blib/arch
    /tmp/loop_over_bdir-20457-nYwvqJ/Sah-Schemas-Examples-0.005-0/blib/lib
    /tmp/loop_over_bdir-20457-nYwvqJ/Sah-Schemas-Int-0.071-0/blib/arch
    /tmp/loop_over_bdir-20457-nYwvqJ/Sah-Schemas-Int-0.071-0/blib/lib
    /tmp/loop_over_bdir-20457-nYwvqJ/MIME-tools-5.509-0/blib/arch
    /tmp/loop_over_bdir-20457-nYwvqJ/MIME-tools-5.509-0/blib/lib
    /tmp/loop_over_bdir-20457-nYwvqJ/IO-Capture-0.05-0/blib/arch
    /tmp/loop_over_bdir-20457-nYwvqJ/IO-Capture-0.05-0/blib/lib
    /tmp/loop_over_bdir-20457-nYwvqJ/Catalyst-Action-REST-1.21-0/blib/arch
    /tmp/loop_over_bdir-20457-nYwvqJ/Catalyst-Action-REST-1.21-0/blib/lib
    /tmp/loop_over_bdir-20457-nYwvqJ/Test-File-ShareDir-1.001002-0/blib/arch
    /tmp/loop_over_bdir-20457-nYwvqJ/Test-File-ShareDir-1.001002-0/blib/lib
    /home/sand/src/perl/repoperls/installed-perls/host/k93bionic/v5.28.2/ebf1/lib/site_perl/5.28.2/x86_64-linux-thread-multi-ld
    /home/sand/src/perl/repoperls/installed-perls/host/k93bionic/v5.28.2/ebf1/lib/site_perl/5.28.2
    /home/sand/src/perl/repoperls/installed-perls/host/k93bionic/v5.28.2/ebf1/lib/5.28.2/x86_64-linux-thread-multi-ld
    /home/sand/src/perl/repoperls/installed-perls/host/k93bionic/v5.28.2/ebf1/lib/5.28.2
    .