PSGI-Hector v2.0 Perl 5 v5.28.2 x86_64-linux-thread-multi

Status
Pass
From
David Cantrell (DCANTRELL)
Dist
PSGI-Hector v2.0
Platform
Perl 5 v5.28.2 x86_64-linux-thread-multi
Date
2020-01-15 09:29:56
ID
97e76e3e-3779-11ea-abce-9e66052d0de1
This distribution has been tested as part of the CPAN Testers
project, supporting the Perl programming language.  See
http://wiki.cpantesters.org/ for more information or email
questions to cpan-testers-discuss@perl.org


--
Dear MacGyveR,

This is a computer-generated report for PSGI-Hector-2.0
on perl 5.28.2, created by CPAN-Reporter-1.2018.

Thank you for uploading your work to CPAN.  Congratulations!
All tests were successful.

Sections of this report:

    * Tester comments
    * Program output
    * Prerequisites
    * Environment and other context

------------------------------
TESTER COMMENTS
------------------------------

Additional comments from tester:

this report is from an automated smoke testing program
and was not reviewed by a human for accuracy

------------------------------
PROGRAM OUTPUT
------------------------------

Output from './Build test':

t/00_use.t ....................... ok
DEBUG - Created new session: HT4d0749bbf2ff3b207d656a07d0c6a3a5
t/01_hector.t .................... ok
t/02_response_raw.t .............. ok
t/03_pod.t ....................... ok
DEBUG - Created new session: HTfcb189a0f6a3d03fdca44e5259002a23
DEBUG - Session 1.2.3.4 <> 8.8.8.8
DEBUG - Deleted session: HTfcb189a0f6a3d03fdca44e5259002a23
t/04_session.t ................... ok
t/05_request.t ................... ok
t/06_response_templatetoolkit.t .. ok
t/07_log.t ....................... ok
All tests successful.
Files=8, Tests=67, 11 wallclock secs ( 0.04 usr  0.02 sys +  1.66 cusr  0.35 csys =  2.07 CPU)
Result: PASS

------------------------------
PREREQUISITES
------------------------------

Prerequisite modules loaded:

requires:

    Module                              Need  Have    
    ----------------------------------- ----- --------
    CGI::Simple::Cookie                 0     1.22    
    Class::Load                         0     0.25    
    Crypt::Simple                       0     0.06    
    CSS::Minifier::XS                   0     0.09    
    Data::Dumper                        0     2.170   
    File::Basename                      0     2.85    
    File::Spec                          0     3.74    
    Hash::MultiValue                    0     0.16    
    HTTP::Response                      0     6.18    
    IO::Compress::Gzip                  0     2.074   
    JavaScript::Minifier::XS            0     0.11    
    perl                                5.006 5.028002
    Plack                               0     1.0047  
  ! Plack::Middleware::Deflater         0     n/a     
    Plack::Middleware::MCCS             0     1.000000
    Plack::Middleware::ReverseProxy     0     0.16    
    Plack::Middleware::ReverseProxyPath 0     0.04    
    Template                            0     3.004   

build_requires:

    Module                              Need  Have    
    ----------------------------------- ----- --------
    Mock::Sub                           0     1.09    
    Test::MockModule                    0     0.171.0 
    Test::More                          0     1.302170
    Test::Output                        0     1.031   

configure_requires:

    Module                              Need  Have    
    ----------------------------------- ----- --------
    Module::Build                       0.42  0.4229  


------------------------------
ENVIRONMENT AND OTHER CONTEXT
------------------------------

Environment variables:

    AUTOMATED_TESTING = 1
    LANG = en_US.UTF-8
    NONINTERACTIVE_TESTING = 1
    PATH = /usr/local/bin:/usr/bin:/bin:/usr/local/games:/usr/games
    PERL = 5.28.2
    PERL5LIB = 
    PERL5OPT = 
    PERL5_CPANPLUS_IS_RUNNING = 25315
    PERL5_CPAN_IS_RUNNING = 25315
    PERLVER = 5.28.2
    PERL_INLINE_DIRECTORY = /home/david/.Inline-5.28.2
    PERL_MM_USE_DEFAULT = 1
    PERL_USE_UNSAFE_INC = 0
    SHELL = /bin/bash
    TERM = screen

Perl special variables (and OS-specific diagnostics, for MSWin32):

    $^X = /home/david/cpantesting/perl-5.28.2/bin/perl
    $UID/$EUID = 1000 / 1000
    $GID = 1000 27 1000
    $EGID = 1000 27 1000

Perl module toolchain versions installed:

    Module              Have    
    ------------------- --------
    CPAN                2.20    
    CPAN::Meta          2.150010
    Cwd                 3.74    
    ExtUtils::CBuilder  0.280230
    ExtUtils::Command   7.34    
    ExtUtils::Install   2.14    
    ExtUtils::MakeMaker 7.34    
    ExtUtils::Manifest  1.70    
    ExtUtils::ParseXS   3.39    
    File::Spec          3.74    
    JSON                4.02    
    JSON::PP            2.97001 
    Module::Build       0.4229  
    Module::Signature   n/a     
    Parse::CPAN::Meta   2.150010
    Test::Harness       3.42    
    Test::More          1.302170
    YAML                n/a     
    YAML::Syck          n/a     
    version             0.9923  


--

Summary of my perl5 (revision 5 version 28 subversion 2) configuration:
   
  Platform:
    osname=linux
    osvers=4.9.0-8-amd64
    archname=x86_64-linux-thread-multi
    uname='linux pigsty 4.9.0-8-amd64 #1 smp debian 4.9.144-3 (2019-02-02) x86_64 gnulinux '
    config_args='-de -Duse64bitall -Dusethreads -Dprefix=/home/david/cpantesting/perl-5.28.2'
    hint=recommended
    useposix=true
    d_sigaction=define
    useithreads=define
    usemultiplicity=define
    use64bitint=define
    use64bitall=define
    uselongdouble=undef
    usemymalloc=n
    default_inc_excludes_dot=define
    bincompat5005=undef
  Compiler:
    cc='cc'
    ccflags ='-D_REENTRANT -D_GNU_SOURCE -fwrapv -fno-strict-aliasing -pipe -fstack-protector-strong -I/usr/local/include -D_LARGEFILE_SOURCE -D_FILE_OFFSET_BITS=64 -D_FORTIFY_SOURCE=2'
    optimize='-O2'
    cppflags='-D_REENTRANT -D_GNU_SOURCE -fwrapv -fno-strict-aliasing -pipe -fstack-protector-strong -I/usr/local/include'
    ccversion=''
    gccversion='6.3.0 20170516'
    gccosandvers=''
    intsize=4
    longsize=8
    ptrsize=8
    doublesize=8
    byteorder=12345678
    doublekind=3
    d_longlong=define
    longlongsize=8
    d_longdbl=define
    longdblsize=16
    longdblkind=3
    ivtype='long'
    ivsize=8
    nvtype='double'
    nvsize=8
    Off_t='off_t'
    lseeksize=8
    alignbytes=8
    prototype=define
  Linker and Libraries:
    ld='cc'
    ldflags =' -fstack-protector-strong -L/usr/local/lib'
    libpth=/usr/local/lib /usr/lib/gcc/x86_64-linux-gnu/6/include-fixed /usr/include/x86_64-linux-gnu /usr/lib /lib/x86_64-linux-gnu /lib/../lib /usr/lib/x86_64-linux-gnu /usr/lib/../lib /lib
    libs=-lpthread -lnsl -ldb -ldl -lm -lcrypt -lutil -lc
    perllibs=-lpthread -lnsl -ldl -lm -lcrypt -lutil -lc
    libc=libc-2.24.so
    so=so
    useshrplib=false
    libperl=libperl.a
    gnulibc_version='2.24'
  Dynamic Linking:
    dlsrc=dl_dlopen.xs
    dlext=so
    d_dlsymun=undef
    ccdlflags='-Wl,-E'
    cccdlflags='-fPIC'
    lddlflags='-shared -O2 -L/usr/local/lib -fstack-protector-strong'


Characteristics of this binary (from libperl): 
  Compile-time options:
    HAS_TIMES
    MULTIPLICITY
    PERLIO_LAYERS
    PERL_COPY_ON_WRITE
    PERL_DONT_CREATE_GVSV
    PERL_IMPLICIT_CONTEXT
    PERL_MALLOC_WRAP
    PERL_OP_PARENT
    PERL_PRESERVE_IVUV
    USE_64_BIT_ALL
    USE_64_BIT_INT
    USE_ITHREADS
    USE_LARGE_FILES
    USE_LOCALE
    USE_LOCALE_COLLATE
    USE_LOCALE_CTYPE
    USE_LOCALE_NUMERIC
    USE_LOCALE_TIME
    USE_PERLIO
    USE_PERL_ATOF
    USE_REENTRANT_API
  Built under linux
  Compiled at Apr 25 2019 01:37:26
  %ENV:
    PERL="5.28.2"
    PERL5LIB=""
    PERL5OPT=""
    PERL5_CPANPLUS_IS_RUNNING="25315"
    PERL5_CPAN_IS_RUNNING="25315"
    PERLVER="5.28.2"
    PERL_INLINE_DIRECTORY="/home/david/.Inline-5.28.2"
    PERL_MM_USE_DEFAULT="1"
    PERL_USE_UNSAFE_INC="0"
  @INC:
    /home/david/cpantesting/perl-5.28.2/lib/site_perl/5.28.2/x86_64-linux-thread-multi
    /home/david/cpantesting/perl-5.28.2/lib/site_perl/5.28.2
    /home/david/cpantesting/perl-5.28.2/lib/5.28.2/x86_64-linux-thread-multi
    /home/david/cpantesting/perl-5.28.2/lib/5.28.2