Dist-Zilla-Plugin-CheckChangesHasContent v0.011 Perl 5 v5.26.1 darwin-thread-multi-2level

Status
Pass
From
aero
Dist
Dist-Zilla-Plugin-CheckChangesHasContent v0.011
Platform
Perl 5 v5.26.1 darwin-thread-multi-2level
Date
2017-11-29 00:31:09
ID
9850477a-d49c-11e7-a7d0-c258ec34b0e2
This distribution has been tested as part of the CPAN Testers
project, supporting the Perl programming language.  See
http://wiki.cpantesters.org/ for more information or email
questions to cpan-testers-discuss@perl.org


--
Dear David Golden,

This is a computer-generated report for Dist-Zilla-Plugin-CheckChangesHasContent-0.011
on perl 5.26.1, created by CPAN-Reporter-1.2018.

Thank you for uploading your work to CPAN.  Congratulations!
All tests were successful.

Sections of this report:

    * Tester comments
    * Program output
    * Prerequisites
    * Environment and other context

------------------------------
TESTER COMMENTS
------------------------------

Additional comments from tester:

none provided

------------------------------
PROGRAM OUTPUT
------------------------------

Output from '/usr/bin/make test':

PERL_DL_NONLAZY=1 "/Users/chadwick/CASE_SENSITIVE_FS/perl5/perlbrew/perls/perl-5.26/bin/perl" "-MExtUtils::Command::MM" "-MTest::Harness" "-e" "undef *Test::Harness::Switches; test_harness(0, 'blib/lib', 'blib/arch')" t/*.t
# 
# Versions for all modules listed in MYMETA.json (including optional ones):
# 
# === Configure Requires ===
# 
#     Module              Want Have
#     ------------------- ---- ----
#     ExtUtils::MakeMaker 6.17 7.30
# 
# === Build Requires ===
# 
#     Module              Want Have
#     ------------------- ---- ----
#     ExtUtils::MakeMaker  any 7.30
# 
# === Test Requires ===
# 
#     Module              Want     Have
#     ------------------- ---- --------
#     Capture::Tiny        any     0.46
#     Cwd                  any     3.67
#     Dist::Zilla::Tester  any    6.010
#     ExtUtils::MakeMaker  any     7.30
#     File::Spec           any     3.67
#     Path::Tiny           any    0.104
#     Test::Fatal          any    0.014
#     Test::Harness        any     3.39
#     Test::More          0.88 1.302113
# 
# === Test Recommends ===
# 
#     Module         Want     Have
#     ---------- -------- --------
#     CPAN::Meta 2.120900 2.150010
# 
# === Runtime Requires ===
# 
#     Module                               Want     Have
#     -------------------------------- -------- --------
#     Data::Section                    0.200002 0.200007
#     Dist::Zilla                             6    6.010
#     Dist::Zilla::File::InMemory           any    6.010
#     Dist::Zilla::Role::BeforeRelease      any    6.010
#     Dist::Zilla::Role::FileGatherer       any    6.010
#     Dist::Zilla::Role::FileMunger         any    6.010
#     Dist::Zilla::Role::TextTemplate       any    6.010
#     List::Util                            any     1.49
#     Moose                                   2   2.2008
#     Moose::Util::TypeConstraints          any   2.2008
#     Sub::Exporter::ForMethods             any 0.100052
#     autodie                              2.00     2.29
#     namespace::autoclean                 0.28     0.28
#     strict                                any     1.11
#     warnings                              any     1.37
# 
t/00-report-prereqs.t ....... ok
t/checkhascontent.t ......... ok
t/test_changeshascontent.t .. ok
All tests successful.
Files=3, Tests=40,  3 wallclock secs ( 0.02 usr  0.01 sys +  2.22 cusr  0.33 csys =  2.58 CPU)
Result: PASS

------------------------------
PREREQUISITES
------------------------------

Prerequisite modules loaded:

requires:

    Module                           Need     Have    
    -------------------------------- -------- --------
    autodie                          2.00     2.29    
    Data::Section                    0.200002 0.200007
    Dist::Zilla                      6        6.010   
    Dist::Zilla::File::InMemory      0        6.010   
    Dist::Zilla::Role::BeforeRelease 0        6.010   
    Dist::Zilla::Role::FileGatherer  0        6.010   
    Dist::Zilla::Role::FileMunger    0        6.010   
    Dist::Zilla::Role::TextTemplate  0        6.010   
    List::Util                       0        1.49    
    Moose                            2        2.2008  
    Moose::Util::TypeConstraints     0        2.2008  
    namespace::autoclean             0.28     0.28    
    perl                             5.006    5.026001
    strict                           0        1.11    
    Sub::Exporter::ForMethods        0        0.100052
    warnings                         0        1.37    

build_requires:

    Module                           Need     Have    
    -------------------------------- -------- --------
    Capture::Tiny                    0        0.46    
    Cwd                              0        3.67    
    Dist::Zilla::Tester              0        6.010   
    ExtUtils::MakeMaker              0        7.30    
    File::Spec                       0        3.67    
    Path::Tiny                       0        0.104   
    Test::Fatal                      0        0.014   
    Test::Harness                    0        3.39    
    Test::More                       0.88     1.302113

configure_requires:

    Module                           Need     Have    
    -------------------------------- -------- --------
    ExtUtils::MakeMaker              6.17     7.30    
    perl                             5.006    5.026001

opt_build_requires:

    Module                           Need     Have    
    -------------------------------- -------- --------
    CPAN::Meta                       2.120900 2.150010


------------------------------
ENVIRONMENT AND OTHER CONTEXT
------------------------------

Environment variables:

    LANG = ko_KR.UTF-8
    NONINTERACTIVE_TESTING = 1
    PATH = /Users/chadwick/perl5/perlbrew/bin:/Users/chadwick/perl5/perlbrew/perls/perl-5.26/bin:/Users/chadwick/.anyenv/envs/pyenv/shims:/Users/chadwick/.anyenv/envs/pyenv/bin:/Users/chadwick/.anyenv/envs/ndenv/shims:/Users/chadwick/.anyenv/envs/ndenv/bin:/Users/chadwick/.anyenv/envs/jenv/shims:/Users/chadwick/.anyenv/envs/jenv/bin:/Users/chadwick/.anyenv/envs/goenv/shims:/Users/chadwick/.anyenv/envs/goenv/bin:/Users/chadwick/.anyenv/bin:/Users/chadwick/.rakudobrew/bin:/Users/chadwick/bin:/usr/local/bin:/usr/local/sbin:/usr/local/bin:/usr/bin:/bin:/usr/sbin:/sbin:/opt/X11/bin
    PERL5LIB = 
    PERL5OPT = 
    PERL5_CPANPLUS_IS_RUNNING = 3003
    PERL5_CPAN_IS_RUNNING = 3003
    PERLBREW_BASHRC_VERSION = 0.80
    PERLBREW_HOME = /Users/chadwick/.perlbrew
    PERLBREW_MANPATH = /Users/chadwick/perl5/perlbrew/perls/perl-5.26/man
    PERLBREW_PATH = /Users/chadwick/perl5/perlbrew/bin:/Users/chadwick/perl5/perlbrew/perls/perl-5.26/bin
    PERLBREW_PERL = perl-5.26
    PERLBREW_ROOT = /Users/chadwick/perl5/perlbrew
    PERLBREW_VERSION = 0.80
    PERL_MM_USE_DEFAULT = 1
    PERL_USE_UNSAFE_INC = 1
    SHELL = /usr/local/bin/bash
    TERM = xterm-256color
    TMPDIR = /var/folders/5v/bskbxfxj1dd1rvy3btm829v00000gn/T/

Perl special variables (and OS-specific diagnostics, for MSWin32):

    $^X = /Users/chadwick/CASE_SENSITIVE_FS/perl5/perlbrew/perls/perl-5.26/bin/perl
    $UID/$EUID = 501 / 501
    $GID = 20 20 12 61 79 80 81 98 701 33 100 204 250 395 398 399
    $EGID = 20 20 12 61 79 80 81 98 701 33 100 204 250 395 398 399

Perl module toolchain versions installed:

    Module              Have    
    ------------------- --------
    CPAN                2.18    
    CPAN::Meta          2.150010
    Cwd                 3.67    
    ExtUtils::CBuilder  0.280230
    ExtUtils::Command   7.30    
    ExtUtils::Install   2.14    
    ExtUtils::MakeMaker 7.30    
    ExtUtils::Manifest  1.70    
    ExtUtils::ParseXS   3.35    
    File::Spec          3.67    
    JSON                2.97000 
    JSON::PP            2.97000 
    Module::Build       0.4224  
    Module::Signature   n/a     
    Parse::CPAN::Meta   2.150010
    Test::Harness       3.39    
    Test::More          1.302113
    YAML                1.24    
    YAML::Syck          1.30    
    version             0.9918  


--

Summary of my perl5 (revision 5 version 26 subversion 1) configuration:
   
  Platform:
    osname=darwin
    osvers=16.7.0
    archname=darwin-thread-multi-2level
    uname='darwin chadwick.local 16.7.0 darwin kernel version 16.7.0: thu jun 15 17:36:27 pdt 2017; root:xnu-3789.70.16~2release_x86_64 x86_64 '
    config_args='-de -Dprefix=/Users/chadwick/perl5/perlbrew/perls/perl-5.26 -Dman1dir=none -Dman3dir=none -Dusethreads -Aeval:scriptdir=/Users/chadwick/perl5/perlbrew/perls/perl-5.26/bin'
    hint=recommended
    useposix=true
    d_sigaction=define
    useithreads=define
    usemultiplicity=define
    use64bitint=define
    use64bitall=define
    uselongdouble=undef
    usemymalloc=n
    default_inc_excludes_dot=define
    bincompat5005=undef
  Compiler:
    cc='cc'
    ccflags ='-fno-common -DPERL_DARWIN -fno-strict-aliasing -pipe -fstack-protector-strong -I/usr/local/include'
    optimize='-O3'
    cppflags='-fno-common -DPERL_DARWIN -fno-strict-aliasing -pipe -fstack-protector-strong -I/usr/local/include'
    ccversion=''
    gccversion='4.2.1 Compatible Apple LLVM 9.0.0 (clang-900.0.37)'
    gccosandvers=''
    intsize=4
    longsize=8
    ptrsize=8
    doublesize=8
    byteorder=12345678
    doublekind=3
    d_longlong=define
    longlongsize=8
    d_longdbl=define
    longdblsize=16
    longdblkind=3
    ivtype='long'
    ivsize=8
    nvtype='double'
    nvsize=8
    Off_t='off_t'
    lseeksize=8
    alignbytes=8
    prototype=define
  Linker and Libraries:
    ld='env MACOSX_DEPLOYMENT_TARGET=10.3 cc'
    ldflags =' -fstack-protector-strong -L/usr/local/lib'
    libpth=/usr/local/lib /Applications/Xcode.app/Contents/Developer/Toolchains/XcodeDefault.xctoolchain/usr/lib/clang/9.0.0/lib /Applications/Xcode.app/Contents/Developer/Toolchains/XcodeDefault.xctoolchain/usr/lib /usr/lib
    libs=-lpthread -lgdbm -ldbm -ldb -ldl -lm -lutil -lc
    perllibs=-lpthread -ldl -lm -lutil -lc
    libc=
    so=dylib
    useshrplib=false
    libperl=libperl.a
    gnulibc_version=''
  Dynamic Linking:
    dlsrc=dl_dlopen.xs
    dlext=bundle
    d_dlsymun=undef
    ccdlflags=' '
    cccdlflags=' '
    lddlflags=' -bundle -undefined dynamic_lookup -L/usr/local/lib -fstack-protector-strong'


Characteristics of this binary (from libperl): 
  Compile-time options:
    HAS_TIMES
    MULTIPLICITY
    PERLIO_LAYERS
    PERL_COPY_ON_WRITE
    PERL_DONT_CREATE_GVSV
    PERL_IMPLICIT_CONTEXT
    PERL_MALLOC_WRAP
    PERL_OP_PARENT
    PERL_PRESERVE_IVUV
    USE_64_BIT_ALL
    USE_64_BIT_INT
    USE_ITHREADS
    USE_LARGE_FILES
    USE_LOCALE
    USE_LOCALE_COLLATE
    USE_LOCALE_CTYPE
    USE_LOCALE_NUMERIC
    USE_LOCALE_TIME
    USE_PERLIO
    USE_PERL_ATOF
    USE_REENTRANT_API
  Locally applied patches:
    Devel::PatchPerl 1.34
  Built under darwin
  Compiled at Sep 25 2017 09:43:11
  %ENV:
    PERL5LIB=""
    PERL5OPT=""
    PERL5_CPANPLUS_IS_RUNNING="3003"
    PERL5_CPAN_IS_RUNNING="3003"
    PERLBREW_BASHRC_VERSION="0.80"
    PERLBREW_HOME="/Users/chadwick/.perlbrew"
    PERLBREW_MANPATH="/Users/chadwick/perl5/perlbrew/perls/perl-5.26/man"
    PERLBREW_PATH="/Users/chadwick/perl5/perlbrew/bin:/Users/chadwick/perl5/perlbrew/perls/perl-5.26/bin"
    PERLBREW_PERL="perl-5.26"
    PERLBREW_ROOT="/Users/chadwick/perl5/perlbrew"
    PERLBREW_VERSION="0.80"
    PERL_MM_USE_DEFAULT="1"
    PERL_USE_UNSAFE_INC="1"
  @INC:
    /Users/chadwick/perl5/perlbrew/perls/perl-5.26/lib/site_perl/5.26.1/darwin-thread-multi-2level
    /Users/chadwick/perl5/perlbrew/perls/perl-5.26/lib/site_perl/5.26.1
    /Users/chadwick/perl5/perlbrew/perls/perl-5.26/lib/5.26.1/darwin-thread-multi-2level
    /Users/chadwick/perl5/perlbrew/perls/perl-5.26/lib/5.26.1
    /Users/chadwick/perl5/perlbrew/perls/perl-5.26/lib/site_perl/5.26.0/darwin-thread-multi-2level
    /Users/chadwick/perl5/perlbrew/perls/perl-5.26/lib/site_perl/5.26.0
    /Users/chadwick/perl5/perlbrew/perls/perl-5.26/lib/site_perl
    .