HTTP-AnyUA v0.904 Perl 5 v5.37.7 x86_64-linux-thread-multi-ld

Status
Pass
From
Andreas J. König (ANDK)
Dist
HTTP-AnyUA v0.904
Platform
Perl 5 v5.37.7 x86_64-linux-thread-multi-ld
Date
2022-12-28 12:38:56
ID
98837272-86ac-11ed-8461-6fa7a3a01845
This distribution has been tested as part of the CPAN Testers
project, supporting the Perl programming language.  See
http://wiki.cpantesters.org/ for more information or email
questions to cpan-testers-discuss@perl.org


--
Dear Charles McGarvey,

This is a computer-generated report for HTTP-AnyUA-0.904
on perl 5.37.7, created by CPAN-Reporter-1.2018.

Thank you for uploading your work to CPAN.  Congratulations!
All tests were successful.

Sections of this report:

    * Tester comments
    * Program output
    * Prerequisites
    * Environment and other context

------------------------------
TESTER COMMENTS
------------------------------

Additional comments from tester:

this report is from an automated smoke testing program
and was not reviewed by a human for accuracy

------------------------------
PROGRAM OUTPUT
------------------------------

Output from '/usr/bin/make test':

PERL_DL_NONLAZY=1 "/tmp/basesmoker-reloperl-5zlR/bin/perl" "-MExtUtils::Command::MM" "-MTest::Harness" "-e" "undef *Test::Harness::Switches; test_harness(0, 'blib/lib', 'blib/arch')" t/*.t
t/00-compile.t ..................... ok
# 
# Versions for all modules listed in MYMETA.json (including optional ones):
# 
# === Configure Requires ===
# 
#     Module              Want Have
#     ------------------- ---- ----
#     ExtUtils::MakeMaker  any 7.66
# 
# === Build Requires ===
# 
#     Module              Want Have
#     ------------------- ---- ----
#     ExtUtils::MakeMaker  any 7.66
# 
# === Test Requires ===
# 
#     Module              Want     Have
#     ------------------- ---- --------
#     ExtUtils::MakeMaker  any     7.66
#     File::Spec           any     3.88
#     IO::Handle           any     1.51
#     IPC::Open3           any     1.22
#     Test2::API           any 1.302191
#     Test::Exception      any     0.43
#     Test::More           any 1.302191
#     lib                  any     0.65
#     namespace::clean     any     0.27
# 
# === Test Recommends ===
# 
#     Module         Want     Have
#     ---------- -------- --------
#     CPAN::Meta 2.120900 2.150010
# 
# === Test Suggests ===
# 
#     Module          Want    Have
#     --------------- ---- -------
#     AnyEvent::HTTP   any    2.25
#     Furl             any    3.14
#     HTTP::Tiny       any   0.082
#     JSON             any    4.10
#     LWP::UserAgent   any    6.67
#     Mojo::UserAgent  any   undef
#     Net::Curl::Easy  any missing
#     Plack::Runner    any   undef
#     Starman          any missing
# 
# === Runtime Requires ===
# 
#     Module         Want   Have
#     -------------- ---- ------
#     Carp            any   1.54
#     Exporter        any   5.77
#     Fcntl           any   1.15
#     Future          any   0.49
#     MIME::Base64    any   3.16
#     Module::Loader  any   0.04
#     Scalar::Util    any   1.63
#     Time::HiRes     any 1.9772
#     Time::Local     any   1.30
#     bytes           any   1.08
#     parent          any  0.239
#     strict          any   1.12
#     warnings        any   1.61
# 
# === Runtime Recommends ===
# 
#     Module     Want  Have
#     ---------- ---- -----
#     HTTP::Tiny  any 0.082
# 
t/00-report-prereqs.t .............. ok
t/01-new.t ......................... ok
t/02-shortcuts.t ................... ok
t/03-post_form.t ................... ok
    # Can't locate Net/Curl/Easy.pm in @INC (you may need to install the Net::Curl::Easy module) (@INC entries checked: t/lib /tmp/loop_over_bdir-96454-VGDAON/HTTP-AnyUA-0.904-0/blib/lib /tmp/loop_over_bdir-96454-VGDAON/HTTP-AnyUA-0.904-0/blib/arch /tmp/loop_over_bdir-96454-VGDAON/EJBCA-CrlPublish-0.60-0/blib/arch /tmp/loop_over_bdir-96454-VGDAON/EJBCA-CrlPublish-0.60-0/blib/lib /home/sand/src/perl/repoperls/installed-perls/host/k93focal/v5.37.7/e463/lib/site_perl/5.37.7/x86_64-linux-thread-multi-ld /home/sand/src/perl/repoperls/installed-perls/host/k93focal/v5.37.7/e463/lib/site_perl/5.37.7 /home/sand/src/perl/repoperls/installed-perls/host/k93focal/v5.37.7/e463/lib/5.37.7/x86_64-linux-thread-multi-ld /home/sand/src/perl/repoperls/installed-perls/host/k93focal/v5.37.7/e463/lib/5.37.7 .) at (eval 208) line 1.
t/04-internal-exception.t .......... ok
    # Can't locate Net/Curl/Easy.pm in @INC (you may need to install the Net::Curl::Easy module) (@INC entries checked: t/lib /tmp/loop_over_bdir-96454-VGDAON/HTTP-AnyUA-0.904-0/blib/lib /tmp/loop_over_bdir-96454-VGDAON/HTTP-AnyUA-0.904-0/blib/arch /tmp/loop_over_bdir-96454-VGDAON/EJBCA-CrlPublish-0.60-0/blib/arch /tmp/loop_over_bdir-96454-VGDAON/EJBCA-CrlPublish-0.60-0/blib/lib /home/sand/src/perl/repoperls/installed-perls/host/k93focal/v5.37.7/e463/lib/site_perl/5.37.7/x86_64-linux-thread-multi-ld /home/sand/src/perl/repoperls/installed-perls/host/k93focal/v5.37.7/e463/lib/site_perl/5.37.7 /home/sand/src/perl/repoperls/installed-perls/host/k93focal/v5.37.7/e463/lib/5.37.7/x86_64-linux-thread-multi-ld /home/sand/src/perl/repoperls/installed-perls/host/k93focal/v5.37.7/e463/lib/5.37.7 .) at (eval 260) line 1, <$pipe> line 6.
t/10-get.t ......................... ok
    # Can't locate Net/Curl/Easy.pm in @INC (you may need to install the Net::Curl::Easy module) (@INC entries checked: t/lib /tmp/loop_over_bdir-96454-VGDAON/HTTP-AnyUA-0.904-0/blib/lib /tmp/loop_over_bdir-96454-VGDAON/HTTP-AnyUA-0.904-0/blib/arch /tmp/loop_over_bdir-96454-VGDAON/EJBCA-CrlPublish-0.60-0/blib/arch /tmp/loop_over_bdir-96454-VGDAON/EJBCA-CrlPublish-0.60-0/blib/lib /home/sand/src/perl/repoperls/installed-perls/host/k93focal/v5.37.7/e463/lib/site_perl/5.37.7/x86_64-linux-thread-multi-ld /home/sand/src/perl/repoperls/installed-perls/host/k93focal/v5.37.7/e463/lib/site_perl/5.37.7 /home/sand/src/perl/repoperls/installed-perls/host/k93focal/v5.37.7/e463/lib/5.37.7/x86_64-linux-thread-multi-ld /home/sand/src/perl/repoperls/installed-perls/host/k93focal/v5.37.7/e463/lib/5.37.7 .) at (eval 240) line 1, <$pipe> line 6.
t/11-post.t ........................ ok
    # Can't locate Net/Curl/Easy.pm in @INC (you may need to install the Net::Curl::Easy module) (@INC entries checked: t/lib /tmp/loop_over_bdir-96454-VGDAON/HTTP-AnyUA-0.904-0/blib/lib /tmp/loop_over_bdir-96454-VGDAON/HTTP-AnyUA-0.904-0/blib/arch /tmp/loop_over_bdir-96454-VGDAON/EJBCA-CrlPublish-0.60-0/blib/arch /tmp/loop_over_bdir-96454-VGDAON/EJBCA-CrlPublish-0.60-0/blib/lib /home/sand/src/perl/repoperls/installed-perls/host/k93focal/v5.37.7/e463/lib/site_perl/5.37.7/x86_64-linux-thread-multi-ld /home/sand/src/perl/repoperls/installed-perls/host/k93focal/v5.37.7/e463/lib/site_perl/5.37.7 /home/sand/src/perl/repoperls/installed-perls/host/k93focal/v5.37.7/e463/lib/5.37.7/x86_64-linux-thread-multi-ld /home/sand/src/perl/repoperls/installed-perls/host/k93focal/v5.37.7/e463/lib/5.37.7 .) at (eval 230) line 1, <$pipe> line 6.
t/12-put.t ......................... ok
    # Can't locate Net/Curl/Easy.pm in @INC (you may need to install the Net::Curl::Easy module) (@INC entries checked: t/lib /tmp/loop_over_bdir-96454-VGDAON/HTTP-AnyUA-0.904-0/blib/lib /tmp/loop_over_bdir-96454-VGDAON/HTTP-AnyUA-0.904-0/blib/arch /tmp/loop_over_bdir-96454-VGDAON/EJBCA-CrlPublish-0.60-0/blib/arch /tmp/loop_over_bdir-96454-VGDAON/EJBCA-CrlPublish-0.60-0/blib/lib /home/sand/src/perl/repoperls/installed-perls/host/k93focal/v5.37.7/e463/lib/site_perl/5.37.7/x86_64-linux-thread-multi-ld /home/sand/src/perl/repoperls/installed-perls/host/k93focal/v5.37.7/e463/lib/site_perl/5.37.7 /home/sand/src/perl/repoperls/installed-perls/host/k93focal/v5.37.7/e463/lib/5.37.7/x86_64-linux-thread-multi-ld /home/sand/src/perl/repoperls/installed-perls/host/k93focal/v5.37.7/e463/lib/5.37.7 .) at (eval 235) line 1, <$pipe> line 6.
t/13-head.t ........................ ok
    # Can't locate Net/Curl/Easy.pm in @INC (you may need to install the Net::Curl::Easy module) (@INC entries checked: t/lib /tmp/loop_over_bdir-96454-VGDAON/HTTP-AnyUA-0.904-0/blib/lib /tmp/loop_over_bdir-96454-VGDAON/HTTP-AnyUA-0.904-0/blib/arch /tmp/loop_over_bdir-96454-VGDAON/EJBCA-CrlPublish-0.60-0/blib/arch /tmp/loop_over_bdir-96454-VGDAON/EJBCA-CrlPublish-0.60-0/blib/lib /home/sand/src/perl/repoperls/installed-perls/host/k93focal/v5.37.7/e463/lib/site_perl/5.37.7/x86_64-linux-thread-multi-ld /home/sand/src/perl/repoperls/installed-perls/host/k93focal/v5.37.7/e463/lib/site_perl/5.37.7 /home/sand/src/perl/repoperls/installed-perls/host/k93focal/v5.37.7/e463/lib/5.37.7/x86_64-linux-thread-multi-ld /home/sand/src/perl/repoperls/installed-perls/host/k93focal/v5.37.7/e463/lib/5.37.7 .) at (eval 225) line 1, <$pipe> line 6.
t/14-delete.t ...................... ok
    # Can't locate Net/Curl/Easy.pm in @INC (you may need to install the Net::Curl::Easy module) (@INC entries checked: t/lib /tmp/loop_over_bdir-96454-VGDAON/HTTP-AnyUA-0.904-0/blib/lib /tmp/loop_over_bdir-96454-VGDAON/HTTP-AnyUA-0.904-0/blib/arch /tmp/loop_over_bdir-96454-VGDAON/EJBCA-CrlPublish-0.60-0/blib/arch /tmp/loop_over_bdir-96454-VGDAON/EJBCA-CrlPublish-0.60-0/blib/lib /home/sand/src/perl/repoperls/installed-perls/host/k93focal/v5.37.7/e463/lib/site_perl/5.37.7/x86_64-linux-thread-multi-ld /home/sand/src/perl/repoperls/installed-perls/host/k93focal/v5.37.7/e463/lib/site_perl/5.37.7 /home/sand/src/perl/repoperls/installed-perls/host/k93focal/v5.37.7/e463/lib/5.37.7/x86_64-linux-thread-multi-ld /home/sand/src/perl/repoperls/installed-perls/host/k93focal/v5.37.7/e463/lib/5.37.7 .) at (eval 255) line 1, <$pipe> line 6.
t/15-custom-method.t ............... ok
    # Can't locate Net/Curl/Easy.pm in @INC (you may need to install the Net::Curl::Easy module) (@INC entries checked: t/lib /tmp/loop_over_bdir-96454-VGDAON/HTTP-AnyUA-0.904-0/blib/lib /tmp/loop_over_bdir-96454-VGDAON/HTTP-AnyUA-0.904-0/blib/arch /tmp/loop_over_bdir-96454-VGDAON/EJBCA-CrlPublish-0.60-0/blib/arch /tmp/loop_over_bdir-96454-VGDAON/EJBCA-CrlPublish-0.60-0/blib/lib /home/sand/src/perl/repoperls/installed-perls/host/k93focal/v5.37.7/e463/lib/site_perl/5.37.7/x86_64-linux-thread-multi-ld /home/sand/src/perl/repoperls/installed-perls/host/k93focal/v5.37.7/e463/lib/site_perl/5.37.7 /home/sand/src/perl/repoperls/installed-perls/host/k93focal/v5.37.7/e463/lib/5.37.7/x86_64-linux-thread-multi-ld /home/sand/src/perl/repoperls/installed-perls/host/k93focal/v5.37.7/e463/lib/5.37.7 .) at (eval 250) line 1, <$pipe> line 6.
t/20-data_callback.t ............... ok
    # Can't locate Net/Curl/Easy.pm in @INC (you may need to install the Net::Curl::Easy module) (@INC entries checked: t/lib /tmp/loop_over_bdir-96454-VGDAON/HTTP-AnyUA-0.904-0/blib/lib /tmp/loop_over_bdir-96454-VGDAON/HTTP-AnyUA-0.904-0/blib/arch /tmp/loop_over_bdir-96454-VGDAON/EJBCA-CrlPublish-0.60-0/blib/arch /tmp/loop_over_bdir-96454-VGDAON/EJBCA-CrlPublish-0.60-0/blib/lib /home/sand/src/perl/repoperls/installed-perls/host/k93focal/v5.37.7/e463/lib/site_perl/5.37.7/x86_64-linux-thread-multi-ld /home/sand/src/perl/repoperls/installed-perls/host/k93focal/v5.37.7/e463/lib/site_perl/5.37.7 /home/sand/src/perl/repoperls/installed-perls/host/k93focal/v5.37.7/e463/lib/5.37.7/x86_64-linux-thread-multi-ld /home/sand/src/perl/repoperls/installed-perls/host/k93focal/v5.37.7/e463/lib/5.37.7 .) at (eval 250) line 1, <$pipe> line 6.
t/21-basic-auth.t .................. ok
    # Can't locate Net/Curl/Easy.pm in @INC (you may need to install the Net::Curl::Easy module) (@INC entries checked: t/lib /tmp/loop_over_bdir-96454-VGDAON/HTTP-AnyUA-0.904-0/blib/lib /tmp/loop_over_bdir-96454-VGDAON/HTTP-AnyUA-0.904-0/blib/arch /tmp/loop_over_bdir-96454-VGDAON/EJBCA-CrlPublish-0.60-0/blib/arch /tmp/loop_over_bdir-96454-VGDAON/EJBCA-CrlPublish-0.60-0/blib/lib /home/sand/src/perl/repoperls/installed-perls/host/k93focal/v5.37.7/e463/lib/site_perl/5.37.7/x86_64-linux-thread-multi-ld /home/sand/src/perl/repoperls/installed-perls/host/k93focal/v5.37.7/e463/lib/site_perl/5.37.7 /home/sand/src/perl/repoperls/installed-perls/host/k93focal/v5.37.7/e463/lib/5.37.7/x86_64-linux-thread-multi-ld /home/sand/src/perl/repoperls/installed-perls/host/k93focal/v5.37.7/e463/lib/5.37.7 .) at (eval 306) line 1, <$pipe> line 6.
t/22-redirects.t ................... ok
# Could not start test server at t/lib/Server.pm line 100.
t/23-content-coderef.t ............. skipped: Could not start test server.
t/40-middleware-content-length.t ... ok
t/40-middleware-request-headers.t .. ok
t/40-middleware-runtime.t .......... ok
t/50-future-subclass.t ............. ok
All tests successful.
Files=20, Tests=104, 17 wallclock secs ( 0.14 usr  0.04 sys +  6.72 cusr  0.96 csys =  7.86 CPU)
Result: PASS

------------------------------
PREREQUISITES
------------------------------

Prerequisite modules loaded:

requires:

    Module              Need  Have    
    ------------------- ----- --------
    bytes               0     1.08    
    Carp                0     1.54    
    Exporter            0     5.77    
    Fcntl               0     1.15    
    Future              0     0.49    
    MIME::Base64        0     3.16    
    Module::Loader      0     0.04    
    parent              0     0.239   
    perl                5.010 5.037007
    Scalar::Util        0     1.63    
    strict              0     1.12    
    Time::HiRes         0     1.9772  
    Time::Local         0     1.30    
    warnings            0     1.61    

build_requires:

    Module              Need  Have    
    ------------------- ----- --------
    ExtUtils::MakeMaker 0     7.66    
    File::Spec          0     3.88    
    IO::Handle          0     1.51    
    IPC::Open3          0     1.22    
    lib                 0     0.65    
    namespace::clean    0     0.27    
    Test2::API          0     1.302191
    Test::Exception     0     0.43    
    Test::More          0     1.302191

configure_requires:

    Module              Need  Have    
    ------------------- ----- --------
    ExtUtils::MakeMaker 0     7.66    

opt_requires:

    Module              Need  Have    
    ------------------- ----- --------
    HTTP::Tiny          0     0.082   


------------------------------
ENVIRONMENT AND OTHER CONTEXT
------------------------------

Environment variables:

    AUTOMATED_TESTING = 1
    LANG = en_US.UTF-8
    PATH = /home/sand/bin:/usr/local/bin:/usr/local/sbin:/usr/sbin:/usr/bin:/sbin:/bin:/usr/games:/usr/local/games:/snap/bin:/usr/local/perl/bin:/usr/X11/bin
    PERL5LIB = /tmp/loop_over_bdir-96454-VGDAON/EJBCA-CrlPublish-0.60-0/blib/arch:/tmp/loop_over_bdir-96454-VGDAON/EJBCA-CrlPublish-0.60-0/blib/lib
    PERL5OPT = 
    PERL5_CPANPLUS_IS_RUNNING = 96463
    PERL5_CPAN_IS_RUNNING = 96463
    PERL_CANARY_STABILITY_NOPROMPT = 1
    PERL_MM_USE_DEFAULT = 1
    PERL_USE_UNSAFE_INC = 1
    SHELL = /usr/bin/zsh
    TERM = screen

Perl special variables (and OS-specific diagnostics, for MSWin32):

    $^X = /tmp/basesmoker-reloperl-5zlR/bin/perl
    $UID/$EUID = 1005 / 1005
    $GID = 1005 1005
    $EGID = 1005 1005

Perl module toolchain versions installed:

    Module              Have    
    ------------------- --------
    CPAN                2.34    
    CPAN::Meta          2.150010
    Cwd                 3.88    
    ExtUtils::CBuilder  0.280238
    ExtUtils::Command   7.66    
    ExtUtils::Install   2.20    
    ExtUtils::MakeMaker 7.66    
    ExtUtils::Manifest  1.73    
    ExtUtils::ParseXS   3.49    
    File::Spec          3.88    
    JSON                4.10    
    JSON::PP            4.15    
    Module::Build       0.4232  
    Module::Signature   0.88    
    Parse::CPAN::Meta   2.150010
    Test::Harness       3.44    
    Test::More          1.302191
    YAML                1.30    
    YAML::Syck          1.34    
    version             0.9929  


--

Summary of my perl5 (revision 5 version 37 subversion 7) configuration:
  Commit id: b1163c2ae562670f2bf4c7700087f0c9d0ad8fe5
  Platform:
    osname=linux
    osvers=5.4.0-135-generic
    archname=x86_64-linux-thread-multi-ld
    uname='linux k93focal 5.4.0-135-generic #152-ubuntu smp wed nov 23 20:19:22 utc 2022 x86_64 x86_64 x86_64 gnulinux '
    config_args='-Dprefix=/home/sand/src/perl/repoperls/installed-perls/host/k93focal/v5.37.7/e463 -Dmyhostname=k93focal -Dinstallusrbinperl=n -Uversiononly -Dusedevel -des -Ui_db -Dlibswanted=cl pthread socket inet nsl gdbm dbm malloc dl ld sun m crypt sec util c cposix posix ucb BSD gdbm_compat -Duseithreads -Duselongdouble -DEBUGGING=both'
    hint=recommended
    useposix=true
    d_sigaction=define
    useithreads=define
    usemultiplicity=define
    use64bitint=define
    use64bitall=define
    uselongdouble=define
    usemymalloc=n
    default_inc_excludes_dot=define
  Compiler:
    cc='cc'
    ccflags ='-D_REENTRANT -D_GNU_SOURCE -fwrapv -DDEBUGGING -fno-strict-aliasing -pipe -fstack-protector-strong -I/usr/local/include -D_LARGEFILE_SOURCE -D_FILE_OFFSET_BITS=64'
    optimize='-O2 -g'
    cppflags='-D_REENTRANT -D_GNU_SOURCE -fwrapv -DDEBUGGING -fno-strict-aliasing -pipe -fstack-protector-strong -I/usr/local/include'
    ccversion=''
    gccversion='9.4.0'
    gccosandvers=''
    intsize=4
    longsize=8
    ptrsize=8
    doublesize=8
    byteorder=12345678
    doublekind=3
    d_longlong=define
    longlongsize=8
    d_longdbl=define
    longdblsize=16
    longdblkind=3
    ivtype='long'
    ivsize=8
    nvtype='long double'
    nvsize=16
    Off_t='off_t'
    lseeksize=8
    alignbytes=16
    prototype=define
  Linker and Libraries:
    ld='cc'
    ldflags =' -fstack-protector-strong -L/usr/local/lib'
    libpth=/usr/local/lib /usr/lib/x86_64-linux-gnu /usr/lib /usr/lib64
    libs=-lpthread -lnsl -ldl -lm -lcrypt -lutil -lc
    perllibs=-lpthread -lnsl -ldl -lm -lcrypt -lutil -lc
    libc=libc-2.31.so
    so=so
    useshrplib=false
    libperl=libperl.a
    gnulibc_version='2.31'
  Dynamic Linking:
    dlsrc=dl_dlopen.xs
    dlext=so
    d_dlsymun=undef
    ccdlflags='-Wl,-E'
    cccdlflags='-fPIC'
    lddlflags='-shared -O2 -g -L/usr/local/lib -fstack-protector-strong'


Characteristics of this binary (from libperl): 
  Compile-time options:
    DEBUGGING
    HAS_TIMES
    MULTIPLICITY
    PERLIO_LAYERS
    PERL_COPY_ON_WRITE
    PERL_DONT_CREATE_GVSV
    PERL_HASH_FUNC_SIPHASH13
    PERL_HASH_USE_SBOX32
    PERL_MALLOC_WRAP
    PERL_OP_PARENT
    PERL_PRESERVE_IVUV
    PERL_TRACK_MEMPOOL
    PERL_USE_DEVEL
    PERL_USE_SAFE_PUTENV
    USE_64_BIT_ALL
    USE_64_BIT_INT
    USE_ITHREADS
    USE_LARGE_FILES
    USE_LOCALE
    USE_LOCALE_COLLATE
    USE_LOCALE_CTYPE
    USE_LOCALE_NUMERIC
    USE_LOCALE_TIME
    USE_LONG_DOUBLE
    USE_PERLIO
    USE_PERL_ATOF
    USE_REENTRANT_API
    USE_THREAD_SAFE_LOCALE
  Built under linux
  Compiled at Dec 27 2022 12:35:58
  %ENV:
    PERL5LIB="/tmp/loop_over_bdir-96454-VGDAON/EJBCA-CrlPublish-0.60-0/blib/arch:/tmp/loop_over_bdir-96454-VGDAON/EJBCA-CrlPublish-0.60-0/blib/lib"
    PERL5OPT=""
    PERL5_CPANPLUS_IS_RUNNING="96463"
    PERL5_CPAN_IS_RUNNING="96463"
    PERL_CANARY_STABILITY_NOPROMPT="1"
    PERL_MM_USE_DEFAULT="1"
    PERL_USE_UNSAFE_INC="1"
  @INC:
    /tmp/loop_over_bdir-96454-VGDAON/EJBCA-CrlPublish-0.60-0/blib/arch
    /tmp/loop_over_bdir-96454-VGDAON/EJBCA-CrlPublish-0.60-0/blib/lib
    /home/sand/src/perl/repoperls/installed-perls/host/k93focal/v5.37.7/e463/lib/site_perl/5.37.7/x86_64-linux-thread-multi-ld
    /home/sand/src/perl/repoperls/installed-perls/host/k93focal/v5.37.7/e463/lib/site_perl/5.37.7
    /home/sand/src/perl/repoperls/installed-perls/host/k93focal/v5.37.7/e463/lib/5.37.7/x86_64-linux-thread-multi-ld
    /home/sand/src/perl/repoperls/installed-perls/host/k93focal/v5.37.7/e463/lib/5.37.7
    .